From mboxrd@z Thu Jan  1 00:00:00 1970
Return-Path: <test-report-bounces@dpdk.org>
Received: from mails.dpdk.org (mails.dpdk.org [217.70.189.124])
	by inbox.dpdk.org (Postfix) with ESMTP id C99644574A
	for <public@inbox.dpdk.org>; Tue,  6 Aug 2024 13:15:52 +0200 (CEST)
Received: from mails.dpdk.org (localhost [127.0.0.1])
	by mails.dpdk.org (Postfix) with ESMTP id C0A9740BA4;
	Tue,  6 Aug 2024 13:15:52 +0200 (CEST)
Received: from mail-pl1-f226.google.com (mail-pl1-f226.google.com
 [209.85.214.226])
 by mails.dpdk.org (Postfix) with ESMTP id 718E7402A1
 for <test-report@dpdk.org>; Tue,  6 Aug 2024 13:15:51 +0200 (CEST)
Received: by mail-pl1-f226.google.com with SMTP id
 d9443c01a7336-1fc692abba4so5738775ad.2
 for <test-report@dpdk.org>; Tue, 06 Aug 2024 04:15:51 -0700 (PDT)
DKIM-Signature: v=1; a=rsa-sha256; c=relaxed/relaxed;
 d=iol.unh.edu; s=unh-iol; t=1722942950; x=1723547750; darn=dpdk.org;
 h=references:in-reply-to:cc:to:from:subject:message-id:date:from:to
 :cc:subject:date:message-id:reply-to;
 bh=Q3zxZ8dDxaG9ts13D4gjG4Id5yjSNGoH1i8djrW8vJ0=;
 b=aUlPoRxx58o8ltej5j1DBeAVX4fg+UXpUpCgVhQtcV0FR58cdmjVAYAqHi/++A+KjV
 1i4SOw2pU7tgRiyTFDmo4HeoC1cQ0pzj3IA8b9ghsP5rADLA6+hOsWm0m2UZCMaBJ/q/
 E3+Hlr5CsU55KOOsIalx4eDx6rq1Wyb4SLu1Q=
X-Google-DKIM-Signature: v=1; a=rsa-sha256; c=relaxed/relaxed;
 d=1e100.net; s=20230601; t=1722942950; x=1723547750;
 h=references:in-reply-to:cc:to:from:subject:message-id:date
 :x-gm-message-state:from:to:cc:subject:date:message-id:reply-to;
 bh=Q3zxZ8dDxaG9ts13D4gjG4Id5yjSNGoH1i8djrW8vJ0=;
 b=U2XCdgYxPZvh0gIxxs5skdxO+ooZ8UTzaSIi9vv6buDOtcLqDxEL0bgz0KbpflHBlv
 LXcmgMoapBUwxBDVfwmcSas4wDnOW5nW+16TU6vapPDfIfkQdOMU2JHU1e881iB9MD9N
 52RXPKRVDtvQhFAGYYY3M7B5HlbAHpllkjOBvF/rF7nCJOMdKawceVi42/MyyEUbbmcb
 fd7GtQs6oOXDIK/3Z0S+qvOD/Az/MJaCSuOlE5uc5IULaIx+yJLCsuW4s7aCpdpMoMuC
 bz+cykq8WFKOr9tE3yNwqr5fv3b+YyzFS3U4rvUzIweu+hUu0zFCDD3AXLVqOaHI2xl5
 jErA==
X-Gm-Message-State: AOJu0YwQP0ogOshHD5pC33V23r9E/7K1LO1U4fmdHCJiVyl/kJZC8Xf6
 WM5eF5qFHqfjz0d1a1AulFB7h6x/cp5IHCZomViZ8yf9w8xFHdYk28Kjxq0oSDpxJfy+YRozEyK
 zWpQnOYVE1L90SCuGesle5J9i6l98iccNIMEjYLUt
X-Google-Smtp-Source: AGHT+IHG4gPX8/CLBhEIp+mUE8lyU0mKxhrnsRDEIc+Vm81+3XWvIYnzP8p0H1PN/JvQIG39KAXLQ/WXtCJe
X-Received: by 2002:a17:903:24f:b0:1fd:93d2:fb67 with SMTP id
 d9443c01a7336-1ff574811b4mr152864265ad.52.1722942950536; 
 Tue, 06 Aug 2024 04:15:50 -0700 (PDT)
Received: from postal.iol.unh.edu (postal.iol.unh.edu. [132.177.123.84])
 by smtp-relay.gmail.com with ESMTPS id
 d9443c01a7336-1ff59179c84sm7303105ad.124.2024.08.06.04.15.50
 (version=TLS1_2 cipher=ECDHE-ECDSA-AES128-GCM-SHA256 bits=128/128);
 Tue, 06 Aug 2024 04:15:50 -0700 (PDT)
X-Relaying-Domain: iol.unh.edu
Date: Tue, 06 Aug 2024 04:15:50 -0700 (PDT)
Message-ID: <66b205e6.170a0220.2369b2.6bcdSMTPIN_ADDED_MISSING@mx.google.com>
Received: from [172.21.0.7] (unknown [172.18.0.240])
 by postal.iol.unh.edu (Postfix) with ESMTP id A063E6052500;
 Tue,  6 Aug 2024 07:15:49 -0400 (EDT)
Subject: |PENDING| pw142924-142929 [PATCH] [v13,6/6] dts: add API doc generat
From: dpdklab@iol.unh.edu
To: Test Report <test-report@dpdk.org>
Cc: dpdk-test-reports@iol.unh.edu
In-Reply-To: <20240806084622.232327-7-juraj.linkes@pantheon.tech>
References: <20240806084622.232327-7-juraj.linkes@pantheon.tech>
Content-Type: text/plain
X-BeenThere: test-report@dpdk.org
X-Mailman-Version: 2.1.29
Precedence: list
List-Id: automatic DPDK test reports <test-report.dpdk.org>
List-Unsubscribe: <https://mails.dpdk.org/options/test-report>,
 <mailto:test-report-request@dpdk.org?subject=unsubscribe>
List-Archive: <http://mails.dpdk.org/archives/test-report/>
List-Post: <mailto:test-report@dpdk.org>
List-Help: <mailto:test-report-request@dpdk.org?subject=help>
List-Subscribe: <https://mails.dpdk.org/listinfo/test-report>,
 <mailto:test-report-request@dpdk.org?subject=subscribe>
Errors-To: test-report-bounces@dpdk.org

Test-Label: iol-unit-arm64-testing
Test-Status: PENDING
http://dpdk.org/patch/142929

_Testing pending_

Submitter: Juraj Linkes <juraj.linkes@pantheon.tech>
Date: Tuesday, August 06 2024 08:46:22 
DPDK git baseline: Repo:dpdk
  Branch: master
  CommitID:b3485f4293997d35b6daecc3437bb0c183a51fb3

142924-142929 --> testing pending

Upstream job id: Generic-Unit-Test-DPDK#249072

Test environment and result as below:

+-----------------------------+----------------+--------------+------------------------------+
|         Environment         | dpdk_unit_test | lpm_autotest | cryptodev_sw_snow3g_autotest |
+=============================+================+==============+==============================+
| 32-bit Ubuntu 20.04.4 (ARM) | PEND           | SKIPPED      | SKIPPED                      |
+-----------------------------+----------------+--------------+------------------------------+
| CentOS Stream 9 (ARM)       | PASS           | SKIPPED      | SKIPPED                      |
+-----------------------------+----------------+--------------+------------------------------+
| Debian 11 (Buster) (ARM)    | PASS           | SKIPPED      | SKIPPED                      |
+-----------------------------+----------------+--------------+------------------------------+
| Debian 12 (arm)             | PASS           | SKIPPED      | PASS                         |
+-----------------------------+----------------+--------------+------------------------------+
| Fedora 37 (ARM)             | PASS           | SKIPPED      | SKIPPED                      |
+-----------------------------+----------------+--------------+------------------------------+
| Fedora 38 (ARM)             | PEND           | SKIPPED      | SKIPPED                      |
+-----------------------------+----------------+--------------+------------------------------+
| Ubuntu 20.04 ARM SVE        | SKIPPED        | PEND         | SKIPPED                      |
+-----------------------------+----------------+--------------+------------------------------+


32-bit Ubuntu 20.04.4 (ARM)
	Kernel: 5.4.0-155-generic aarch64
	Compiler: gcc 9.4

CentOS Stream 9 (ARM)
	Kernel: Container Host Kernel
	Compiler: gcc 11.4.1

Debian 11 (Buster) (ARM)
	Kernel: Container Host Kernel
	Compiler: gcc 10.2.1

Debian 12 (arm)
	Kernel: Container Host Kernel
	Compiler: gcc 12.2.0

Fedora 37 (ARM)
	Kernel: Depends on container host
	Compiler: gcc 12.3.1

Fedora 38 (ARM)
	Kernel: Depends on container host
	Compiler: gcc 13.2.1

Ubuntu 20.04 ARM SVE
	Kernel: 5.4.0-167-generic
	Compiler: gcc (Ubuntu 10.5.0-1ubuntu1~20.04) 10.5.0

To view detailed results, visit:
https://lab.dpdk.org/results/dashboard/patchsets/30724/

UNH-IOL DPDK Community Lab

To manage your email subscriptions, visit: 
https://lab.dpdk.org/results/dashboard/preferences/subscriptions/