From mboxrd@z Thu Jan  1 00:00:00 1970
Return-Path: <test-report-bounces@dpdk.org>
Received: from mails.dpdk.org (mails.dpdk.org [217.70.189.124])
	by inbox.dpdk.org (Postfix) with ESMTP id 318BE4574A
	for <public@inbox.dpdk.org>; Tue,  6 Aug 2024 13:25:59 +0200 (CEST)
Received: from mails.dpdk.org (localhost [127.0.0.1])
	by mails.dpdk.org (Postfix) with ESMTP id 2BD6E42D7B;
	Tue,  6 Aug 2024 13:25:59 +0200 (CEST)
Received: from mail-yw1-f225.google.com (mail-yw1-f225.google.com
 [209.85.128.225])
 by mails.dpdk.org (Postfix) with ESMTP id 09E9742792
 for <test-report@dpdk.org>; Tue,  6 Aug 2024 13:25:58 +0200 (CEST)
Received: by mail-yw1-f225.google.com with SMTP id
 00721157ae682-66493332ebfso3377857b3.3
 for <test-report@dpdk.org>; Tue, 06 Aug 2024 04:25:57 -0700 (PDT)
DKIM-Signature: v=1; a=rsa-sha256; c=relaxed/relaxed;
 d=iol.unh.edu; s=unh-iol; t=1722943557; x=1723548357; darn=dpdk.org;
 h=references:in-reply-to:cc:to:from:subject:message-id:date:from:to
 :cc:subject:date:message-id:reply-to;
 bh=lGYgx1H5QP1ZhGB06EQ1bTAqj95IqxHjRwzvQGboks4=;
 b=JvW7vlKfd1dkJVDyz/ZaEUjuWTi+7amqMPBLicf9Sx3+aVo/BKi9LypANo15QELlnU
 Kyy6L6je5HnyeprmgSfyD0MuF0n2YQWCgOaCHLypHfG0T+FGSFYPouRU8+zgFHS9AdDO
 IxivGXKKlLdE8e7mCkbTs2rHkUVq7VGR/jsCU=
X-Google-DKIM-Signature: v=1; a=rsa-sha256; c=relaxed/relaxed;
 d=1e100.net; s=20230601; t=1722943557; x=1723548357;
 h=references:in-reply-to:cc:to:from:subject:message-id:date
 :x-gm-message-state:from:to:cc:subject:date:message-id:reply-to;
 bh=lGYgx1H5QP1ZhGB06EQ1bTAqj95IqxHjRwzvQGboks4=;
 b=drNfsFZPMy+E5sOPCEWefGX7sQUPNxmI52HUMzrQM/XHWm1UaQxkKD0IAyJP1L9QhY
 6L4eOE9MnSte8sewSNbUix1IF5oz+zxxGXYpbBB3jhKWixQd8+AF1q9TcSe+/ThBn0E+
 3lJLvCe2FLkYm82Lmex6r1h3i0BfrorMfQdEAgBIlNv6DF0y8fTTpDHKRpOgOPzxKrjJ
 6bKkxazUh+Xk3XYgVCXJcb8S6bfR9+t/HVcO0bNDCuWdMP0+K9iOgQJY9+G5GxroKrdc
 PkkRcrCcr156Vy2G7D0Ai5FLuQFY54SB32WS1dCpn5oyRprLJ8zfPKKSFEasBE8sa/wu
 /oew==
X-Gm-Message-State: AOJu0YwsibshizCBH+sL6fez68lMTn5QLwBz2erxBxrd14iieQ9m3WdQ
 ak+6yVLfZuTWawqFmIgrZpcEMLNxEr0AixFjlPP57wciUnVbriSQlk7wZctP2W7va8wjumjeOFj
 A7zAxRVkijbCc5L2kW1WL0AA6Yj+9ZhJB6KBcYZBz
X-Google-Smtp-Source: AGHT+IEYcH3DTGTLpeHWkAfZjHnOApqyXVwXKn9z/0yuoRuTuLib+eaJSACPcpcXwGZq7U8snOXGGxahpe/p
X-Received: by 2002:a0d:d305:0:b0:65f:cd49:48e0 with SMTP id
 00721157ae682-68963423b82mr169423317b3.31.1722943557367; 
 Tue, 06 Aug 2024 04:25:57 -0700 (PDT)
Received: from postal.iol.unh.edu (postal.iol.unh.edu. [132.177.123.84])
 by smtp-relay.gmail.com with ESMTPS id
 00721157ae682-68a116db872sm11653067b3.2.2024.08.06.04.25.57
 (version=TLS1_2 cipher=ECDHE-ECDSA-AES128-GCM-SHA256 bits=128/128);
 Tue, 06 Aug 2024 04:25:57 -0700 (PDT)
X-Relaying-Domain: iol.unh.edu
Date: Tue, 06 Aug 2024 04:25:57 -0700 (PDT)
Message-ID: <66b20845.810a0220.1266fe.9272SMTPIN_ADDED_MISSING@mx.google.com>
Received: from [172.21.0.8] (unknown [172.18.0.240])
 by postal.iol.unh.edu (Postfix) with ESMTP id 0A94F6052500;
 Tue,  6 Aug 2024 07:25:57 -0400 (EDT)
Subject: |SUCCESS| pw142917-142923 [PATCH] [v1,7/7] crypto/dpaa2_sec: rework 
From: dpdklab@iol.unh.edu
To: Test Report <test-report@dpdk.org>
Cc: dpdk-test-reports@iol.unh.edu
In-Reply-To: <20240806084136.3212615-8-g.singh@nxp.com>
References: <20240806084136.3212615-8-g.singh@nxp.com>
Content-Type: text/plain
X-BeenThere: test-report@dpdk.org
X-Mailman-Version: 2.1.29
Precedence: list
List-Id: automatic DPDK test reports <test-report.dpdk.org>
List-Unsubscribe: <https://mails.dpdk.org/options/test-report>,
 <mailto:test-report-request@dpdk.org?subject=unsubscribe>
List-Archive: <http://mails.dpdk.org/archives/test-report/>
List-Post: <mailto:test-report@dpdk.org>
List-Help: <mailto:test-report-request@dpdk.org?subject=help>
List-Subscribe: <https://mails.dpdk.org/listinfo/test-report>,
 <mailto:test-report-request@dpdk.org?subject=subscribe>
Errors-To: test-report-bounces@dpdk.org

Test-Label: iol-abi-testing
Test-Status: SUCCESS
http://dpdk.org/patch/142923

_Testing PASS_

Submitter: Gagandeep Singh <g.singh@nxp.com>
Date: Tuesday, August 06 2024 08:41:36 
DPDK git baseline: Repo:dpdk
  Branch: master
  CommitID:b3485f4293997d35b6daecc3437bb0c183a51fb3

142917-142923 --> testing pass

Upstream job id: Generic-DPDK-Compile-ABI#101839

Test environment and result as below:

+-------------------+----------+
|    Environment    | abi_test |
+===================+==========+
| Debian Bullseye   | PASS     |
+-------------------+----------+
| CentOS Stream 9   | PASS     |
+-------------------+----------+
| Fedora 38 (Clang) | PASS     |
+-------------------+----------+
| Debian 12         | PASS     |
+-------------------+----------+
| Fedora 37         | PASS     |
+-------------------+----------+
| Fedora 39 (Clang) | PASS     |
+-------------------+----------+
| Fedora 39         | PASS     |
+-------------------+----------+
| Fedora 38         | PASS     |
+-------------------+----------+
| Fedora 40 (Clang) | PASS     |
+-------------------+----------+
| Fedora 40         | PASS     |
+-------------------+----------+
| openSUSE Leap 15  | PASS     |
+-------------------+----------+
| RHEL8             | PASS     |
+-------------------+----------+
| Ubuntu 22.04      | PASS     |
+-------------------+----------+
| RHEL9             | PASS     |
+-------------------+----------+
| Ubuntu 24.04      | PASS     |
+-------------------+----------+


Debian Bullseye
	Kernel: 5.4.0-167-generic
	Compiler: gcc 10.2.1-6

CentOS Stream 9
	Kernel: 5.4.0-167-generic
	Compiler: gcc 11.4.1 20230605

Fedora 38 (Clang)
	Kernel: Depends on container host
	Compiler: clang 16.0.6

Debian 12
	Kernel: Container Host Kernel
	Compiler: gcc 12.2.0

Fedora 37
	Kernel: Depends on container host system
	Compiler: gcc 12.3.1

Fedora 39 (Clang)
	Kernel: Depends on container host
	Compiler: clang 17.0.6

Fedora 39
	Kernel: Depends on container host
	Compiler: gcc 13.2.1

Fedora 38
	Kernel: Depends on container host
	Compiler: gcc 13.2.1

Fedora 40 (Clang)
	Kernel: Depends on container host
	Compiler: clang 18.1.6

Fedora 40
	Kernel: Depends on container host
	Compiler: gcc 14.1.1

openSUSE Leap 15
	Kernel: 5.4.0-167-generic
	Compiler: gcc 7.5.0

RHEL8
	Kernel: 5.4.0-167-generic
	Compiler: gcc 8.5.0 20210514 (Red Hat 8.5.0-20)

Ubuntu 22.04
	Kernel: 5.4.0-167-generic
	Compiler: gcc 11.4.0

RHEL9
	Kernel: Depends on container host
	Compiler: gcc 11.4.1

Ubuntu 24.04
	Kernel: 5.4.0-167-generic
	Compiler: gcc 13.2.0

To view detailed results, visit:
https://lab.dpdk.org/results/dashboard/patchsets/30723/

UNH-IOL DPDK Community Lab

To manage your email subscriptions, visit: 
https://lab.dpdk.org/results/dashboard/preferences/subscriptions/