From mboxrd@z Thu Jan  1 00:00:00 1970
Return-Path: <test-report-bounces@dpdk.org>
Received: from mails.dpdk.org (mails.dpdk.org [217.70.189.124])
	by inbox.dpdk.org (Postfix) with ESMTP id C1D384574A
	for <public@inbox.dpdk.org>; Tue,  6 Aug 2024 13:29:10 +0200 (CEST)
Received: from mails.dpdk.org (localhost [127.0.0.1])
	by mails.dpdk.org (Postfix) with ESMTP id AD60C42D7B;
	Tue,  6 Aug 2024 13:29:10 +0200 (CEST)
Received: from mail-vs1-f99.google.com (mail-vs1-f99.google.com
 [209.85.217.99]) by mails.dpdk.org (Postfix) with ESMTP id 49B9C42792
 for <test-report@dpdk.org>; Tue,  6 Aug 2024 13:29:09 +0200 (CEST)
Received: by mail-vs1-f99.google.com with SMTP id
 ada2fe7eead31-492a76c0cfbso159736137.0
 for <test-report@dpdk.org>; Tue, 06 Aug 2024 04:29:09 -0700 (PDT)
DKIM-Signature: v=1; a=rsa-sha256; c=relaxed/relaxed;
 d=iol.unh.edu; s=unh-iol; t=1722943748; x=1723548548; darn=dpdk.org;
 h=references:in-reply-to:cc:to:from:subject:message-id:date:from:to
 :cc:subject:date:message-id:reply-to;
 bh=BwaiYRg9fJLahg4ei6ffyNKgcPP3leA2U8+P3xbBCks=;
 b=bEYlrxGd580mc+l81QeNgPKURy8EwTjILczuY+dF+xcu2UuDmfkWcY2IE13/c4Tmmn
 OswSbFkoicQV+ZURVa8LaFcUrzOIjpQEIAwybbyn/OLCDW1+Uqwns3KgqtzP45u5ddyM
 UlOF2yipp/R8/8bL/mdvwDHebdG01+M/FZ2gQ=
X-Google-DKIM-Signature: v=1; a=rsa-sha256; c=relaxed/relaxed;
 d=1e100.net; s=20230601; t=1722943748; x=1723548548;
 h=references:in-reply-to:cc:to:from:subject:message-id:date
 :x-gm-message-state:from:to:cc:subject:date:message-id:reply-to;
 bh=BwaiYRg9fJLahg4ei6ffyNKgcPP3leA2U8+P3xbBCks=;
 b=rbcmbMQgLj7xSdkmDw3urK8Jd29TciPmAAUUbFjywl1sIutZscMxkG+dseGjucDqVE
 XCvRrzJGH4QX1m6rwcb6acNdavc1z79g4Bf796dR2eRtK1+Sk2npXgKKtR9Bps9O0lV3
 igoz0KeIbYMYB/aROT5Qk/zq9PmZX1swVMsfyIrxof/IBrmIX+4I59Cu4UTawtwnDcnt
 SM0+u2kC4HW82sKaNHPNIMcljtrcyhdyJHfXmdesC2yYFxyRAqiNn7vZbEeEsCaAxZG1
 0G2TOriSbMEN7qnkuZTdZtmDqYY6/Nko0TiI1WmoKB1yHk/8TyIQ2OO0NamusJN98LeO
 blxQ==
X-Gm-Message-State: AOJu0YyVH0yOm9Ymsqb5qVx0j6qsdWo2+PYR9ZrKSFv0y/QS5nJke8YI
 S54DNAz1JhD1znpwhuYIjfRF/aLp21dXdOq0MngyIe21IGvviUSKpm5tDJxOv7UhRPwKFj1C+qO
 mJtm3sOhyzIrZWToHcwJg/UZ6aHFzJ5tkkU1zm1A6
X-Google-Smtp-Source: AGHT+IHseMJSBNTqMWjfcza3ovTLWC5gKyhTS3XgsaEaEjfMAn7l0N6lz3c4uPH08nByyq6PSyEUZkfADj3n
X-Received: by 2002:a05:6102:32d1:b0:492:98f3:cf93 with SMTP id
 ada2fe7eead31-4945bdf1901mr16834847137.9.1722943748600; 
 Tue, 06 Aug 2024 04:29:08 -0700 (PDT)
Received: from postal.iol.unh.edu (postal.iol.unh.edu. [132.177.123.84])
 by smtp-relay.gmail.com with ESMTPS id
 a1e0cc1a2514c-83c07cfe8c8sm355993241.5.2024.08.06.04.29.08
 (version=TLS1_2 cipher=ECDHE-ECDSA-AES128-GCM-SHA256 bits=128/128);
 Tue, 06 Aug 2024 04:29:08 -0700 (PDT)
X-Relaying-Domain: iol.unh.edu
Date: Tue, 06 Aug 2024 04:29:08 -0700 (PDT)
Message-ID: <66b20904.050a0220.1d9f30.c49cSMTPIN_ADDED_MISSING@mx.google.com>
Received: from [172.21.0.9] (unknown [172.18.0.240])
 by postal.iol.unh.edu (Postfix) with ESMTP id 2FC0A6052500;
 Tue,  6 Aug 2024 07:29:08 -0400 (EDT)
Subject: |PENDING| pw142924-142929 [PATCH] [v13,6/6] dts: add API doc generat
From: dpdklab@iol.unh.edu
To: Test Report <test-report@dpdk.org>
Cc: dpdk-test-reports@iol.unh.edu
In-Reply-To: <20240806084622.232327-7-juraj.linkes@pantheon.tech>
References: <20240806084622.232327-7-juraj.linkes@pantheon.tech>
Content-Type: text/plain
X-BeenThere: test-report@dpdk.org
X-Mailman-Version: 2.1.29
Precedence: list
List-Id: automatic DPDK test reports <test-report.dpdk.org>
List-Unsubscribe: <https://mails.dpdk.org/options/test-report>,
 <mailto:test-report-request@dpdk.org?subject=unsubscribe>
List-Archive: <http://mails.dpdk.org/archives/test-report/>
List-Post: <mailto:test-report@dpdk.org>
List-Help: <mailto:test-report-request@dpdk.org?subject=help>
List-Subscribe: <https://mails.dpdk.org/listinfo/test-report>,
 <mailto:test-report-request@dpdk.org?subject=subscribe>
Errors-To: test-report-bounces@dpdk.org

Test-Label: iol-compile-arm64-testing
Test-Status: PENDING
http://dpdk.org/patch/142929

_Testing pending_

Submitter: Juraj Linkes <juraj.linkes@pantheon.tech>
Date: Tuesday, August 06 2024 08:46:22 
DPDK git baseline: Repo:dpdk
  Branch: master
  CommitID:b3485f4293997d35b6daecc3437bb0c183a51fb3

142924-142929 --> testing pending

Upstream job id: Generic-DPDK-Compile-Meson#284841

Test environment and result as below:

+------------------------------------+--------------------+
|            Environment             | dpdk_meson_compile |
+====================================+====================+
| RHEL9 (ARM)                        | PASS               |
+------------------------------------+--------------------+
| Ubuntu 20.04 ARM GCC Cross Compile | PEND               |
+------------------------------------+--------------------+
| Ubuntu 20.04 ARM SVE               | PASS               |
+------------------------------------+--------------------+
| Debian 12 with MUSDK               | PASS               |
+------------------------------------+--------------------+
| Fedora 37 (ARM)                    | PASS               |
+------------------------------------+--------------------+
| Fedora 39 (ARM)                    | PASS               |
+------------------------------------+--------------------+
| Fedora 38 (ARM)                    | PASS               |
+------------------------------------+--------------------+
| Fedora 38 (ARM Clang)              | PEND               |
+------------------------------------+--------------------+
| Fedora 39 (ARM Clang)              | PEND               |
+------------------------------------+--------------------+
| Fedora 40 (ARM)                    | PEND               |
+------------------------------------+--------------------+
| Fedora 40 (ARM Clang)              | PEND               |
+------------------------------------+--------------------+
| Ubuntu 20.04 (ARM)                 | PEND               |
+------------------------------------+--------------------+
| Ubuntu 22.04 (ARM)                 | PEND               |
+------------------------------------+--------------------+
| Ubuntu 24.04 (ARM)                 | PEND               |
+------------------------------------+--------------------+
| CentOS Stream 9 (ARM)              | PEND               |
+------------------------------------+--------------------+


RHEL9 (ARM)
	Kernel: Depends on container host
	Compiler: gcc 11.4.1

Ubuntu 20.04 ARM GCC Cross Compile
	Kernel: 5.4.0-167-generic
	Compiler: aarch64-linux-gnu-gcc (Ubuntu 9.4.0-1ubuntu1~20.04.2) 9.4.0

Ubuntu 20.04 ARM SVE
	Kernel: 5.4.0-167-generic
	Compiler: gcc (Ubuntu 10.5.0-1ubuntu1~20.04) 10.5.0

Debian 12 with MUSDK
	Kernel: Container Host Kernel
	Compiler: gcc 12.2.0

Fedora 37 (ARM)
	Kernel: Depends on container host
	Compiler: gcc 12.3.1

Fedora 39 (ARM)
	Kernel: Depends on container host
	Compiler: gcc 13.2.1

Fedora 38 (ARM)
	Kernel: Depends on container host
	Compiler: gcc 13.2.1

Fedora 38 (ARM Clang)
	Kernel: Depends on container host
	Compiler: clang 16.0.6

Fedora 39 (ARM Clang)
	Kernel: Depends on container host
	Compiler: clang 17.0.6

Fedora 40 (ARM)
	Kernel: Depends on container host
	Compiler: gcc 14.1.1

Fedora 40 (ARM Clang)
	Kernel: Depends on container host
	Compiler: clang 18.1.6

Ubuntu 20.04 (ARM)
	Kernel: Container Host Kernel
	Compiler: gcc 9.4.0

Ubuntu 22.04 (ARM)
	Kernel: Container Host Kernel
	Compiler: gcc 11.4.0

Ubuntu 24.04 (ARM)
	Kernel: 5.4.0-167-generic
	Compiler: gcc 13.2.0

CentOS Stream 9 (ARM)
	Kernel: Container Host Kernel
	Compiler: gcc 11.4.1

To view detailed results, visit:
https://lab.dpdk.org/results/dashboard/patchsets/30724/

UNH-IOL DPDK Community Lab

To manage your email subscriptions, visit: 
https://lab.dpdk.org/results/dashboard/preferences/subscriptions/