From mboxrd@z Thu Jan  1 00:00:00 1970
Return-Path: <test-report-bounces@dpdk.org>
Received: from mails.dpdk.org (mails.dpdk.org [217.70.189.124])
	by inbox.dpdk.org (Postfix) with ESMTP id 8B8D74574A
	for <public@inbox.dpdk.org>; Tue,  6 Aug 2024 13:37:00 +0200 (CEST)
Received: from mails.dpdk.org (localhost [127.0.0.1])
	by mails.dpdk.org (Postfix) with ESMTP id 8506B42792;
	Tue,  6 Aug 2024 13:37:00 +0200 (CEST)
Received: from mail-oo1-f100.google.com (mail-oo1-f100.google.com
 [209.85.161.100])
 by mails.dpdk.org (Postfix) with ESMTP id A5F8940E34
 for <test-report@dpdk.org>; Tue,  6 Aug 2024 13:36:59 +0200 (CEST)
Received: by mail-oo1-f100.google.com with SMTP id
 006d021491bc7-5d5f24d9df8so256890eaf.2
 for <test-report@dpdk.org>; Tue, 06 Aug 2024 04:36:59 -0700 (PDT)
DKIM-Signature: v=1; a=rsa-sha256; c=relaxed/relaxed;
 d=iol.unh.edu; s=unh-iol; t=1722944219; x=1723549019; darn=dpdk.org;
 h=references:in-reply-to:cc:to:from:subject:message-id:date:from:to
 :cc:subject:date:message-id:reply-to;
 bh=50RQRCLivcGmGOg2qmZXjmVYHircckrU55kmuVEWLUw=;
 b=C4BdKSDuzhx58ldJQMYBO5kk/X/RYZfMqPebw7ntDJ0dUexbRDm7z953R57pD/G+Rg
 tJ7sVA19IwfZJrAmdqD68iVmt8txBz4EvLh4y+zG8n378o/ojUzUA8sl2XTH3hlQ7YeT
 U1Zo14LgMpLNIbatzBF47BP4CA4Rf7JSCcKxs=
X-Google-DKIM-Signature: v=1; a=rsa-sha256; c=relaxed/relaxed;
 d=1e100.net; s=20230601; t=1722944219; x=1723549019;
 h=references:in-reply-to:cc:to:from:subject:message-id:date
 :x-gm-message-state:from:to:cc:subject:date:message-id:reply-to;
 bh=50RQRCLivcGmGOg2qmZXjmVYHircckrU55kmuVEWLUw=;
 b=uwmFoUjPF42q+SCCC1Eka3C6NG8Y+nKM5QdgpjN5A6QhbMscgwbpVcwSEKVrwp4B2D
 3czwUXGrX/g9VBTqaoT9pRGiBeFcchl7dTyiZdjtTok3DfxfS+GJJ3AI0uxjYzIRbApj
 0tEAtRJOVFZrNYCaFU/KkcKIhU45NZnN83j9Mj230O1yj4zTIsCsGy7m87wIXRKT+OLN
 bYbvBG9SF0wgTk9KINOrgEL+GEyUwtJIRubT3oTXBuNCF05c24UAnhhk9Ia+TOg9t6bl
 4iPSCFMP9r1VSnKFDfx9dK4YJ001otwHKQTxVFSW19J2ghT1QbR3f4ROWJmb3c6We7hA
 snZw==
X-Gm-Message-State: AOJu0Yx+XP3ntoH+J+a3sKC66gRVNi06C9Bn5sjaye3shsXbFPS4ufCx
 zpcNJt4DuwdKT2hazgIIfeKpxZPkIPG4sQMom1B2Rmx+i4MaF9nKvmsS0RKjmPW5BtQLllMkIfP
 y4NYxDvOSJK92WiTxjJxg2sKkbzk0ScXR9Zm1fyj6gcbB7rtZmizN57q7
X-Google-Smtp-Source: AGHT+IGCXhItur3UsqwXTXnRtky31SRDltxWOK4qWguTc+0klHUF5M+//bA/imIHhSJ9RVBZy66ptKIg07SJ
X-Received: by 2002:a05:6358:720d:b0:1aa:a27c:aead with SMTP id
 e5c5f4694b2df-1af3b9ff2a0mr1052870355d.3.1722944218655; 
 Tue, 06 Aug 2024 04:36:58 -0700 (PDT)
Received: from postal.iol.unh.edu (postal.iol.unh.edu.
 [2606:4100:3880:1234::84]) by smtp-relay.gmail.com with ESMTPS id
 6a1803df08f44-6bb9c797852sm7769576d6.27.2024.08.06.04.36.58
 (version=TLS1_2 cipher=ECDHE-ECDSA-AES128-GCM-SHA256 bits=128/128);
 Tue, 06 Aug 2024 04:36:58 -0700 (PDT)
X-Relaying-Domain: iol.unh.edu
Date: Tue, 06 Aug 2024 04:36:58 -0700 (PDT)
Message-ID: <66b20ada.050a0220.46e00.9320SMTPIN_ADDED_MISSING@mx.google.com>
Received: from [172.21.0.7] (unknown [172.18.0.240])
 by postal.iol.unh.edu (Postfix) with ESMTP id 5A2EF6052500;
 Tue,  6 Aug 2024 07:36:58 -0400 (EDT)
Subject: |PENDING| pw142924-142929 [PATCH] [v13,6/6] dts: add API doc generat
From: dpdklab@iol.unh.edu
To: Test Report <test-report@dpdk.org>
Cc: dpdk-test-reports@iol.unh.edu
In-Reply-To: <20240806084622.232327-7-juraj.linkes@pantheon.tech>
References: <20240806084622.232327-7-juraj.linkes@pantheon.tech>
Content-Type: text/plain
X-BeenThere: test-report@dpdk.org
X-Mailman-Version: 2.1.29
Precedence: list
List-Id: automatic DPDK test reports <test-report.dpdk.org>
List-Unsubscribe: <https://mails.dpdk.org/options/test-report>,
 <mailto:test-report-request@dpdk.org?subject=unsubscribe>
List-Archive: <http://mails.dpdk.org/archives/test-report/>
List-Post: <mailto:test-report@dpdk.org>
List-Help: <mailto:test-report-request@dpdk.org?subject=help>
List-Subscribe: <https://mails.dpdk.org/listinfo/test-report>,
 <mailto:test-report-request@dpdk.org?subject=subscribe>
Errors-To: test-report-bounces@dpdk.org

Test-Label: iol-compile-arm64-testing
Test-Status: PENDING
http://dpdk.org/patch/142929

_Testing pending_

Submitter: Juraj Linkes <juraj.linkes@pantheon.tech>
Date: Tuesday, August 06 2024 08:46:22 
DPDK git baseline: Repo:dpdk
  Branch: master
  CommitID:b3485f4293997d35b6daecc3437bb0c183a51fb3

142924-142929 --> testing pending

Upstream job id: Generic-DPDK-Compile-Meson#284850

Test environment and result as below:

+----------------------------------------+--------------------+
|              Environment               | dpdk_meson_compile |
+========================================+====================+
| RHEL9 (ARM)                            | PASS               |
+----------------------------------------+--------------------+
| Ubuntu 20.04 ARM GCC Cross Compile     | PEND               |
+----------------------------------------+--------------------+
| Ubuntu 20.04 ARM SVE                   | PASS               |
+----------------------------------------+--------------------+
| Debian 12 with MUSDK                   | PASS               |
+----------------------------------------+--------------------+
| Fedora 37 (ARM)                        | PASS               |
+----------------------------------------+--------------------+
| Fedora 39 (ARM)                        | PASS               |
+----------------------------------------+--------------------+
| Fedora 38 (ARM)                        | PASS               |
+----------------------------------------+--------------------+
| Fedora 38 (ARM Clang)                  | PEND               |
+----------------------------------------+--------------------+
| Fedora 39 (ARM Clang)                  | PEND               |
+----------------------------------------+--------------------+
| Fedora 40 (ARM)                        | PASS               |
+----------------------------------------+--------------------+
| Fedora 40 (ARM Clang)                  | PEND               |
+----------------------------------------+--------------------+
| Ubuntu 20.04 (ARM)                     | PASS               |
+----------------------------------------+--------------------+
| Ubuntu 22.04 (ARM)                     | PASS               |
+----------------------------------------+--------------------+
| Ubuntu 24.04 (ARM)                     | PASS               |
+----------------------------------------+--------------------+
| CentOS Stream 9 (ARM)                  | PASS               |
+----------------------------------------+--------------------+
| Debian 11 (Buster) (ARM)               | PEND               |
+----------------------------------------+--------------------+
| Debian 12 (arm)                        | PEND               |
+----------------------------------------+--------------------+
| Ubuntu 20.04 ARM Clang Cross Compile   | PEND               |
+----------------------------------------+--------------------+
| Ubuntu 20.04 aarch32 GCC Cross Compile | PEND               |
+----------------------------------------+--------------------+


RHEL9 (ARM)
	Kernel: Depends on container host
	Compiler: gcc 11.4.1

Ubuntu 20.04 ARM GCC Cross Compile
	Kernel: 5.4.0-167-generic
	Compiler: aarch64-linux-gnu-gcc (Ubuntu 9.4.0-1ubuntu1~20.04.2) 9.4.0

Ubuntu 20.04 ARM SVE
	Kernel: 5.4.0-167-generic
	Compiler: gcc (Ubuntu 10.5.0-1ubuntu1~20.04) 10.5.0

Debian 12 with MUSDK
	Kernel: Container Host Kernel
	Compiler: gcc 12.2.0

Fedora 37 (ARM)
	Kernel: Depends on container host
	Compiler: gcc 12.3.1

Fedora 39 (ARM)
	Kernel: Depends on container host
	Compiler: gcc 13.2.1

Fedora 38 (ARM)
	Kernel: Depends on container host
	Compiler: gcc 13.2.1

Fedora 38 (ARM Clang)
	Kernel: Depends on container host
	Compiler: clang 16.0.6

Fedora 39 (ARM Clang)
	Kernel: Depends on container host
	Compiler: clang 17.0.6

Fedora 40 (ARM)
	Kernel: Depends on container host
	Compiler: gcc 14.1.1

Fedora 40 (ARM Clang)
	Kernel: Depends on container host
	Compiler: clang 18.1.6

Ubuntu 20.04 (ARM)
	Kernel: Container Host Kernel
	Compiler: gcc 9.4.0

Ubuntu 22.04 (ARM)
	Kernel: Container Host Kernel
	Compiler: gcc 11.4.0

Ubuntu 24.04 (ARM)
	Kernel: 5.4.0-167-generic
	Compiler: gcc 13.2.0

CentOS Stream 9 (ARM)
	Kernel: Container Host Kernel
	Compiler: gcc 11.4.1

Debian 11 (Buster) (ARM)
	Kernel: Container Host Kernel
	Compiler: gcc 10.2.1

Debian 12 (arm)
	Kernel: Container Host Kernel
	Compiler: gcc 12.2.0

Ubuntu 20.04 ARM Clang Cross Compile
	Kernel: 5.4.0-72-generic
	Compiler: clang 10.0.0-4ubuntu1

Ubuntu 20.04 aarch32 GCC Cross Compile
	Kernel: 5.4.0-167-generic
	Compiler: gcc 9.4.0

To view detailed results, visit:
https://lab.dpdk.org/results/dashboard/patchsets/30724/

UNH-IOL DPDK Community Lab

To manage your email subscriptions, visit: 
https://lab.dpdk.org/results/dashboard/preferences/subscriptions/