From mboxrd@z Thu Jan  1 00:00:00 1970
Return-Path: <test-report-bounces@dpdk.org>
Received: from mails.dpdk.org (mails.dpdk.org [217.70.189.124])
	by inbox.dpdk.org (Postfix) with ESMTP id 65B1D4574A
	for <public@inbox.dpdk.org>; Tue,  6 Aug 2024 13:47:52 +0200 (CEST)
Received: from mails.dpdk.org (localhost [127.0.0.1])
	by mails.dpdk.org (Postfix) with ESMTP id 6199642792;
	Tue,  6 Aug 2024 13:47:52 +0200 (CEST)
Received: from mail-yw1-f225.google.com (mail-yw1-f225.google.com
 [209.85.128.225])
 by mails.dpdk.org (Postfix) with ESMTP id 0FE1E40E34
 for <test-report@dpdk.org>; Tue,  6 Aug 2024 13:47:49 +0200 (CEST)
Received: by mail-yw1-f225.google.com with SMTP id
 00721157ae682-690ad83d4d7so4929927b3.3
 for <test-report@dpdk.org>; Tue, 06 Aug 2024 04:47:49 -0700 (PDT)
DKIM-Signature: v=1; a=rsa-sha256; c=relaxed/relaxed;
 d=iol.unh.edu; s=unh-iol; t=1722944868; x=1723549668; darn=dpdk.org;
 h=references:in-reply-to:cc:to:from:subject:message-id:date:from:to
 :cc:subject:date:message-id:reply-to;
 bh=as9uze8Ot6JTJiodrVbyLRgNJTHt5xmleK6P2qQyvTM=;
 b=d68Tp2NdVwYBjjkT4wNij9dwiMrV90EsoO5CX/V9ER8vk6kyqgN4f730cZ0tAwCakW
 lBdhzKI37Xal1dvXF0MusGIbv/lP/N9wam/sCY4C0f1XQubUgfewqGET0Kn+J7GvhgwP
 +7aRlWUchuW4tpcxCLcmuOxrDD3hbH19gC7Ks=
X-Google-DKIM-Signature: v=1; a=rsa-sha256; c=relaxed/relaxed;
 d=1e100.net; s=20230601; t=1722944868; x=1723549668;
 h=references:in-reply-to:cc:to:from:subject:message-id:date
 :x-gm-message-state:from:to:cc:subject:date:message-id:reply-to;
 bh=as9uze8Ot6JTJiodrVbyLRgNJTHt5xmleK6P2qQyvTM=;
 b=qH7BuKvZy5A4Pry/dlPHkrg4n4SMnIjeUd8KGXmhvjrzoIH8tpbyVnqY2lWih/lhY6
 absP6xqeQB3AN8/U8oc4KDi+6O26sFN4xUIqRfL5ZLXZArD+Cq0+JuNxo4C6NaDpamPj
 rE5b1SvixJDB8PPSkANyb/Y3UYHrgSpfAzv7i4JbLJZyH2yazswW7BCY9z1sFpDfuoFb
 L25OOnVeeZqrG8AWksMXXXyhox8rsIxrqIlNlQc+2gcoRoVzlPJ1bh/qKp1aLNLtf6F2
 9rkLqCG8s4ZB6Ajzdr6Uc3hMesVKrRFdUoLjcnomhDIHUH5E+vgT/Xpf7NKMSwr+Dz3p
 cMEw==
X-Gm-Message-State: AOJu0YwfY8qRbBUrnkt5SFbf26aVUfd8UOnbLwFPiImohxLVNPuZ8TPo
 wbqZpazg7SK/nfyvAPN0SYIS1I4DG9y9jCzaOyjI885uGdAdUiTwLWOboqlDgpJyVo0RKzyTyPP
 ixW7wYTMvcbdSBDoORmZ4jFrQa2WW1mdHwjGepNbv
X-Google-Smtp-Source: AGHT+IGRmmk3ubgImXnwS3maOlQQkMduLo+3qg2ad/3MzBJaHzt+grboNgxJORnuqNVDWR2G4oBJLuU+7z8v
X-Received: by 2002:a81:b412:0:b0:627:a757:cdfa with SMTP id
 00721157ae682-68963bd9f92mr171063467b3.38.1722944868425; 
 Tue, 06 Aug 2024 04:47:48 -0700 (PDT)
Received: from postal.iol.unh.edu (postal.iol.unh.edu. [132.177.123.84])
 by smtp-relay.gmail.com with ESMTPS id
 00721157ae682-68a116db9c9sm11572707b3.7.2024.08.06.04.47.48
 (version=TLS1_2 cipher=ECDHE-ECDSA-AES128-GCM-SHA256 bits=128/128);
 Tue, 06 Aug 2024 04:47:48 -0700 (PDT)
X-Relaying-Domain: iol.unh.edu
Date: Tue, 06 Aug 2024 04:47:48 -0700 (PDT)
Message-ID: <66b20d64.0d0a0220.125aab.94d3SMTPIN_ADDED_MISSING@mx.google.com>
Received: from [172.21.0.9] (unknown [172.18.0.240])
 by postal.iol.unh.edu (Postfix) with ESMTP id DD2E56052500;
 Tue,  6 Aug 2024 07:47:47 -0400 (EDT)
Subject: |PENDING| pw142917-142923 [PATCH] [v1,7/7] crypto/dpaa2_sec: rework 
From: dpdklab@iol.unh.edu
To: Test Report <test-report@dpdk.org>
Cc: dpdk-test-reports@iol.unh.edu
In-Reply-To: <20240806084136.3212615-8-g.singh@nxp.com>
References: <20240806084136.3212615-8-g.singh@nxp.com>
Content-Type: text/plain
X-BeenThere: test-report@dpdk.org
X-Mailman-Version: 2.1.29
Precedence: list
List-Id: automatic DPDK test reports <test-report.dpdk.org>
List-Unsubscribe: <https://mails.dpdk.org/options/test-report>,
 <mailto:test-report-request@dpdk.org?subject=unsubscribe>
List-Archive: <http://mails.dpdk.org/archives/test-report/>
List-Post: <mailto:test-report@dpdk.org>
List-Help: <mailto:test-report-request@dpdk.org?subject=help>
List-Subscribe: <https://mails.dpdk.org/listinfo/test-report>,
 <mailto:test-report-request@dpdk.org?subject=subscribe>
Errors-To: test-report-bounces@dpdk.org

Test-Label: iol-compile-amd64-testing
Test-Status: PENDING
http://dpdk.org/patch/142923

_Testing pending_

Submitter: Gagandeep Singh <g.singh@nxp.com>
Date: Tuesday, August 06 2024 08:41:36 
DPDK git baseline: Repo:dpdk
  Branch: master
  CommitID:b3485f4293997d35b6daecc3437bb0c183a51fb3

142917-142923 --> testing pending

Upstream job id: Windows-Compile-DPDK-Meson#24122

Test environment and result as below:

+---------------------+--------------------+----------------------+-------------------+
|     Environment     | dpdk_meson_compile | dpdk_mingw64_compile | dpdk_msvc_compile |
+=====================+====================+======================+===================+
| Windows Server 2022 | PASS               | PEND                 | PEND              |
+---------------------+--------------------+----------------------+-------------------+
| FreeBSD 13.3        | PASS               | SKIPPED              | SKIPPED           |
+---------------------+--------------------+----------------------+-------------------+
| FreeBSD 14.1        | PEND               | SKIPPED              | SKIPPED           |
+---------------------+--------------------+----------------------+-------------------+
| Windows Server 2019 | PASS               | PASS                 | SKIPPED           |
+---------------------+--------------------+----------------------+-------------------+


Windows Server 2022
	Kernel: 10.0.20348.2031
	Compiler: clang 15.0.7, gcc 8.1.0 (MinGW), and MSVC VS 17.9

FreeBSD 13.3
	Kernel: 13.3-RELEASE-p1
	Compiler: clang 17.0.6

FreeBSD 14.1
	Kernel: 14.1
	Compiler: clang 18.1.5

Windows Server 2019
	Kernel: 10.0.17763
	Compiler: clang 14.0 and gcc 8.1.0 (MinGW)

To view detailed results, visit:
https://lab.dpdk.org/results/dashboard/patchsets/30723/

UNH-IOL DPDK Community Lab

To manage your email subscriptions, visit: 
https://lab.dpdk.org/results/dashboard/preferences/subscriptions/