From mboxrd@z Thu Jan  1 00:00:00 1970
Return-Path: <test-report-bounces@dpdk.org>
Received: from mails.dpdk.org (mails.dpdk.org [217.70.189.124])
	by inbox.dpdk.org (Postfix) with ESMTP id 7FBD24574D
	for <public@inbox.dpdk.org>; Tue,  6 Aug 2024 14:24:09 +0200 (CEST)
Received: from mails.dpdk.org (localhost [127.0.0.1])
	by mails.dpdk.org (Postfix) with ESMTP id 7AC8542EA6;
	Tue,  6 Aug 2024 14:24:09 +0200 (CEST)
Received: from mail-pl1-f225.google.com (mail-pl1-f225.google.com
 [209.85.214.225])
 by mails.dpdk.org (Postfix) with ESMTP id 287DF40DDD
 for <test-report@dpdk.org>; Tue,  6 Aug 2024 14:24:08 +0200 (CEST)
Received: by mail-pl1-f225.google.com with SMTP id
 d9443c01a7336-1fc491f9b55so4395945ad.3
 for <test-report@dpdk.org>; Tue, 06 Aug 2024 05:24:08 -0700 (PDT)
DKIM-Signature: v=1; a=rsa-sha256; c=relaxed/relaxed;
 d=iol.unh.edu; s=unh-iol; t=1722947047; x=1723551847; darn=dpdk.org;
 h=references:in-reply-to:cc:to:from:subject:message-id:date:from:to
 :cc:subject:date:message-id:reply-to;
 bh=jU1hsxDbiz2azVa3eUEwe5iPLRoN3cvLCBgqvn0FtLQ=;
 b=WWkNDUduGvDbnXmZz1jGN5GF45Zd7piO0bYFiu6IWTLa0Nvvj+3lmkxzW3h/u0lCTV
 GbRmnDBKhw27X7tNBhAfePZWxsE7r96dY5lWNKZPmVCvXLgq6YUtnFxAxWav7ArRZG2Z
 bAB2tYgVzdVAlwqNkLsGAKgGP0puGJ7r2DuX8=
X-Google-DKIM-Signature: v=1; a=rsa-sha256; c=relaxed/relaxed;
 d=1e100.net; s=20230601; t=1722947047; x=1723551847;
 h=references:in-reply-to:cc:to:from:subject:message-id:date
 :x-gm-message-state:from:to:cc:subject:date:message-id:reply-to;
 bh=jU1hsxDbiz2azVa3eUEwe5iPLRoN3cvLCBgqvn0FtLQ=;
 b=jti5HymdUlB2v12yz0H/x8suMYP/OdXPNVRJEwvnYhTFd1kifE7rdu5F9Ojm2s+XNU
 28H1wtaUclPFsu2URHgz9osSc3dHmjWXkd7CWJjuepP81yURxyppMZb8MZMwxnZiamF4
 sW+SULJwE3B7uD9Yf+ifKVRsuPgBi5XNyjCj3yOgt1qsD4cfd/p+FxOO0fCIa9TL4RJp
 qF5qxf1xuOJQ55L/6K0sBPMcv7tIkW2ytwUeBsNR/U4yI/iL/eg0+dgHCrJRzrAoIvph
 Z01d/sGMMI3QORsD0P9FH4ms0Q12iOVUL50VgmmnVHls4WOSaR0EGuxf7Af5uyPdJ0rH
 fKUg==
X-Gm-Message-State: AOJu0YzZGbEnMyv58PUdvxolbNujSraDluWrkVfw36wTEP7zrk2tPK9k
 UhI959zFxghUfBapEpC6074JTcqkD7Q7BurlPOVNwi3xACWzCEXF1dVQJsnV589pKVlREiZXXA0
 wwo5HZyo0cP9ZxUAxYCygQitKqdF4sh/khFojKdkDmWTlqNmrtq3eGiY2
X-Google-Smtp-Source: AGHT+IH1D45kCWg1b8sS9vFqCZQ6xtU1St3SOXRoK9kLQHaawYBqpJ+NQYnZKUjmZSYbmV+o8t7/9moCrpE2
X-Received: by 2002:a17:902:ec83:b0:1fd:9590:6550 with SMTP id
 d9443c01a7336-1ff574dfe01mr154998265ad.64.1722947047199; 
 Tue, 06 Aug 2024 05:24:07 -0700 (PDT)
Received: from postal.iol.unh.edu (postal.iol.unh.edu.
 [2606:4100:3880:1234::84]) by smtp-relay.gmail.com with ESMTPS id
 d9443c01a7336-1ff58f2a6bbsm7491905ad.7.2024.08.06.05.24.07
 (version=TLS1_2 cipher=ECDHE-ECDSA-AES128-GCM-SHA256 bits=128/128);
 Tue, 06 Aug 2024 05:24:07 -0700 (PDT)
X-Relaying-Domain: iol.unh.edu
Date: Tue, 06 Aug 2024 05:24:07 -0700 (PDT)
Message-ID: <66b215e7.170a0220.50760.8750SMTPIN_ADDED_MISSING@mx.google.com>
Received: from [172.17.0.3] (unknown [172.18.0.217])
 by postal.iol.unh.edu (Postfix) with ESMTP id 62F7860526E2;
 Tue,  6 Aug 2024 08:24:06 -0400 (EDT)
Subject: |SUCCESS| pw142859-142865 [PATCH] [v2,7/7] devtools: add script to g
From: dpdklab@iol.unh.edu
To: Test Report <test-report@dpdk.org>
Cc: dpdk-test-reports@iol.unh.edu
In-Reply-To: <20240802124411.485430-8-bruce.richardson@intel.com>
References: <20240802124411.485430-8-bruce.richardson@intel.com>
Content-Type: text/plain
X-BeenThere: test-report@dpdk.org
X-Mailman-Version: 2.1.29
Precedence: list
List-Id: automatic DPDK test reports <test-report.dpdk.org>
List-Unsubscribe: <https://mails.dpdk.org/options/test-report>,
 <mailto:test-report-request@dpdk.org?subject=unsubscribe>
List-Archive: <http://mails.dpdk.org/archives/test-report/>
List-Post: <mailto:test-report@dpdk.org>
List-Help: <mailto:test-report-request@dpdk.org?subject=help>
List-Subscribe: <https://mails.dpdk.org/listinfo/test-report>,
 <mailto:test-report-request@dpdk.org?subject=subscribe>
Errors-To: test-report-bounces@dpdk.org

Test-Label: iol-sample-apps-testing
Test-Status: SUCCESS
http://dpdk.org/patch/142865

_Testing PASS_

Submitter: Bruce Richardson <bruce.richardson@intel.com>
Date: Friday, August 02 2024 12:44:11 
DPDK git baseline: Repo:dpdk
  Branch: master
  CommitID:b3485f4293997d35b6daecc3437bb0c183a51fb3

142859-142865 --> testing pass

Upstream job id: Template-DTS-Pipeline#172757

Test environment and result as below:

+--------------------+----------------------+----------------------+
|    Environment     | compressdev_zlib_pmd | dpdk_fips_validation |
+====================+======================+======================+
| Ubuntu 22.04       | PASS                 | SKIPPED              |
+--------------------+----------------------+----------------------+
| Ubuntu 22.04 (ARM) | PASS                 | SKIPPED              |
+--------------------+----------------------+----------------------+
| Ubuntu 20.04       | SKIPPED              | PASS                 |
+--------------------+----------------------+----------------------+


Ubuntu 22.04
	Kernel: 5.15.0-100-generic
	Compiler: gcc gcc (Ubuntu 11.4.0-1ubuntu1~22.04) 11.4.0

Ubuntu 22.04 (ARM)
	Kernel: 5.15.0-97-generic
	Compiler: gcc gcc (Ubuntu 11.4.0-1ubuntu1~22.04) 11.4.0

Ubuntu 20.04
	Kernel: 5.4.0-167-generic
	Compiler: gcc 9.4.0-1ubuntu1~20.04.1

To view detailed results, visit:
https://lab.dpdk.org/results/dashboard/patchsets/30707/

UNH-IOL DPDK Community Lab

To manage your email subscriptions, visit: 
https://lab.dpdk.org/results/dashboard/preferences/subscriptions/