From mboxrd@z Thu Jan  1 00:00:00 1970
Return-Path: <test-report-bounces@dpdk.org>
Received: from mails.dpdk.org (mails.dpdk.org [217.70.189.124])
	by inbox.dpdk.org (Postfix) with ESMTP id AB6804574D
	for <public@inbox.dpdk.org>; Tue,  6 Aug 2024 14:25:26 +0200 (CEST)
Received: from mails.dpdk.org (localhost [127.0.0.1])
	by mails.dpdk.org (Postfix) with ESMTP id A46FE42EA6;
	Tue,  6 Aug 2024 14:25:26 +0200 (CEST)
Received: from mail-yw1-f227.google.com (mail-yw1-f227.google.com
 [209.85.128.227])
 by mails.dpdk.org (Postfix) with ESMTP id E484840DDD
 for <test-report@dpdk.org>; Tue,  6 Aug 2024 14:25:24 +0200 (CEST)
Received: by mail-yw1-f227.google.com with SMTP id
 00721157ae682-69483a97848so4273847b3.2
 for <test-report@dpdk.org>; Tue, 06 Aug 2024 05:25:24 -0700 (PDT)
DKIM-Signature: v=1; a=rsa-sha256; c=relaxed/relaxed;
 d=iol.unh.edu; s=unh-iol; t=1722947124; x=1723551924; darn=dpdk.org;
 h=references:in-reply-to:cc:to:from:subject:message-id:date:from:to
 :cc:subject:date:message-id:reply-to;
 bh=gGV4GufHGKkZCBAwz6bC2LmTDcLzqNBwQAFNX8FNKSw=;
 b=D4Ql20VUvRDOazxnBQZH+yTsKLpcIzY7xl1LsgAWxh3jggzUcnmX4xL8lYRw6Oot+O
 Lie3Koq/sKdFRLkW5MjmYz3w++qaj/Hu1/ZLLBz9jYzo7RXr0LZoOifjMJQk/LEUhuuj
 LBFimF74EOBHyD4RcOEHg8f8yQJxZ1ZajLudE=
X-Google-DKIM-Signature: v=1; a=rsa-sha256; c=relaxed/relaxed;
 d=1e100.net; s=20230601; t=1722947124; x=1723551924;
 h=references:in-reply-to:cc:to:from:subject:message-id:date
 :x-gm-message-state:from:to:cc:subject:date:message-id:reply-to;
 bh=gGV4GufHGKkZCBAwz6bC2LmTDcLzqNBwQAFNX8FNKSw=;
 b=kC2gRb87b62TSii9m5RY8F814PzvTrYEMO71v+gCsUW1E8qMzhUrNDR06OlvZwFQgp
 IG4acbDA5o+U3v3mqV8Ydk3gzhAYTVsn++AelDy+ghH4bebb7Hxqzsd4ubru3hTZfzDv
 pbBl+RgynorUFVQvVj2Le08LAEjLU9lfTaEw3d626PaHR+vQIyzh5udacJtk2Muf0KRh
 G6qVMEfMceRq1EsfLfiUF+2rT08CVH2W/yZYRiMKjhWc+GVtmVXp2u1YulscaEmeRs9x
 1jludmW5F+Hc6GFVZGCV+jEpm0g3UbLhekvkZWLW8Qczru6XPb82tCa+wjNChOA1oXrD
 5u/Q==
X-Gm-Message-State: AOJu0Yx1eE/fAcKtGPdiaUoN4MMogvMO90DIGzK0xJTlioG2VsXrGqMt
 7dEjFHh2U+3a/4bizA+Vlu56fDW+OrKu9BKGlEzsGG2e08Eo3pkzZtfZnUYlljhsn3OVliaj4S0
 KfmQCDAREF/dMsyqHXEVCEqmR7fW2dTxZ+vgf031b
X-Google-Smtp-Source: AGHT+IFgsuJTb5+C0fsFe/NcP/djNjfq06PDVAAJ3waFy2rBL5KtsPTYqbTOxo25fDco6p2jliWn9+sx1xDb
X-Received: by 2002:a0d:f3c6:0:b0:63c:416f:182d with SMTP id
 00721157ae682-68960492cdemr181660147b3.12.1722947124122; 
 Tue, 06 Aug 2024 05:25:24 -0700 (PDT)
Received: from postal.iol.unh.edu (postal.iol.unh.edu. [132.177.123.84])
 by smtp-relay.gmail.com with ESMTPS id
 00721157ae682-68a15e3f1fdsm11419677b3.55.2024.08.06.05.25.24
 (version=TLS1_2 cipher=ECDHE-ECDSA-AES128-GCM-SHA256 bits=128/128);
 Tue, 06 Aug 2024 05:25:24 -0700 (PDT)
X-Relaying-Domain: iol.unh.edu
Date: Tue, 06 Aug 2024 05:25:24 -0700 (PDT)
Message-ID: <66b21634.0d0a0220.1f2b36.8726SMTPIN_ADDED_MISSING@mx.google.com>
Received: from [172.17.0.5] (unknown [172.18.0.217])
 by postal.iol.unh.edu (Postfix) with ESMTP id BEAD060526E2;
 Tue,  6 Aug 2024 08:25:23 -0400 (EDT)
Subject: |PENDING| pw142917-142923 [PATCH] [v1,7/7] crypto/dpaa2_sec: rework 
From: dpdklab@iol.unh.edu
To: Test Report <test-report@dpdk.org>
Cc: dpdk-test-reports@iol.unh.edu
In-Reply-To: <20240806084136.3212615-8-g.singh@nxp.com>
References: <20240806084136.3212615-8-g.singh@nxp.com>
Content-Type: text/plain
X-BeenThere: test-report@dpdk.org
X-Mailman-Version: 2.1.29
Precedence: list
List-Id: automatic DPDK test reports <test-report.dpdk.org>
List-Unsubscribe: <https://mails.dpdk.org/options/test-report>,
 <mailto:test-report-request@dpdk.org?subject=unsubscribe>
List-Archive: <http://mails.dpdk.org/archives/test-report/>
List-Post: <mailto:test-report@dpdk.org>
List-Help: <mailto:test-report-request@dpdk.org?subject=help>
List-Subscribe: <https://mails.dpdk.org/listinfo/test-report>,
 <mailto:test-report-request@dpdk.org?subject=subscribe>
Errors-To: test-report-bounces@dpdk.org

Test-Label: iol-compile-amd64-testing
Test-Status: PENDING
http://dpdk.org/patch/142923

_Testing pending_

Submitter: Gagandeep Singh <g.singh@nxp.com>
Date: Tuesday, August 06 2024 08:41:36 
DPDK git baseline: Repo:dpdk
  Branch: master
  CommitID:b3485f4293997d35b6daecc3437bb0c183a51fb3

142917-142923 --> testing pending

Upstream job id: Windows-Compile-DPDK-Mingw64#21309

Test environment and result as below:

+---------------------+--------------------+----------------------+-------------------+
|     Environment     | dpdk_meson_compile | dpdk_mingw64_compile | dpdk_msvc_compile |
+=====================+====================+======================+===================+
| Windows Server 2019 | PASS               | PASS                 | SKIPPED           |
+---------------------+--------------------+----------------------+-------------------+
| Windows Server 2022 | PASS               | PASS                 | PEND              |
+---------------------+--------------------+----------------------+-------------------+
| FreeBSD 13.3        | PASS               | SKIPPED              | SKIPPED           |
+---------------------+--------------------+----------------------+-------------------+
| FreeBSD 14.1        | PASS               | SKIPPED              | SKIPPED           |
+---------------------+--------------------+----------------------+-------------------+


Windows Server 2019
	Kernel: 10.0.17763
	Compiler: clang 14.0 and gcc 8.1.0 (MinGW)

Windows Server 2022
	Kernel: 10.0.20348.2031
	Compiler: clang 15.0.7, gcc 8.1.0 (MinGW), and MSVC VS 17.9

FreeBSD 13.3
	Kernel: 13.3-RELEASE-p1
	Compiler: clang 17.0.6

FreeBSD 14.1
	Kernel: 14.1
	Compiler: clang 18.1.5

To view detailed results, visit:
https://lab.dpdk.org/results/dashboard/patchsets/30723/

UNH-IOL DPDK Community Lab

To manage your email subscriptions, visit: 
https://lab.dpdk.org/results/dashboard/preferences/subscriptions/