From mboxrd@z Thu Jan  1 00:00:00 1970
Return-Path: <test-report-bounces@dpdk.org>
Received: from mails.dpdk.org (mails.dpdk.org [217.70.189.124])
	by inbox.dpdk.org (Postfix) with ESMTP id 3F63E4574D
	for <public@inbox.dpdk.org>; Tue,  6 Aug 2024 15:07:12 +0200 (CEST)
Received: from mails.dpdk.org (localhost [127.0.0.1])
	by mails.dpdk.org (Postfix) with ESMTP id 3BB5A42D35;
	Tue,  6 Aug 2024 15:07:12 +0200 (CEST)
Received: from mail-pj1-f100.google.com (mail-pj1-f100.google.com
 [209.85.216.100])
 by mails.dpdk.org (Postfix) with ESMTP id 958C9410FD
 for <test-report@dpdk.org>; Tue,  6 Aug 2024 15:07:07 +0200 (CEST)
Received: by mail-pj1-f100.google.com with SMTP id
 98e67ed59e1d1-2cb55ff1007so423801a91.0
 for <test-report@dpdk.org>; Tue, 06 Aug 2024 06:07:07 -0700 (PDT)
DKIM-Signature: v=1; a=rsa-sha256; c=relaxed/relaxed;
 d=iol.unh.edu; s=unh-iol; t=1722949627; x=1723554427; darn=dpdk.org;
 h=references:in-reply-to:cc:to:from:subject:message-id:date:from:to
 :cc:subject:date:message-id:reply-to;
 bh=wv5g6Ob2cyVkU5cD6UdGOgAvJHRQHFrkGqzRah5xfCI=;
 b=AS3ZTb21ch/dsdzOnuUR4deoN+TqYLaHG6lUR6EwC5V81c/p5SIjlusaGW3KEJWdE5
 n/mTX8QwrXudBa74NSygSaU+pIkgViWrpY+TWNL7H/OF8JNOlEVvwivDl70xk+KPIUdx
 ZvaYA8su0GDLrSB7YwsAW6avE25Q7NovnEQ3k=
X-Google-DKIM-Signature: v=1; a=rsa-sha256; c=relaxed/relaxed;
 d=1e100.net; s=20230601; t=1722949627; x=1723554427;
 h=references:in-reply-to:cc:to:from:subject:message-id:date
 :x-gm-message-state:from:to:cc:subject:date:message-id:reply-to;
 bh=wv5g6Ob2cyVkU5cD6UdGOgAvJHRQHFrkGqzRah5xfCI=;
 b=egsVx3TwRNGESQ1LM/aSwBkA78cRp1qg+738i1fo0ZMT7xC3YUoxuNmE9Yel+FIvUq
 33LA1H7hXvPAm5LIPk3GNnWegZyJKIoFgITazBGvo/6xm/BjRhaw1AbQyEUGC43ebang
 Zh+HEUqnqwwv9uvCTeXG3BSjaguQJaGRDD/M/aJGgfxiGze8keZSV9msCuol14mLaAw+
 dLPlQEO5tWLZlynlABXqyZRF3qry+2HU+bL7zjXx6XJ0GYWYVUHRPS9YEHIwn8bQQp1Z
 /Qr248TDszC3NLAg9DAa7CAtoL9+VZCuBlUEKoDw8pnYifKdwAkAL0HVq2e+SryJrYhs
 nXSQ==
X-Gm-Message-State: AOJu0YynJyB+mtvzGb69IumrKqUH58121VjGwpP94O2kBDUxIQbhkSH8
 MQnQVoxGvkgxTjfkMVynZWeEncQD9KnsH6YPVgM67CqDOy5MYK5B+AberD9BDarFZkAAd/llmFU
 Z2dLFMeKkrF2wlN841UJec3ArW+nqb6yfjGCDVK3GY0upO01us6ir0fVf
X-Google-Smtp-Source: AGHT+IEqe/05cdRbTkjwENDdxrXd35twZqPUEsHvCq+MjY2rvPtsqSyhVvJdzZaz3SkkBkegNUPvR29fYVgw
X-Received: by 2002:a17:90a:ba92:b0:2c9:8b33:3197 with SMTP id
 98e67ed59e1d1-2cff93fe0d8mr15524239a91.10.1722949626559; 
 Tue, 06 Aug 2024 06:07:06 -0700 (PDT)
Received: from postal.iol.unh.edu (postal.iol.unh.edu.
 [2606:4100:3880:1234::84]) by smtp-relay.gmail.com with ESMTPS id
 98e67ed59e1d1-2cffb17915asm822801a91.12.2024.08.06.06.07.06
 (version=TLS1_2 cipher=ECDHE-ECDSA-AES128-GCM-SHA256 bits=128/128);
 Tue, 06 Aug 2024 06:07:06 -0700 (PDT)
X-Relaying-Domain: iol.unh.edu
Date: Tue, 06 Aug 2024 06:07:06 -0700 (PDT)
Message-ID: <66b21ffa.170a0220.150908.9db4SMTPIN_ADDED_MISSING@mx.google.com>
Received: from [172.21.0.10] (unknown [172.18.0.240])
 by postal.iol.unh.edu (Postfix) with ESMTP id B813660526E2;
 Tue,  6 Aug 2024 09:07:05 -0400 (EDT)
Subject: |PENDING| pw142917-142923 [PATCH] [v1,7/7] crypto/dpaa2_sec: rework 
From: dpdklab@iol.unh.edu
To: Test Report <test-report@dpdk.org>
Cc: dpdk-test-reports@iol.unh.edu
In-Reply-To: <20240806084136.3212615-8-g.singh@nxp.com>
References: <20240806084136.3212615-8-g.singh@nxp.com>
Content-Type: text/plain
X-BeenThere: test-report@dpdk.org
X-Mailman-Version: 2.1.29
Precedence: list
List-Id: automatic DPDK test reports <test-report.dpdk.org>
List-Unsubscribe: <https://mails.dpdk.org/options/test-report>,
 <mailto:test-report-request@dpdk.org?subject=unsubscribe>
List-Archive: <http://mails.dpdk.org/archives/test-report/>
List-Post: <mailto:test-report@dpdk.org>
List-Help: <mailto:test-report-request@dpdk.org?subject=help>
List-Subscribe: <https://mails.dpdk.org/listinfo/test-report>,
 <mailto:test-report-request@dpdk.org?subject=subscribe>
Errors-To: test-report-bounces@dpdk.org

Test-Label: iol-unit-amd64-testing
Test-Status: PENDING
http://dpdk.org/patch/142923

_Testing pending_

Submitter: Gagandeep Singh <g.singh@nxp.com>
Date: Tuesday, August 06 2024 08:41:36 
DPDK git baseline: Repo:dpdk
  Branch: master
  CommitID:b3485f4293997d35b6daecc3437bb0c183a51fb3

142917-142923 --> testing pending

Upstream job id: Generic-Unit-Test-DPDK#249126

Test environment and result as below:

+---------------------+----------------+
|     Environment     | dpdk_unit_test |
+=====================+================+
| Windows Server 2022 | PASS           |
+---------------------+----------------+
| Windows Server 2019 | PASS           |
+---------------------+----------------+
| CentOS Stream 9     | PASS           |
+---------------------+----------------+
| Debian Bullseye     | PASS           |
+---------------------+----------------+
| Debian 12           | PASS           |
+---------------------+----------------+
| Fedora 37           | PASS           |
+---------------------+----------------+
| Fedora 38           | PASS           |
+---------------------+----------------+
| Fedora 38 (Clang)   | PASS           |
+---------------------+----------------+
| Fedora 39           | PASS           |
+---------------------+----------------+
| Fedora 39 (Clang)   | PASS           |
+---------------------+----------------+
| Fedora 40 (Clang)   | PASS           |
+---------------------+----------------+
| openSUSE Leap 15    | PASS           |
+---------------------+----------------+
| RHEL8               | PASS           |
+---------------------+----------------+
| RHEL9               | PASS           |
+---------------------+----------------+
| Ubuntu 20.04        | PASS           |
+---------------------+----------------+
| Ubuntu 22.04        | PASS           |
+---------------------+----------------+
| Ubuntu 24.04        | PASS           |
+---------------------+----------------+
| Fedora 40           | PEND           |
+---------------------+----------------+


Windows Server 2022
	Kernel: 10.0.20348.2031
	Compiler: clang 15.0.7, gcc 8.1.0 (MinGW), and MSVC VS 17.9

Windows Server 2019
	Kernel: 10.0.17763
	Compiler: clang 14.0 and gcc 8.1.0 (MinGW)

CentOS Stream 9
	Kernel: 5.4.0-167-generic
	Compiler: gcc 11.4.1 20230605

Debian Bullseye
	Kernel: 5.4.0-167-generic
	Compiler: gcc 10.2.1-6

Debian 12
	Kernel: Container Host Kernel
	Compiler: gcc 12.2.0

Fedora 37
	Kernel: Depends on container host system
	Compiler: gcc 12.3.1

Fedora 38
	Kernel: Depends on container host
	Compiler: gcc 13.2.1

Fedora 38 (Clang)
	Kernel: Depends on container host
	Compiler: clang 16.0.6

Fedora 39
	Kernel: Depends on container host
	Compiler: gcc 13.2.1

Fedora 39 (Clang)
	Kernel: Depends on container host
	Compiler: clang 17.0.6

Fedora 40 (Clang)
	Kernel: Depends on container host
	Compiler: clang 18.1.6

openSUSE Leap 15
	Kernel: 5.4.0-167-generic
	Compiler: gcc 7.5.0

RHEL8
	Kernel: 5.4.0-167-generic
	Compiler: gcc 8.5.0 20210514 (Red Hat 8.5.0-20)

RHEL9
	Kernel: Depends on container host
	Compiler: gcc 11.4.1

Ubuntu 20.04
	Kernel: 5.4.0-167-generic
	Compiler: gcc 9.4.0-1ubuntu1~20.04.1

Ubuntu 22.04
	Kernel: 5.4.0-167-generic
	Compiler: gcc 11.4.0

Ubuntu 24.04
	Kernel: 5.4.0-167-generic
	Compiler: gcc 13.2.0

Fedora 40
	Kernel: Depends on container host
	Compiler: gcc 14.1.1

To view detailed results, visit:
https://lab.dpdk.org/results/dashboard/patchsets/30723/

UNH-IOL DPDK Community Lab

To manage your email subscriptions, visit: 
https://lab.dpdk.org/results/dashboard/preferences/subscriptions/