From mboxrd@z Thu Jan  1 00:00:00 1970
Return-Path: <test-report-bounces@dpdk.org>
Received: from mails.dpdk.org (mails.dpdk.org [217.70.189.124])
	by inbox.dpdk.org (Postfix) with ESMTP id E208E4574E
	for <public@inbox.dpdk.org>; Tue,  6 Aug 2024 16:33:11 +0200 (CEST)
Received: from mails.dpdk.org (localhost [127.0.0.1])
	by mails.dpdk.org (Postfix) with ESMTP id DE6E840687;
	Tue,  6 Aug 2024 16:33:11 +0200 (CEST)
Received: from mail-il1-f225.google.com (mail-il1-f225.google.com
 [209.85.166.225])
 by mails.dpdk.org (Postfix) with ESMTP id 17EC240685
 for <test-report@dpdk.org>; Tue,  6 Aug 2024 16:33:10 +0200 (CEST)
Received: by mail-il1-f225.google.com with SMTP id
 e9e14a558f8ab-39b41306b4dso2382805ab.3
 for <test-report@dpdk.org>; Tue, 06 Aug 2024 07:33:10 -0700 (PDT)
DKIM-Signature: v=1; a=rsa-sha256; c=relaxed/relaxed;
 d=iol.unh.edu; s=unh-iol; t=1722954789; x=1723559589; darn=dpdk.org;
 h=references:in-reply-to:cc:to:from:subject:message-id:date:from:to
 :cc:subject:date:message-id:reply-to;
 bh=U0ag6MPqmadkJNmP9i02VKCaLR7xGPCBfYYw7PfbeE8=;
 b=AzaV8z5MMi2ipygYcGqxe8Um3nYG5eWrMJ/xzqiXFcYfwAS1Gzpyhr2bNml3tCtEfY
 Jsymm092rj9agfCB+a2hEte33qOe0TJoeQ1+7lRblE7P4HBB4reXcTcYDq5YLYip8zm7
 Pjw46kCIuG0knLVrm4io00McJheOfRok93Oko=
X-Google-DKIM-Signature: v=1; a=rsa-sha256; c=relaxed/relaxed;
 d=1e100.net; s=20230601; t=1722954789; x=1723559589;
 h=references:in-reply-to:cc:to:from:subject:message-id:date
 :x-gm-message-state:from:to:cc:subject:date:message-id:reply-to;
 bh=U0ag6MPqmadkJNmP9i02VKCaLR7xGPCBfYYw7PfbeE8=;
 b=Pkrbm616QN9+YDvV+3DHdK23gOqflmBgQH5jH2ym/CyPxcbCCokh8WCYNKTUd5Pofd
 Zr6CxktT46VPrlw4sXjtI6p+FKpjO9fkD1+6wrA5JhFWFEWyRHf53GK/ktjtsj7iz8DR
 g6UIqn3OsNxWYj8FZlZspAh73KDHxtzc/eNZAPrQq8jc8ugr7xfcnyCByGLCP6aqEo1B
 6uUEzMUHWcDCfu9OyVGSOCO3YR1erlA07ofVhE5XNMR5HrGsmTC7FU5KwX8ouM7PNSC0
 KozuiBV+IZgTLl7bz45y3O1T0naT/E5jqrdQiSTLs1BlqGeWHHVlJtgjYiKlbwsZRPGq
 jL9Q==
X-Gm-Message-State: AOJu0YzGN7YRjywfoCCm7wRGoQ5TQD8Vpr5EpqOyaOAjylhtDnwW3hQU
 5fZBLWdUSqTziY19YsHWDRcnIdZSaPPo06f3dzSwkc78gt6PIAXSzqeXSx11h11beJBrutkYBnl
 ekzFqVpQcyum3WzF24YKdMQCs2Cw0RPhSU5EtRtBn
X-Google-Smtp-Source: AGHT+IGC5LKITUN79hG3OmsiLJscNqZThhsyxphJ/2kFAccEkNBd7+D3nMTwHpsLdDP6epky89kd30LtSbg1
X-Received: by 2002:a92:a30d:0:b0:39a:ea4c:8c26 with SMTP id
 e9e14a558f8ab-39b1fb6de2cmr170886715ab.1.1722954789214; 
 Tue, 06 Aug 2024 07:33:09 -0700 (PDT)
Received: from postal.iol.unh.edu (postal.iol.unh.edu. [132.177.123.84])
 by smtp-relay.gmail.com with ESMTPS id
 e9e14a558f8ab-39b20ac18fdsm10166855ab.55.2024.08.06.07.33.09
 (version=TLS1_2 cipher=ECDHE-ECDSA-AES128-GCM-SHA256 bits=128/128);
 Tue, 06 Aug 2024 07:33:09 -0700 (PDT)
X-Relaying-Domain: iol.unh.edu
Date: Tue, 06 Aug 2024 07:33:09 -0700 (PDT)
Message-ID: <66b23425.050a0220.145dba.2977SMTPIN_ADDED_MISSING@mx.google.com>
Received: from [172.21.0.6] (unknown [172.18.0.240])
 by postal.iol.unh.edu (Postfix) with ESMTP id B29C06050A6B;
 Tue,  6 Aug 2024 10:33:08 -0400 (EDT)
Subject: |PENDING| pw142930-142936 [PATCH] [v2,7/7] crypto/dpaa2_sec: rework 
From: dpdklab@iol.unh.edu
To: Test Report <test-report@dpdk.org>
Cc: dpdk-test-reports@iol.unh.edu
In-Reply-To: <20240806102732.3225536-8-g.singh@nxp.com>
References: <20240806102732.3225536-8-g.singh@nxp.com>
Content-Type: text/plain
X-BeenThere: test-report@dpdk.org
X-Mailman-Version: 2.1.29
Precedence: list
List-Id: automatic DPDK test reports <test-report.dpdk.org>
List-Unsubscribe: <https://mails.dpdk.org/options/test-report>,
 <mailto:test-report-request@dpdk.org?subject=unsubscribe>
List-Archive: <http://mails.dpdk.org/archives/test-report/>
List-Post: <mailto:test-report@dpdk.org>
List-Help: <mailto:test-report-request@dpdk.org?subject=help>
List-Subscribe: <https://mails.dpdk.org/listinfo/test-report>,
 <mailto:test-report-request@dpdk.org?subject=subscribe>
Errors-To: test-report-bounces@dpdk.org

Test-Label: iol-abi-testing
Test-Status: PENDING
http://dpdk.org/patch/142936

_Testing pending_

Submitter: Gagandeep Singh <g.singh@nxp.com>
Date: Tuesday, August 06 2024 10:27:32 
DPDK git baseline: Repo:dpdk
  Branch: master
  CommitID:b3485f4293997d35b6daecc3437bb0c183a51fb3

142930-142936 --> testing pending

Upstream job id: Generic-DPDK-Compile-ABI#101883

Test environment and result as below:

+-------------------+----------+
|    Environment    | abi_test |
+===================+==========+
| CentOS Stream 9   | PASS     |
+-------------------+----------+
| Fedora 37         | PEND     |
+-------------------+----------+
| Fedora 38 (Clang) | PASS     |
+-------------------+----------+
| Fedora 39         | PEND     |
+-------------------+----------+
| Fedora 40 (Clang) | PASS     |
+-------------------+----------+
| Fedora 40         | PEND     |
+-------------------+----------+
| RHEL8             | PASS     |
+-------------------+----------+
| openSUSE Leap 15  | PEND     |
+-------------------+----------+
| Ubuntu 24.04      | PEND     |
+-------------------+----------+
| Ubuntu 22.04      | PASS     |
+-------------------+----------+
| RHEL9             | PEND     |
+-------------------+----------+


CentOS Stream 9
	Kernel: 5.4.0-167-generic
	Compiler: gcc 11.4.1 20230605

Fedora 37
	Kernel: Depends on container host system
	Compiler: gcc 12.3.1

Fedora 38 (Clang)
	Kernel: Depends on container host
	Compiler: clang 16.0.6

Fedora 39
	Kernel: Depends on container host
	Compiler: gcc 13.2.1

Fedora 40 (Clang)
	Kernel: Depends on container host
	Compiler: clang 18.1.6

Fedora 40
	Kernel: Depends on container host
	Compiler: gcc 14.1.1

RHEL8
	Kernel: 5.4.0-167-generic
	Compiler: gcc 8.5.0 20210514 (Red Hat 8.5.0-20)

openSUSE Leap 15
	Kernel: 5.4.0-167-generic
	Compiler: gcc 7.5.0

Ubuntu 24.04
	Kernel: 5.4.0-167-generic
	Compiler: gcc 13.2.0

Ubuntu 22.04
	Kernel: 5.4.0-167-generic
	Compiler: gcc 11.4.0

RHEL9
	Kernel: Depends on container host
	Compiler: gcc 11.4.1

To view detailed results, visit:
https://lab.dpdk.org/results/dashboard/patchsets/30725/

UNH-IOL DPDK Community Lab

To manage your email subscriptions, visit: 
https://lab.dpdk.org/results/dashboard/preferences/subscriptions/