From mboxrd@z Thu Jan  1 00:00:00 1970
Return-Path: <test-report-bounces@dpdk.org>
Received: from mails.dpdk.org (mails.dpdk.org [217.70.189.124])
	by inbox.dpdk.org (Postfix) with ESMTP id 744BE4574E
	for <public@inbox.dpdk.org>; Tue,  6 Aug 2024 16:36:03 +0200 (CEST)
Received: from mails.dpdk.org (localhost [127.0.0.1])
	by mails.dpdk.org (Postfix) with ESMTP id 6FA7F40687;
	Tue,  6 Aug 2024 16:36:03 +0200 (CEST)
Received: from mail-yw1-f225.google.com (mail-yw1-f225.google.com
 [209.85.128.225])
 by mails.dpdk.org (Postfix) with ESMTP id 15AAF40685
 for <test-report@dpdk.org>; Tue,  6 Aug 2024 16:36:02 +0200 (CEST)
Received: by mail-yw1-f225.google.com with SMTP id
 00721157ae682-67682149265so7356227b3.2
 for <test-report@dpdk.org>; Tue, 06 Aug 2024 07:36:02 -0700 (PDT)
DKIM-Signature: v=1; a=rsa-sha256; c=relaxed/relaxed;
 d=iol.unh.edu; s=unh-iol; t=1722954961; x=1723559761; darn=dpdk.org;
 h=references:in-reply-to:cc:to:from:subject:message-id:date:from:to
 :cc:subject:date:message-id:reply-to;
 bh=BuXPvhjMzFTSMAoTV+FhaDeSQ1Ti2QKSWMbnWJBxfQE=;
 b=FFqnV4PoJv7UGRnaqoyfsyrjTijUzotCOt108Rcs8XnmsytCQQ216ZYnm+E/qHbaDS
 9xoT0Ko7G4kAl6mOlXppS/A+8UMaNXuB34eSvuQTv1ohGmrW/70663FyBjspUKXxc340
 JiqvpLfbTY4VSV/yOKHWdpGGezUDxfZFiVQcw=
X-Google-DKIM-Signature: v=1; a=rsa-sha256; c=relaxed/relaxed;
 d=1e100.net; s=20230601; t=1722954961; x=1723559761;
 h=references:in-reply-to:cc:to:from:subject:message-id:date
 :x-gm-message-state:from:to:cc:subject:date:message-id:reply-to;
 bh=BuXPvhjMzFTSMAoTV+FhaDeSQ1Ti2QKSWMbnWJBxfQE=;
 b=ArgpVHdXgug7p74q45xVx8XXcvn6oPxFugSsiOKPhhkYF3DFT1gAO7PaIJMmGfmEwW
 /7xEMH863Msia3KyW9TWc31iS8Y4h+DzvON5p09vHql4x5c+Uiii1KrdeqsEIyG4EnQu
 LYFmQNtkcYeBwnItMXlOS0H262lqYZtbXkIQAvORglxOHyRZiNx2dSdrFTR8GJcEw6K2
 S8GPDK51iqnqpDBYCpTv4JT7rl7lWidoVi51EEHiyu93JViZdqkLvz5M1HhnMHazig1M
 Gjic4ffWL+YD591aLlGayayeZBLVlZpiE9YPHal1hIxDUT3RFApzsLDfOGsOGIm7UG6J
 iS2g==
X-Gm-Message-State: AOJu0Yy0y0R6fObPPW/xce/FMS9MHsGhO7QNAADv27MJygyaicF1e5DQ
 eZ4RY6jN2SVAAft+XJo1h9+Auzn7BZfMlO7OQgv5sKnW/Zj/QsmIKW5v9DLcl8NPqvK4c+NMEd0
 WDQ/cTSPc33y7l/mnJ+wYM7jx7QSD20LxHCA1dArS
X-Google-Smtp-Source: AGHT+IH7v3mS5v+RP/86e/JIyzQ35e5CeQ7zNZjpiRyQyAR9YbagGum4lKdk8n85AypZkMc/szXgUKf0sS4p
X-Received: by 2002:a0d:c981:0:b0:665:657d:9847 with SMTP id
 00721157ae682-6895f9e5f6bmr158793897b3.13.1722954961494; 
 Tue, 06 Aug 2024 07:36:01 -0700 (PDT)
Received: from postal.iol.unh.edu (postal.iol.unh.edu. [132.177.123.84])
 by smtp-relay.gmail.com with ESMTPS id
 00721157ae682-68a15c53103sm11628937b3.51.2024.08.06.07.36.01
 (version=TLS1_2 cipher=ECDHE-ECDSA-AES128-GCM-SHA256 bits=128/128);
 Tue, 06 Aug 2024 07:36:01 -0700 (PDT)
X-Relaying-Domain: iol.unh.edu
Date: Tue, 06 Aug 2024 07:36:01 -0700 (PDT)
Message-ID: <66b234d1.0d0a0220.b7619.8ee4SMTPIN_ADDED_MISSING@mx.google.com>
Received: from [172.21.0.7] (unknown [172.18.0.240])
 by postal.iol.unh.edu (Postfix) with ESMTP id 27DA46050A6B;
 Tue,  6 Aug 2024 10:36:01 -0400 (EDT)
Subject: |PENDING| pw142937-142942 [PATCH] [v14,6/6] dts: add API doc generat
From: dpdklab@iol.unh.edu
To: Test Report <test-report@dpdk.org>
Cc: dpdk-test-reports@iol.unh.edu
In-Reply-To: <20240806111756.314055-7-juraj.linkes@pantheon.tech>
References: <20240806111756.314055-7-juraj.linkes@pantheon.tech>
Content-Type: text/plain
X-BeenThere: test-report@dpdk.org
X-Mailman-Version: 2.1.29
Precedence: list
List-Id: automatic DPDK test reports <test-report.dpdk.org>
List-Unsubscribe: <https://mails.dpdk.org/options/test-report>,
 <mailto:test-report-request@dpdk.org?subject=unsubscribe>
List-Archive: <http://mails.dpdk.org/archives/test-report/>
List-Post: <mailto:test-report@dpdk.org>
List-Help: <mailto:test-report-request@dpdk.org?subject=help>
List-Subscribe: <https://mails.dpdk.org/listinfo/test-report>,
 <mailto:test-report-request@dpdk.org?subject=subscribe>
Errors-To: test-report-bounces@dpdk.org

Test-Label: iol-compile-arm64-testing
Test-Status: PENDING
http://dpdk.org/patch/142942

_Testing pending_

Submitter: Juraj Linkes <juraj.linkes@pantheon.tech>
Date: Tuesday, August 06 2024 11:17:56 
DPDK git baseline: Repo:dpdk
  Branch: master
  CommitID:b3485f4293997d35b6daecc3437bb0c183a51fb3

142937-142942 --> testing pending

Upstream job id: Generic-DPDK-Compile-Meson#284953

Test environment and result as below:

+----------------------------------------+--------------------+
|              Environment               | dpdk_meson_compile |
+========================================+====================+
| RHEL9 (ARM)                            | PASS               |
+----------------------------------------+--------------------+
| Ubuntu 20.04 ARM GCC Cross Compile     | PEND               |
+----------------------------------------+--------------------+
| Fedora 39 (ARM)                        | PASS               |
+----------------------------------------+--------------------+
| Fedora 39 (ARM Clang)                  | PEND               |
+----------------------------------------+--------------------+
| Fedora 40 (ARM)                        | PASS               |
+----------------------------------------+--------------------+
| Debian 11 (Buster) (ARM)               | PEND               |
+----------------------------------------+--------------------+
| Fedora 40 (ARM Clang)                  | PEND               |
+----------------------------------------+--------------------+
| Ubuntu 20.04 ARM Clang Cross Compile   | PEND               |
+----------------------------------------+--------------------+
| Ubuntu 22.04 (ARM)                     | PEND               |
+----------------------------------------+--------------------+
| Ubuntu 24.04 (ARM)                     | PEND               |
+----------------------------------------+--------------------+
| Ubuntu 20.04 aarch32 GCC Cross Compile | PEND               |
+----------------------------------------+--------------------+
| CentOS Stream 9 (ARM)                  | PEND               |
+----------------------------------------+--------------------+


RHEL9 (ARM)
	Kernel: Depends on container host
	Compiler: gcc 11.4.1

Ubuntu 20.04 ARM GCC Cross Compile
	Kernel: 5.4.0-167-generic
	Compiler: aarch64-linux-gnu-gcc (Ubuntu 9.4.0-1ubuntu1~20.04.2) 9.4.0

Fedora 39 (ARM)
	Kernel: Depends on container host
	Compiler: gcc 13.2.1

Fedora 39 (ARM Clang)
	Kernel: Depends on container host
	Compiler: clang 17.0.6

Fedora 40 (ARM)
	Kernel: Depends on container host
	Compiler: gcc 14.1.1

Debian 11 (Buster) (ARM)
	Kernel: Container Host Kernel
	Compiler: gcc 10.2.1

Fedora 40 (ARM Clang)
	Kernel: Depends on container host
	Compiler: clang 18.1.6

Ubuntu 20.04 ARM Clang Cross Compile
	Kernel: 5.4.0-72-generic
	Compiler: clang 10.0.0-4ubuntu1

Ubuntu 22.04 (ARM)
	Kernel: Container Host Kernel
	Compiler: gcc 11.4.0

Ubuntu 24.04 (ARM)
	Kernel: 5.4.0-167-generic
	Compiler: gcc 13.2.0

Ubuntu 20.04 aarch32 GCC Cross Compile
	Kernel: 5.4.0-167-generic
	Compiler: gcc 9.4.0

CentOS Stream 9 (ARM)
	Kernel: Container Host Kernel
	Compiler: gcc 11.4.1

To view detailed results, visit:
https://lab.dpdk.org/results/dashboard/patchsets/30726/

UNH-IOL DPDK Community Lab

To manage your email subscriptions, visit: 
https://lab.dpdk.org/results/dashboard/preferences/subscriptions/