From mboxrd@z Thu Jan  1 00:00:00 1970
Return-Path: <test-report-bounces@dpdk.org>
Received: from mails.dpdk.org (mails.dpdk.org [217.70.189.124])
	by inbox.dpdk.org (Postfix) with ESMTP id ECD3B4574E
	for <public@inbox.dpdk.org>; Tue,  6 Aug 2024 16:38:11 +0200 (CEST)
Received: from mails.dpdk.org (localhost [127.0.0.1])
	by mails.dpdk.org (Postfix) with ESMTP id EA00F40687;
	Tue,  6 Aug 2024 16:38:11 +0200 (CEST)
Received: from mail-qt1-f225.google.com (mail-qt1-f225.google.com
 [209.85.160.225])
 by mails.dpdk.org (Postfix) with ESMTP id 1BB7A40685
 for <test-report@dpdk.org>; Tue,  6 Aug 2024 16:38:11 +0200 (CEST)
Received: by mail-qt1-f225.google.com with SMTP id
 d75a77b69052e-450217eaa62so3583031cf.3
 for <test-report@dpdk.org>; Tue, 06 Aug 2024 07:38:11 -0700 (PDT)
DKIM-Signature: v=1; a=rsa-sha256; c=relaxed/relaxed;
 d=iol.unh.edu; s=unh-iol; t=1722955090; x=1723559890; darn=dpdk.org;
 h=references:in-reply-to:cc:to:from:subject:message-id:date:from:to
 :cc:subject:date:message-id:reply-to;
 bh=oYK6w53B29FzsdzUcrvbty4i8VZsMOCEbGk0ypipJO8=;
 b=JaF1AcOi+vF0xgVtlsbCd2DnssQiiVLDtXvH5cgOyNjJpeWa/5cXt0pS+ML17v1zp7
 sjqc5YoczgU8x3rzSrZJIEOJVBOhoIHyGpojtZyPB/oLdOw2OmIyh5LxgH7UfnZJNeh2
 m6Ah1tF13qWHnZdIF4IvfSbZCg3vq/ywgwUQo=
X-Google-DKIM-Signature: v=1; a=rsa-sha256; c=relaxed/relaxed;
 d=1e100.net; s=20230601; t=1722955090; x=1723559890;
 h=references:in-reply-to:cc:to:from:subject:message-id:date
 :x-gm-message-state:from:to:cc:subject:date:message-id:reply-to;
 bh=oYK6w53B29FzsdzUcrvbty4i8VZsMOCEbGk0ypipJO8=;
 b=M7SogSpvsD0WlbVn9yBR7CAv2bgZtddwDOshzi3cn51l0PyOleimK4JQWMFfuSsPaO
 14IIWDmjFzOVDmQnPE7H424b2E98GPMfFnRMRmbbAm4/NLJ6LVtR6F59lMaX02R6EhhR
 hyeAekZ0pPEELukma+T2hyombznlCiP64R6StNvvyZDSDl5DAaTTnVd5JwXCWmqaQp8C
 vTLSt8zZzrv5iz4NFq1IFYZ/cVB3Fsn3U8HB6UNSqSPOLCotyTJz2Qdaeh1mGUYYfbkI
 tq5qf9uKYscIfmSY4Jz3GCML0niL2yRj5B4hOcJGGVjRHz/wGoNpwm9XBnkEkciEcMlk
 YHQA==
X-Gm-Message-State: AOJu0YzbDVA6U/KiNsPtFIUeGIlkxNLVuoWVlgJcAT8ggPTzvQvplNhL
 xGTrPAh97BSrWCFRwobUHFeW186tPlK7DF1mSgPAQSYcoplyk31+pwYQvaYfYkb1e4uahadaftv
 Upm1+C0Yk3JftnmECv6dbb70GlOAaIsC50UgOQZEDJbACH3aVcqPJV9C/
X-Google-Smtp-Source: AGHT+IEvHbqQDXcmYR3Stwv9LrbRlbDQX53+mF8zvfE64AD1UJzQt6zRBXcycrDFS3ZSVvNYtZCxFdEL7h2b
X-Received: by 2002:a05:622a:110a:b0:44f:edad:3a23 with SMTP id
 d75a77b69052e-451892a30e0mr173490841cf.48.1722955090335; 
 Tue, 06 Aug 2024 07:38:10 -0700 (PDT)
Received: from postal.iol.unh.edu (postal.iol.unh.edu.
 [2606:4100:3880:1234::84]) by smtp-relay.gmail.com with ESMTPS id
 d75a77b69052e-4518a6e6b26sm7564711cf.10.2024.08.06.07.38.10
 (version=TLS1_2 cipher=ECDHE-ECDSA-AES128-GCM-SHA256 bits=128/128);
 Tue, 06 Aug 2024 07:38:10 -0700 (PDT)
X-Relaying-Domain: iol.unh.edu
Date: Tue, 06 Aug 2024 07:38:10 -0700 (PDT)
Message-ID: <66b23552.c80a0220.149fed.9010SMTPIN_ADDED_MISSING@mx.google.com>
Received: from [172.21.0.6] (unknown [172.18.0.240])
 by postal.iol.unh.edu (Postfix) with ESMTP id 0EC756050A6B;
 Tue,  6 Aug 2024 10:38:10 -0400 (EDT)
Subject: |PENDING| pw142937-142942 [PATCH] [v14,6/6] dts: add API doc generat
From: dpdklab@iol.unh.edu
To: Test Report <test-report@dpdk.org>
Cc: dpdk-test-reports@iol.unh.edu
In-Reply-To: <20240806111756.314055-7-juraj.linkes@pantheon.tech>
References: <20240806111756.314055-7-juraj.linkes@pantheon.tech>
Content-Type: text/plain
X-BeenThere: test-report@dpdk.org
X-Mailman-Version: 2.1.29
Precedence: list
List-Id: automatic DPDK test reports <test-report.dpdk.org>
List-Unsubscribe: <https://mails.dpdk.org/options/test-report>,
 <mailto:test-report-request@dpdk.org?subject=unsubscribe>
List-Archive: <http://mails.dpdk.org/archives/test-report/>
List-Post: <mailto:test-report@dpdk.org>
List-Help: <mailto:test-report-request@dpdk.org?subject=help>
List-Subscribe: <https://mails.dpdk.org/listinfo/test-report>,
 <mailto:test-report-request@dpdk.org?subject=subscribe>
Errors-To: test-report-bounces@dpdk.org

Test-Label: iol-unit-amd64-testing
Test-Status: PENDING
http://dpdk.org/patch/142942

_Testing pending_

Submitter: Juraj Linkes <juraj.linkes@pantheon.tech>
Date: Tuesday, August 06 2024 11:17:56 
DPDK git baseline: Repo:dpdk
  Branch: master
  CommitID:b3485f4293997d35b6daecc3437bb0c183a51fb3

142937-142942 --> testing pending

Upstream job id: Generic-Unit-Test-DPDK#249188

Test environment and result as below:

+---------------------+----------------+
|     Environment     | dpdk_unit_test |
+=====================+================+
| Windows Server 2022 | PEND           |
+---------------------+----------------+
| Windows Server 2019 | PASS           |
+---------------------+----------------+
| Debian 12           | PASS           |
+---------------------+----------------+
| Fedora 37           | PEND           |
+---------------------+----------------+
| Fedora 38           | PASS           |
+---------------------+----------------+
| Debian Bullseye     | PASS           |
+---------------------+----------------+
| Fedora 39           | PASS           |
+---------------------+----------------+
| Fedora 40           | PASS           |
+---------------------+----------------+
| openSUSE Leap 15    | PASS           |
+---------------------+----------------+
| Ubuntu 20.04        | PASS           |
+---------------------+----------------+
| RHEL9               | PEND           |
+---------------------+----------------+
| RHEL8               | PEND           |
+---------------------+----------------+
| Ubuntu 22.04        | PEND           |
+---------------------+----------------+
| Ubuntu 24.04        | PEND           |
+---------------------+----------------+


Windows Server 2022
	Kernel: 10.0.20348.2031
	Compiler: clang 15.0.7, gcc 8.1.0 (MinGW), and MSVC VS 17.9

Windows Server 2019
	Kernel: 10.0.17763
	Compiler: clang 14.0 and gcc 8.1.0 (MinGW)

Debian 12
	Kernel: Container Host Kernel
	Compiler: gcc 12.2.0

Fedora 37
	Kernel: Depends on container host system
	Compiler: gcc 12.3.1

Fedora 38
	Kernel: Depends on container host
	Compiler: gcc 13.2.1

Debian Bullseye
	Kernel: 5.4.0-167-generic
	Compiler: gcc 10.2.1-6

Fedora 39
	Kernel: Depends on container host
	Compiler: gcc 13.2.1

Fedora 40
	Kernel: Depends on container host
	Compiler: gcc 14.1.1

openSUSE Leap 15
	Kernel: 5.4.0-167-generic
	Compiler: gcc 7.5.0

Ubuntu 20.04
	Kernel: 5.4.0-167-generic
	Compiler: gcc 9.4.0-1ubuntu1~20.04.1

RHEL9
	Kernel: Depends on container host
	Compiler: gcc 11.4.1

RHEL8
	Kernel: 5.4.0-167-generic
	Compiler: gcc 8.5.0 20210514 (Red Hat 8.5.0-20)

Ubuntu 22.04
	Kernel: 5.4.0-167-generic
	Compiler: gcc 11.4.0

Ubuntu 24.04
	Kernel: 5.4.0-167-generic
	Compiler: gcc 13.2.0

To view detailed results, visit:
https://lab.dpdk.org/results/dashboard/patchsets/30726/

UNH-IOL DPDK Community Lab

To manage your email subscriptions, visit: 
https://lab.dpdk.org/results/dashboard/preferences/subscriptions/