From mboxrd@z Thu Jan  1 00:00:00 1970
Return-Path: <test-report-bounces@dpdk.org>
Received: from mails.dpdk.org (mails.dpdk.org [217.70.189.124])
	by inbox.dpdk.org (Postfix) with ESMTP id 7CA904574E
	for <public@inbox.dpdk.org>; Tue,  6 Aug 2024 16:50:32 +0200 (CEST)
Received: from mails.dpdk.org (localhost [127.0.0.1])
	by mails.dpdk.org (Postfix) with ESMTP id 752E040614;
	Tue,  6 Aug 2024 16:50:32 +0200 (CEST)
Received: from mail-oa1-f97.google.com (mail-oa1-f97.google.com
 [209.85.160.97]) by mails.dpdk.org (Postfix) with ESMTP id 3A4C1402F2
 for <test-report@dpdk.org>; Tue,  6 Aug 2024 16:50:31 +0200 (CEST)
Received: by mail-oa1-f97.google.com with SMTP id
 586e51a60fabf-260f057aa9bso449261fac.2
 for <test-report@dpdk.org>; Tue, 06 Aug 2024 07:50:31 -0700 (PDT)
DKIM-Signature: v=1; a=rsa-sha256; c=relaxed/relaxed;
 d=iol.unh.edu; s=unh-iol; t=1722955830; x=1723560630; darn=dpdk.org;
 h=references:in-reply-to:cc:to:from:subject:message-id:date:from:to
 :cc:subject:date:message-id:reply-to;
 bh=9WAWrthSvjV1P6LYn7p2lO7BswylI6/Xh5cWA6pT3ZY=;
 b=SRM7pejGBvV6ClOWbZPS3tClLSngoZFzxCF4J5/gk44oTHsiUewVwHzPVwxRG4mjeg
 BgFcPL3BpzpjVxpbFl5jlBaeMSCEu9hiY5VtOg7sbUZlKdzNq4sytcaR/ioICm93/tuS
 y/HSH55mnOuEG1QvYIBTd2wHG/FAaxV/gg144=
X-Google-DKIM-Signature: v=1; a=rsa-sha256; c=relaxed/relaxed;
 d=1e100.net; s=20230601; t=1722955830; x=1723560630;
 h=references:in-reply-to:cc:to:from:subject:message-id:date
 :x-gm-message-state:from:to:cc:subject:date:message-id:reply-to;
 bh=9WAWrthSvjV1P6LYn7p2lO7BswylI6/Xh5cWA6pT3ZY=;
 b=QLmtUFFX3atnK7RhW9XbK6wWUmN7tTrsaKtzqFM0CLUXhS1+y+2roiIpT5HwHqPtN2
 gowYIsgZ73E9IzTDCDjJyomgPRb7dFT8TzXqnT/H3naKyL0ZqKV6RBKLJczvYNJmAjlm
 7fXsn2fbzJajqm7HaPrKuXw3R7374odQLHFr1DJfD4IWp8zrbpSnXOg7YpZId1fyLzA1
 kJo79HFx+mnqV4bbeLUus9O8ykhcyPznuodq4+XreiD55Of0kcvGCD6cW6C5MkXBh6mQ
 MBYZqtbD5cH3EjebycZ905SyCb3APspFbEkllpJOA0IJSxDR5ZR1uEEwzOjukIzU92IZ
 +PFQ==
X-Gm-Message-State: AOJu0YynatTQjLRrs/O42D54RDo/Jql16BGdcU9lZmOAPFvLJVv9oTbx
 O3aiIwT7yk8qRfpqJIuahFLailwBYVdStFgPFSWGVEY5MZvGR8ZWrRH4Egh1lZt1/t5OKCaX4Mq
 Mm9XuHgIAx1YZdw4qXed8Qw7kqscBWIe2qx59qn60
X-Google-Smtp-Source: AGHT+IGDYPwQj95WmaPnKfLw1R8l7/ZaGFJMhGSXVEyJtp5j2PYVppVYn6bjPyvFHx0jCjVNSrWRjIs1/qoI
X-Received: by 2002:a05:6871:5d4:b0:261:bca:4abc with SMTP id
 586e51a60fabf-26891f26c8dmr18844969fac.48.1722955829961; 
 Tue, 06 Aug 2024 07:50:29 -0700 (PDT)
Received: from postal.iol.unh.edu (postal.iol.unh.edu. [132.177.123.84])
 by smtp-relay.gmail.com with ESMTPS id
 586e51a60fabf-2689a2a8455sm812765fac.3.2024.08.06.07.50.29
 (version=TLS1_2 cipher=ECDHE-ECDSA-AES128-GCM-SHA256 bits=128/128);
 Tue, 06 Aug 2024 07:50:29 -0700 (PDT)
X-Relaying-Domain: iol.unh.edu
Date: Tue, 06 Aug 2024 07:50:29 -0700 (PDT)
Message-ID: <66b23835.050a0220.738aa.b455SMTPIN_ADDED_MISSING@mx.google.com>
Received: from [172.21.0.6] (unknown [172.18.0.240])
 by postal.iol.unh.edu (Postfix) with ESMTP id 6F69D6050A6B;
 Tue,  6 Aug 2024 10:50:29 -0400 (EDT)
Subject: |PENDING| pw142937-142942 [PATCH] [v14,6/6] dts: add API doc generat
From: dpdklab@iol.unh.edu
To: Test Report <test-report@dpdk.org>
Cc: dpdk-test-reports@iol.unh.edu
In-Reply-To: <20240806111756.314055-7-juraj.linkes@pantheon.tech>
References: <20240806111756.314055-7-juraj.linkes@pantheon.tech>
Content-Type: text/plain
X-BeenThere: test-report@dpdk.org
X-Mailman-Version: 2.1.29
Precedence: list
List-Id: automatic DPDK test reports <test-report.dpdk.org>
List-Unsubscribe: <https://mails.dpdk.org/options/test-report>,
 <mailto:test-report-request@dpdk.org?subject=unsubscribe>
List-Archive: <http://mails.dpdk.org/archives/test-report/>
List-Post: <mailto:test-report@dpdk.org>
List-Help: <mailto:test-report-request@dpdk.org?subject=help>
List-Subscribe: <https://mails.dpdk.org/listinfo/test-report>,
 <mailto:test-report-request@dpdk.org?subject=subscribe>
Errors-To: test-report-bounces@dpdk.org

Test-Label: iol-compile-amd64-testing
Test-Status: PENDING
http://dpdk.org/patch/142942

_Testing pending_

Submitter: Juraj Linkes <juraj.linkes@pantheon.tech>
Date: Tuesday, August 06 2024 11:17:56 
DPDK git baseline: Repo:dpdk
  Branch: master
  CommitID:b3485f4293997d35b6daecc3437bb0c183a51fb3

142937-142942 --> testing pending

Upstream job id: Generic-DPDK-Compile-Meson#284938

Test environment and result as below:

+---------------------+--------------------+----------------------+------------------+-------------------+
|     Environment     | dpdk_meson_compile | dpdk_mingw64_compile | dpdk_compile_ovs | dpdk_compile_spdk |
+=====================+====================+======================+==================+===================+
| FreeBSD 13.3        | PASS               | SKIPPED              | SKIPPED          | SKIPPED           |
+---------------------+--------------------+----------------------+------------------+-------------------+
| Windows Server 2019 | PASS               | SKIPPED              | SKIPPED          | SKIPPED           |
+---------------------+--------------------+----------------------+------------------+-------------------+
| Windows Server 2022 | PASS               | PASS                 | SKIPPED          | SKIPPED           |
+---------------------+--------------------+----------------------+------------------+-------------------+
| FreeBSD 14.1        | PASS               | SKIPPED              | SKIPPED          | SKIPPED           |
+---------------------+--------------------+----------------------+------------------+-------------------+
| CentOS Stream 9     | PEND               | SKIPPED              | PEND             | SKIPPED           |
+---------------------+--------------------+----------------------+------------------+-------------------+
| Fedora 37           | PASS               | SKIPPED              | PASS             | PASS              |
+---------------------+--------------------+----------------------+------------------+-------------------+
| Fedora 38           | PASS               | SKIPPED              | PASS             | PASS              |
+---------------------+--------------------+----------------------+------------------+-------------------+
| Fedora 39           | PASS               | SKIPPED              | PASS             | PASS              |
+---------------------+--------------------+----------------------+------------------+-------------------+
| Fedora 39 (Clang)   | PEND               | SKIPPED              | PEND             | PEND              |
+---------------------+--------------------+----------------------+------------------+-------------------+
| Fedora 38 (Clang)   | PEND               | SKIPPED              | PEND             | PEND              |
+---------------------+--------------------+----------------------+------------------+-------------------+
| Fedora 40           | PEND               | SKIPPED              | PEND             | PEND              |
+---------------------+--------------------+----------------------+------------------+-------------------+
| Fedora 40 (Clang)   | PEND               | SKIPPED              | PEND             | PEND              |
+---------------------+--------------------+----------------------+------------------+-------------------+
| openSUSE Leap 15    | PASS               | SKIPPED              | PASS             | SKIPPED           |
+---------------------+--------------------+----------------------+------------------+-------------------+
| RHEL8               | PASS               | SKIPPED              | PASS             | SKIPPED           |
+---------------------+--------------------+----------------------+------------------+-------------------+
| RHEL9               | PASS               | SKIPPED              | PASS             | SKIPPED           |
+---------------------+--------------------+----------------------+------------------+-------------------+
| Ubuntu 20.04        | PASS               | SKIPPED              | PEND             | SKIPPED           |
+---------------------+--------------------+----------------------+------------------+-------------------+
| Ubuntu 22.04        | PEND               | SKIPPED              | PEND             | PEND              |
+---------------------+--------------------+----------------------+------------------+-------------------+
| Ubuntu 24.04        | PEND               | SKIPPED              | PEND             | PEND              |
+---------------------+--------------------+----------------------+------------------+-------------------+


FreeBSD 13.3
	Kernel: 13.3-RELEASE-p1
	Compiler: clang 17.0.6

Windows Server 2019
	Kernel: 10.0.17763
	Compiler: clang 14.0 and gcc 8.1.0 (MinGW)

Windows Server 2022
	Kernel: 10.0.20348.2031
	Compiler: clang 15.0.7, gcc 8.1.0 (MinGW), and MSVC VS 17.9

FreeBSD 14.1
	Kernel: 14.1
	Compiler: clang 18.1.5

CentOS Stream 9
	Kernel: 5.4.0-167-generic
	Compiler: gcc 11.4.1 20230605

Fedora 37
	Kernel: Depends on container host system
	Compiler: gcc 12.3.1

Fedora 38
	Kernel: Depends on container host
	Compiler: gcc 13.2.1

Fedora 39
	Kernel: Depends on container host
	Compiler: gcc 13.2.1

Fedora 39 (Clang)
	Kernel: Depends on container host
	Compiler: clang 17.0.6

Fedora 38 (Clang)
	Kernel: Depends on container host
	Compiler: clang 16.0.6

Fedora 40
	Kernel: Depends on container host
	Compiler: gcc 14.1.1

Fedora 40 (Clang)
	Kernel: Depends on container host
	Compiler: clang 18.1.6

openSUSE Leap 15
	Kernel: 5.4.0-167-generic
	Compiler: gcc 7.5.0

RHEL8
	Kernel: 5.4.0-167-generic
	Compiler: gcc 8.5.0 20210514 (Red Hat 8.5.0-20)

RHEL9
	Kernel: Depends on container host
	Compiler: gcc 11.4.1

Ubuntu 20.04
	Kernel: 5.4.0-167-generic
	Compiler: gcc 9.4.0-1ubuntu1~20.04.1

Ubuntu 22.04
	Kernel: 5.4.0-167-generic
	Compiler: gcc 11.4.0

Ubuntu 24.04
	Kernel: 5.4.0-167-generic
	Compiler: gcc 13.2.0

To view detailed results, visit:
https://lab.dpdk.org/results/dashboard/patchsets/30726/

UNH-IOL DPDK Community Lab

To manage your email subscriptions, visit: 
https://lab.dpdk.org/results/dashboard/preferences/subscriptions/