From mboxrd@z Thu Jan  1 00:00:00 1970
Return-Path: <test-report-bounces@dpdk.org>
Received: from mails.dpdk.org (mails.dpdk.org [217.70.189.124])
	by inbox.dpdk.org (Postfix) with ESMTP id 387724574E
	for <public@inbox.dpdk.org>; Tue,  6 Aug 2024 17:17:01 +0200 (CEST)
Received: from mails.dpdk.org (localhost [127.0.0.1])
	by mails.dpdk.org (Postfix) with ESMTP id 3298840614;
	Tue,  6 Aug 2024 17:17:01 +0200 (CEST)
Received: from mail-yw1-f226.google.com (mail-yw1-f226.google.com
 [209.85.128.226])
 by mails.dpdk.org (Postfix) with ESMTP id CCDD5402F2
 for <test-report@dpdk.org>; Tue,  6 Aug 2024 17:16:59 +0200 (CEST)
Received: by mail-yw1-f226.google.com with SMTP id
 00721157ae682-690af536546so8554547b3.3
 for <test-report@dpdk.org>; Tue, 06 Aug 2024 08:16:59 -0700 (PDT)
DKIM-Signature: v=1; a=rsa-sha256; c=relaxed/relaxed;
 d=iol.unh.edu; s=unh-iol; t=1722957419; x=1723562219; darn=dpdk.org;
 h=references:in-reply-to:cc:to:from:subject:message-id:date:from:to
 :cc:subject:date:message-id:reply-to;
 bh=R8z0JMhYisSHtgP827bEuL4YFk80lrhdmeH8hDstUmg=;
 b=jmzNwFy6E02Jt4b+bWdBU8OLk76adY1T60BfI3aYq3qN/b+/ux7EBg5rOQ4ejHuIio
 cCXEAtAzjtYgFoEDpgAiIqfE4AaZKUxrMcBmNZFufrjMUDQPraGRNdfG50qZGIDrOLZJ
 2l9v3FBAHsdxCj0qg4EymaPRSL7LyAOM+LhFA=
X-Google-DKIM-Signature: v=1; a=rsa-sha256; c=relaxed/relaxed;
 d=1e100.net; s=20230601; t=1722957419; x=1723562219;
 h=references:in-reply-to:cc:to:from:subject:message-id:date
 :x-gm-message-state:from:to:cc:subject:date:message-id:reply-to;
 bh=R8z0JMhYisSHtgP827bEuL4YFk80lrhdmeH8hDstUmg=;
 b=fH9hJAlFGDtH49KsgH0EMibvXbke6zmgNqH4Vqm1MyenBBqm8RsSd1RKDrcxdj2O8g
 SBRf+Y6oGgYmcDnyzVOP+Pk1vRRicPqb/474r4B67Kt8w6oOfAd1ebncLuCeOfPZ3aW8
 bqORqeC4UEbvcAICWKBgQ+qgLS5iVwatwHI0M5zV2nQccWLc3Nr7knWetcMSsD1SGrGd
 fNbG7lCJXk1zluTHd0qWsULPgDFubPLZVBIFPsR+x5RGuZxZ+DvG/uPzkn31oes8TmVA
 26x+5ADiNP6EQtdC9Cyvaaz0OCRlsNbPHUcoQ7I0F5AO9VfOlfu02wqHZPKrZT99+cuQ
 +OEw==
X-Gm-Message-State: AOJu0YygIoYYKzsZkm9cWCZN/GJ/27RBcolr8qnQQjOvbFwrN2z0+tM2
 k8BBxanKdamGiCa71Iz/NtnsibXnsKyDkdsjkL6QIZFZb8i4KfH6flpTFkmObgEDFN04UG3ndDR
 p67xdXR4Oi3C3o2fkFLJolNA88zM/qgzJW1WTCqwc
X-Google-Smtp-Source: AGHT+IEW2e2dkoIrIYHnrEj3pWblMdGjrF1Tot+lnThhkYcRxZ2IexZZ3aVa+pDXIzuZ+UUgJr+KJa6mVbBU
X-Received: by 2002:a81:9c05:0:b0:650:a1cb:b122 with SMTP id
 00721157ae682-689611314e7mr173685897b3.27.1722957419130; 
 Tue, 06 Aug 2024 08:16:59 -0700 (PDT)
Received: from postal.iol.unh.edu (postal.iol.unh.edu. [132.177.123.84])
 by smtp-relay.gmail.com with ESMTPS id
 00721157ae682-68a13b8f707sm8837357b3.42.2024.08.06.08.16.59
 (version=TLS1_2 cipher=ECDHE-ECDSA-AES128-GCM-SHA256 bits=128/128);
 Tue, 06 Aug 2024 08:16:59 -0700 (PDT)
X-Relaying-Domain: iol.unh.edu
Date: Tue, 06 Aug 2024 08:16:59 -0700 (PDT)
Message-ID: <66b23e6b.810a0220.6bf5d.0282SMTPIN_ADDED_MISSING@mx.google.com>
Received: from [172.21.0.7] (unknown [172.18.0.240])
 by postal.iol.unh.edu (Postfix) with ESMTP id C540B6050A6B;
 Tue,  6 Aug 2024 11:16:58 -0400 (EDT)
Subject: |PENDING| pw142930-142936 [PATCH] [v2,7/7] crypto/dpaa2_sec: rework 
From: dpdklab@iol.unh.edu
To: Test Report <test-report@dpdk.org>
Cc: dpdk-test-reports@iol.unh.edu
In-Reply-To: <20240806102732.3225536-8-g.singh@nxp.com>
References: <20240806102732.3225536-8-g.singh@nxp.com>
Content-Type: text/plain
X-BeenThere: test-report@dpdk.org
X-Mailman-Version: 2.1.29
Precedence: list
List-Id: automatic DPDK test reports <test-report.dpdk.org>
List-Unsubscribe: <https://mails.dpdk.org/options/test-report>,
 <mailto:test-report-request@dpdk.org?subject=unsubscribe>
List-Archive: <http://mails.dpdk.org/archives/test-report/>
List-Post: <mailto:test-report@dpdk.org>
List-Help: <mailto:test-report-request@dpdk.org?subject=help>
List-Subscribe: <https://mails.dpdk.org/listinfo/test-report>,
 <mailto:test-report-request@dpdk.org?subject=subscribe>
Errors-To: test-report-bounces@dpdk.org

Test-Label: iol-compile-arm64-testing
Test-Status: PENDING
http://dpdk.org/patch/142936

_Testing pending_

Submitter: Gagandeep Singh <g.singh@nxp.com>
Date: Tuesday, August 06 2024 10:27:32 
DPDK git baseline: Repo:dpdk
  Branch: master
  CommitID:b3485f4293997d35b6daecc3437bb0c183a51fb3

142930-142936 --> testing pending

Upstream job id: Generic-DPDK-Compile-Meson#284994

Test environment and result as below:

+----------------------------------------+--------------------+
|              Environment               | dpdk_meson_compile |
+========================================+====================+
| RHEL9 (ARM)                            | PASS               |
+----------------------------------------+--------------------+
| Debian 12 with MUSDK                   | PASS               |
+----------------------------------------+--------------------+
| Ubuntu 20.04 ARM SVE                   | PASS               |
+----------------------------------------+--------------------+
| Ubuntu 20.04 ARM GCC Cross Compile     | PEND               |
+----------------------------------------+--------------------+
| Fedora 38 (ARM Clang)                  | PEND               |
+----------------------------------------+--------------------+
| Fedora 37 (ARM)                        | PASS               |
+----------------------------------------+--------------------+
| Fedora 38 (ARM)                        | PASS               |
+----------------------------------------+--------------------+
| Fedora 39 (ARM)                        | PASS               |
+----------------------------------------+--------------------+
| Fedora 39 (ARM Clang)                  | PEND               |
+----------------------------------------+--------------------+
| Fedora 40 (ARM)                        | PASS               |
+----------------------------------------+--------------------+
| Fedora 40 (ARM Clang)                  | PEND               |
+----------------------------------------+--------------------+
| Ubuntu 22.04 (ARM)                     | PASS               |
+----------------------------------------+--------------------+
| CentOS Stream 9 (ARM)                  | PEND               |
+----------------------------------------+--------------------+
| Debian 11 (Buster) (ARM)               | PASS               |
+----------------------------------------+--------------------+
| Ubuntu 20.04 (ARM)                     | PEND               |
+----------------------------------------+--------------------+
| Ubuntu 24.04 (ARM)                     | PEND               |
+----------------------------------------+--------------------+
| Debian 12 (arm)                        | PEND               |
+----------------------------------------+--------------------+
| Ubuntu 20.04 ARM Clang Cross Compile   | PEND               |
+----------------------------------------+--------------------+
| Ubuntu 20.04 aarch32 GCC Cross Compile | PEND               |
+----------------------------------------+--------------------+


RHEL9 (ARM)
	Kernel: Depends on container host
	Compiler: gcc 11.4.1

Debian 12 with MUSDK
	Kernel: Container Host Kernel
	Compiler: gcc 12.2.0

Ubuntu 20.04 ARM SVE
	Kernel: 5.4.0-167-generic
	Compiler: gcc (Ubuntu 10.5.0-1ubuntu1~20.04) 10.5.0

Ubuntu 20.04 ARM GCC Cross Compile
	Kernel: 5.4.0-167-generic
	Compiler: aarch64-linux-gnu-gcc (Ubuntu 9.4.0-1ubuntu1~20.04.2) 9.4.0

Fedora 38 (ARM Clang)
	Kernel: Depends on container host
	Compiler: clang 16.0.6

Fedora 37 (ARM)
	Kernel: Depends on container host
	Compiler: gcc 12.3.1

Fedora 38 (ARM)
	Kernel: Depends on container host
	Compiler: gcc 13.2.1

Fedora 39 (ARM)
	Kernel: Depends on container host
	Compiler: gcc 13.2.1

Fedora 39 (ARM Clang)
	Kernel: Depends on container host
	Compiler: clang 17.0.6

Fedora 40 (ARM)
	Kernel: Depends on container host
	Compiler: gcc 14.1.1

Fedora 40 (ARM Clang)
	Kernel: Depends on container host
	Compiler: clang 18.1.6

Ubuntu 22.04 (ARM)
	Kernel: Container Host Kernel
	Compiler: gcc 11.4.0

CentOS Stream 9 (ARM)
	Kernel: Container Host Kernel
	Compiler: gcc 11.4.1

Debian 11 (Buster) (ARM)
	Kernel: Container Host Kernel
	Compiler: gcc 10.2.1

Ubuntu 20.04 (ARM)
	Kernel: Container Host Kernel
	Compiler: gcc 9.4.0

Ubuntu 24.04 (ARM)
	Kernel: 5.4.0-167-generic
	Compiler: gcc 13.2.0

Debian 12 (arm)
	Kernel: Container Host Kernel
	Compiler: gcc 12.2.0

Ubuntu 20.04 ARM Clang Cross Compile
	Kernel: 5.4.0-72-generic
	Compiler: clang 10.0.0-4ubuntu1

Ubuntu 20.04 aarch32 GCC Cross Compile
	Kernel: 5.4.0-167-generic
	Compiler: gcc 9.4.0

To view detailed results, visit:
https://lab.dpdk.org/results/dashboard/patchsets/30725/

UNH-IOL DPDK Community Lab

To manage your email subscriptions, visit: 
https://lab.dpdk.org/results/dashboard/preferences/subscriptions/