From mboxrd@z Thu Jan  1 00:00:00 1970
Return-Path: <test-report-bounces@dpdk.org>
Received: from mails.dpdk.org (mails.dpdk.org [217.70.189.124])
	by inbox.dpdk.org (Postfix) with ESMTP id 0FDC14574E
	for <public@inbox.dpdk.org>; Tue,  6 Aug 2024 17:28:05 +0200 (CEST)
Received: from mails.dpdk.org (localhost [127.0.0.1])
	by mails.dpdk.org (Postfix) with ESMTP id 0C69A40A89;
	Tue,  6 Aug 2024 17:28:05 +0200 (CEST)
Received: from mail-pg1-f225.google.com (mail-pg1-f225.google.com
 [209.85.215.225])
 by mails.dpdk.org (Postfix) with ESMTP id 5E59940A6C
 for <test-report@dpdk.org>; Tue,  6 Aug 2024 17:28:03 +0200 (CEST)
Received: by mail-pg1-f225.google.com with SMTP id
 41be03b00d2f7-71871d5e087so493999a12.1
 for <test-report@dpdk.org>; Tue, 06 Aug 2024 08:28:03 -0700 (PDT)
DKIM-Signature: v=1; a=rsa-sha256; c=relaxed/relaxed;
 d=iol.unh.edu; s=unh-iol; t=1722958082; x=1723562882; darn=dpdk.org;
 h=references:in-reply-to:cc:to:from:subject:message-id:date:from:to
 :cc:subject:date:message-id:reply-to;
 bh=8mibKSODAqknvfZORV9Mhmh56WnLB/+ihbUlhGgoYIo=;
 b=aMbAIBbfdDxG9JvG+aNGTFbb8FTX9yTeLPtZPYkedenF91wOUtB0sXsyvjWYZ9w2Yz
 Z8N+DmS5Z69hzR0WnyQkov0A/Z4X1JjvFhMMCdIf6Lq1bp+1IH53TJuUZ5A1d/d9HaA9
 bLAiL+Gl0sunxoYs+t0/Vj7GJ+RFJaJ5PTXDg=
X-Google-DKIM-Signature: v=1; a=rsa-sha256; c=relaxed/relaxed;
 d=1e100.net; s=20230601; t=1722958082; x=1723562882;
 h=references:in-reply-to:cc:to:from:subject:message-id:date
 :x-gm-message-state:from:to:cc:subject:date:message-id:reply-to;
 bh=8mibKSODAqknvfZORV9Mhmh56WnLB/+ihbUlhGgoYIo=;
 b=rLbF9ZeJqGgGhcCuGMr6KN/ZQrB0AgvRc4yS48k+DPdSeOYrCFJORcf6Sc/Ba/uk7M
 N2PR9KxJv3vQZkTx4ZbaQpkVL6Tj0Q01o2X2sG0ExBz8hjMS8tqNNNilR0UNKQg3+IJd
 EcrMDFWUxamfNMFFrus2rz3qI05gnO/W//rUpjjvR6NPIfFcz0Gj4x+tvkUivSnaJDT5
 LG0zEiwkZwZsjDU2ky2aXa+zBa2E2l/8XomLr+5ri2YV87qYDWGQhKZAuZV6aQpEwixY
 HHBPNhu3hd+aph4mjbnwe3J/Fq8+GlokOIKQ14uaYVtgVwFoC243T0MMu7hERmhp2XLV
 eqgQ==
X-Gm-Message-State: AOJu0Yw4opoG7TWRGfLuTKIIo/jSsVekoQzrlvqM5BYNt+5qesAux1zL
 Ato5uPVc1s03aQCm0FNCRYxqzrzOPJRVTzfwYUi429fuHHiHA+mmLjjg4xHgo87Y3CsVInNCYf5
 jomE45WumS6miYIeoY33Tv1woxflFH4fBegh5gvMqIGy/PxIjLyr7aDec
X-Google-Smtp-Source: AGHT+IE55ab9MV9oZlYUgrmuhvvww5DYzU3QVjvCDT2Y3Z4HEoStHvcOBegWV/3Sjo8l5fX+uxBlxXGChLJt
X-Received: by 2002:a17:902:d491:b0:1fd:acd1:b642 with SMTP id
 d9443c01a7336-1ff57496064mr214131075ad.64.1722958082517; 
 Tue, 06 Aug 2024 08:28:02 -0700 (PDT)
Received: from postal.iol.unh.edu (postal.iol.unh.edu.
 [2606:4100:3880:1234::84]) by smtp-relay.gmail.com with ESMTPS id
 d9443c01a7336-1ff58f558absm7982895ad.35.2024.08.06.08.28.02
 (version=TLS1_2 cipher=ECDHE-ECDSA-AES128-GCM-SHA256 bits=128/128);
 Tue, 06 Aug 2024 08:28:02 -0700 (PDT)
X-Relaying-Domain: iol.unh.edu
Date: Tue, 06 Aug 2024 08:28:02 -0700 (PDT)
Message-ID: <66b24102.170a0220.dee88.b00bSMTPIN_ADDED_MISSING@mx.google.com>
Received: from [172.21.0.9] (unknown [172.18.0.240])
 by postal.iol.unh.edu (Postfix) with ESMTP id 9E07D6050A6B;
 Tue,  6 Aug 2024 11:28:01 -0400 (EDT)
Subject: |PENDING| pw142937-142942 [PATCH] [v14,6/6] dts: add API doc generat
From: dpdklab@iol.unh.edu
To: Test Report <test-report@dpdk.org>
Cc: dpdk-test-reports@iol.unh.edu
In-Reply-To: <20240806111756.314055-7-juraj.linkes@pantheon.tech>
References: <20240806111756.314055-7-juraj.linkes@pantheon.tech>
Content-Type: text/plain
X-BeenThere: test-report@dpdk.org
X-Mailman-Version: 2.1.29
Precedence: list
List-Id: automatic DPDK test reports <test-report.dpdk.org>
List-Unsubscribe: <https://mails.dpdk.org/options/test-report>,
 <mailto:test-report-request@dpdk.org?subject=unsubscribe>
List-Archive: <http://mails.dpdk.org/archives/test-report/>
List-Post: <mailto:test-report@dpdk.org>
List-Help: <mailto:test-report-request@dpdk.org?subject=help>
List-Subscribe: <https://mails.dpdk.org/listinfo/test-report>,
 <mailto:test-report-request@dpdk.org?subject=subscribe>
Errors-To: test-report-bounces@dpdk.org

Test-Label: iol-compile-arm64-testing
Test-Status: PENDING
http://dpdk.org/patch/142942

_Testing pending_

Submitter: Juraj Linkes <juraj.linkes@pantheon.tech>
Date: Tuesday, August 06 2024 11:17:56 
DPDK git baseline: Repo:dpdk
  Branch: master
  CommitID:b3485f4293997d35b6daecc3437bb0c183a51fb3

142937-142942 --> testing pending

Upstream job id: Generic-DPDK-Compile-Meson#284961

Test environment and result as below:

+----------------------------------------+--------------------+
|              Environment               | dpdk_meson_compile |
+========================================+====================+
| RHEL9 (ARM)                            | PASS               |
+----------------------------------------+--------------------+
| Ubuntu 20.04 ARM GCC Cross Compile     | PASS               |
+----------------------------------------+--------------------+
| Fedora 39 (ARM)                        | PASS               |
+----------------------------------------+--------------------+
| Fedora 39 (ARM Clang)                  | PEND               |
+----------------------------------------+--------------------+
| Fedora 40 (ARM)                        | PASS               |
+----------------------------------------+--------------------+
| Debian 11 (Buster) (ARM)               | PASS               |
+----------------------------------------+--------------------+
| Fedora 40 (ARM Clang)                  | PEND               |
+----------------------------------------+--------------------+
| Ubuntu 20.04 ARM Clang Cross Compile   | PASS               |
+----------------------------------------+--------------------+
| Ubuntu 22.04 (ARM)                     | PASS               |
+----------------------------------------+--------------------+
| Ubuntu 24.04 (ARM)                     | PASS               |
+----------------------------------------+--------------------+
| Ubuntu 20.04 aarch32 GCC Cross Compile | PASS               |
+----------------------------------------+--------------------+
| CentOS Stream 9 (ARM)                  | PASS               |
+----------------------------------------+--------------------+


RHEL9 (ARM)
	Kernel: Depends on container host
	Compiler: gcc 11.4.1

Ubuntu 20.04 ARM GCC Cross Compile
	Kernel: 5.4.0-167-generic
	Compiler: aarch64-linux-gnu-gcc (Ubuntu 9.4.0-1ubuntu1~20.04.2) 9.4.0

Fedora 39 (ARM)
	Kernel: Depends on container host
	Compiler: gcc 13.2.1

Fedora 39 (ARM Clang)
	Kernel: Depends on container host
	Compiler: clang 17.0.6

Fedora 40 (ARM)
	Kernel: Depends on container host
	Compiler: gcc 14.1.1

Debian 11 (Buster) (ARM)
	Kernel: Container Host Kernel
	Compiler: gcc 10.2.1

Fedora 40 (ARM Clang)
	Kernel: Depends on container host
	Compiler: clang 18.1.6

Ubuntu 20.04 ARM Clang Cross Compile
	Kernel: 5.4.0-72-generic
	Compiler: clang 10.0.0-4ubuntu1

Ubuntu 22.04 (ARM)
	Kernel: Container Host Kernel
	Compiler: gcc 11.4.0

Ubuntu 24.04 (ARM)
	Kernel: 5.4.0-167-generic
	Compiler: gcc 13.2.0

Ubuntu 20.04 aarch32 GCC Cross Compile
	Kernel: 5.4.0-167-generic
	Compiler: gcc 9.4.0

CentOS Stream 9 (ARM)
	Kernel: Container Host Kernel
	Compiler: gcc 11.4.1

To view detailed results, visit:
https://lab.dpdk.org/results/dashboard/patchsets/30726/

UNH-IOL DPDK Community Lab

To manage your email subscriptions, visit: 
https://lab.dpdk.org/results/dashboard/preferences/subscriptions/