From mboxrd@z Thu Jan  1 00:00:00 1970
Return-Path: <test-report-bounces@dpdk.org>
Received: from mails.dpdk.org (mails.dpdk.org [217.70.189.124])
	by inbox.dpdk.org (Postfix) with ESMTP id E17FF4574E
	for <public@inbox.dpdk.org>; Tue,  6 Aug 2024 17:31:47 +0200 (CEST)
Received: from mails.dpdk.org (localhost [127.0.0.1])
	by mails.dpdk.org (Postfix) with ESMTP id DD7F540A89;
	Tue,  6 Aug 2024 17:31:47 +0200 (CEST)
Received: from mail-oo1-f97.google.com (mail-oo1-f97.google.com
 [209.85.161.97]) by mails.dpdk.org (Postfix) with ESMTP id 11AD340A6C
 for <test-report@dpdk.org>; Tue,  6 Aug 2024 17:31:45 +0200 (CEST)
Received: by mail-oo1-f97.google.com with SMTP id
 006d021491bc7-5cdf7edddc5so436540eaf.0
 for <test-report@dpdk.org>; Tue, 06 Aug 2024 08:31:45 -0700 (PDT)
DKIM-Signature: v=1; a=rsa-sha256; c=relaxed/relaxed;
 d=iol.unh.edu; s=unh-iol; t=1722958304; x=1723563104; darn=dpdk.org;
 h=references:in-reply-to:cc:to:from:subject:message-id:date:from:to
 :cc:subject:date:message-id:reply-to;
 bh=R1KBCkvUJP3MwqOAaUdoDBWOxiSJo9GFV27I4YQazzs=;
 b=KP+RlznxXy9V/FPzR3ECQVsI1nahBoXB9UlaayHjCJgxyJbFtmt2p6oQP7xZgLB4+g
 vnDSf8j9cx/U3cYqhd2Qbr4Z/3Lf3SL9dwN7jQVDbPSkkQkPyjhO3wYYkqSbG1Y3r0Ck
 L6TSNA8U9nfl2LLnbg03LWgWRqZbaCIKn61uU=
X-Google-DKIM-Signature: v=1; a=rsa-sha256; c=relaxed/relaxed;
 d=1e100.net; s=20230601; t=1722958304; x=1723563104;
 h=references:in-reply-to:cc:to:from:subject:message-id:date
 :x-gm-message-state:from:to:cc:subject:date:message-id:reply-to;
 bh=R1KBCkvUJP3MwqOAaUdoDBWOxiSJo9GFV27I4YQazzs=;
 b=GGAyWO4hps9erNKXwv5wb/VHL9jVszZg1Ng3kt/ajPjl7FkPUBUp81jq+RERE5m+KO
 3mtNEnTFZ8Lj1VCxWJNjaKAmVxjJtaCKmmc6UP8MUFWqeHDwmCg3NsuVvuVVMlP/wne8
 kK78JRr31yufj2uGV0m6AcCHSOrZ92sLggDX3SD3UFySKDvnIOmtizKqfkpEkdc/YjWJ
 Udv7a7nylzrG1IEZtcBLymGBl/FysXnw+vIoRrzWHlS1wvux+A3k6AeGaxgdiBC1f4Z2
 oMD0+RnsOVwwJfJeRwu8jtQRWsQAZNGTmsnVzOhBHrcHTLRTuZgaGR4Og1oc7U5Xw3AB
 +u0w==
X-Gm-Message-State: AOJu0YwUUf1SSuu5cS0+mKr5wDc5JUn1qyYDkbmr2EdCcABoQDqP068p
 5SZ9dnMhRp73fhw7KiDVV/EzxAs/p4rLu4XtgGb+l94D6Awnpr67Z3qi8x4o0wBhyt7BZpGWwC7
 T+FG//y4eFZpX3D82toBDqAoLrAPRdp81EkkL6lDc
X-Google-Smtp-Source: AGHT+IHzanofCZjujVp/+7GADqo5/MW+Y2eBufYdyHQFilc3D5pRfDn1kluUvwU5g6YgN3eQ26UEj22iIha6
X-Received: by 2002:a05:6820:2228:b0:5c4:57d:691e with SMTP id
 006d021491bc7-5d6636c7291mr17690969eaf.2.1722958304160; 
 Tue, 06 Aug 2024 08:31:44 -0700 (PDT)
Received: from postal.iol.unh.edu (postal.iol.unh.edu. [132.177.123.84])
 by smtp-relay.gmail.com with ESMTPS id
 006d021491bc7-5d75718adfasm495095eaf.5.2024.08.06.08.31.44
 (version=TLS1_2 cipher=ECDHE-ECDSA-AES128-GCM-SHA256 bits=128/128);
 Tue, 06 Aug 2024 08:31:44 -0700 (PDT)
X-Relaying-Domain: iol.unh.edu
Date: Tue, 06 Aug 2024 08:31:44 -0700 (PDT)
Message-ID: <66b241e0.050a0220.334163.08f1SMTPIN_ADDED_MISSING@mx.google.com>
Received: from [172.21.0.7] (unknown [172.18.0.240])
 by postal.iol.unh.edu (Postfix) with ESMTP id A04886050A6B;
 Tue,  6 Aug 2024 11:31:43 -0400 (EDT)
Subject: |PENDING| pw142930-142936 [PATCH] [v2,7/7] crypto/dpaa2_sec: rework 
From: dpdklab@iol.unh.edu
To: Test Report <test-report@dpdk.org>
Cc: dpdk-test-reports@iol.unh.edu
In-Reply-To: <20240806102732.3225536-8-g.singh@nxp.com>
References: <20240806102732.3225536-8-g.singh@nxp.com>
Content-Type: text/plain
X-BeenThere: test-report@dpdk.org
X-Mailman-Version: 2.1.29
Precedence: list
List-Id: automatic DPDK test reports <test-report.dpdk.org>
List-Unsubscribe: <https://mails.dpdk.org/options/test-report>,
 <mailto:test-report-request@dpdk.org?subject=unsubscribe>
List-Archive: <http://mails.dpdk.org/archives/test-report/>
List-Post: <mailto:test-report@dpdk.org>
List-Help: <mailto:test-report-request@dpdk.org?subject=help>
List-Subscribe: <https://mails.dpdk.org/listinfo/test-report>,
 <mailto:test-report-request@dpdk.org?subject=subscribe>
Errors-To: test-report-bounces@dpdk.org

Test-Label: iol-compile-amd64-testing
Test-Status: PENDING
http://dpdk.org/patch/142936

_Testing pending_

Submitter: Gagandeep Singh <g.singh@nxp.com>
Date: Tuesday, August 06 2024 10:27:32 
DPDK git baseline: Repo:dpdk
  Branch: master
  CommitID:b3485f4293997d35b6daecc3437bb0c183a51fb3

142930-142936 --> testing pending

Upstream job id: Generic-DPDK-Compile-Meson#284977

Test environment and result as below:

+---------------------+--------------------+------------------+-------------------+----------------------+
|     Environment     | dpdk_meson_compile | dpdk_compile_ovs | dpdk_compile_spdk | dpdk_mingw64_compile |
+=====================+====================+==================+===================+======================+
| CentOS Stream 9     | PASS               | PASS             | PASS              | SKIPPED              |
+---------------------+--------------------+------------------+-------------------+----------------------+
| Debian Bullseye     | PEND               | PEND             | PEND              | SKIPPED              |
+---------------------+--------------------+------------------+-------------------+----------------------+
| Debian 12           | PASS               | PASS             | PASS              | SKIPPED              |
+---------------------+--------------------+------------------+-------------------+----------------------+
| Fedora 38 (Clang)   | PEND               | PEND             | PEND              | SKIPPED              |
+---------------------+--------------------+------------------+-------------------+----------------------+
| Fedora 37           | PASS               | PASS             | PASS              | SKIPPED              |
+---------------------+--------------------+------------------+-------------------+----------------------+
| Fedora 38           | PASS               | PASS             | PASS              | SKIPPED              |
+---------------------+--------------------+------------------+-------------------+----------------------+
| Fedora 39           | PASS               | PASS             | PASS              | SKIPPED              |
+---------------------+--------------------+------------------+-------------------+----------------------+
| Fedora 39 (Clang)   | PEND               | PEND             | PEND              | SKIPPED              |
+---------------------+--------------------+------------------+-------------------+----------------------+
| Fedora 40           | PASS               | PASS             | PASS              | SKIPPED              |
+---------------------+--------------------+------------------+-------------------+----------------------+
| RHEL8               | PASS               | PASS             | SKIPPED           | SKIPPED              |
+---------------------+--------------------+------------------+-------------------+----------------------+
| openSUSE Leap 15    | PASS               | PASS             | SKIPPED           | SKIPPED              |
+---------------------+--------------------+------------------+-------------------+----------------------+
| RHEL9               | PASS               | PASS             | SKIPPED           | SKIPPED              |
+---------------------+--------------------+------------------+-------------------+----------------------+
| Fedora 40 (Clang)   | PEND               | PEND             | PEND              | SKIPPED              |
+---------------------+--------------------+------------------+-------------------+----------------------+
| Ubuntu 20.04        | PASS               | PASS             | SKIPPED           | SKIPPED              |
+---------------------+--------------------+------------------+-------------------+----------------------+
| Ubuntu 22.04        | PEND               | PEND             | PEND              | SKIPPED              |
+---------------------+--------------------+------------------+-------------------+----------------------+
| Ubuntu 24.04        | PEND               | PEND             | PEND              | SKIPPED              |
+---------------------+--------------------+------------------+-------------------+----------------------+
| Windows Server 2019 | PASS               | SKIPPED          | SKIPPED           | PASS                 |
+---------------------+--------------------+------------------+-------------------+----------------------+
| Windows Server 2022 | PASS               | SKIPPED          | SKIPPED           | PASS                 |
+---------------------+--------------------+------------------+-------------------+----------------------+
| Alpine              | PEND               | PEND             | SKIPPED           | SKIPPED              |
+---------------------+--------------------+------------------+-------------------+----------------------+
| FreeBSD 13.3        | PASS               | SKIPPED          | SKIPPED           | SKIPPED              |
+---------------------+--------------------+------------------+-------------------+----------------------+
| FreeBSD 14.1        | PASS               | SKIPPED          | SKIPPED           | SKIPPED              |
+---------------------+--------------------+------------------+-------------------+----------------------+


CentOS Stream 9
	Kernel: 5.4.0-167-generic
	Compiler: gcc 11.4.1 20230605

Debian Bullseye
	Kernel: 5.4.0-167-generic
	Compiler: gcc 10.2.1-6

Debian 12
	Kernel: Container Host Kernel
	Compiler: gcc 12.2.0

Fedora 38 (Clang)
	Kernel: Depends on container host
	Compiler: clang 16.0.6

Fedora 37
	Kernel: Depends on container host system
	Compiler: gcc 12.3.1

Fedora 38
	Kernel: Depends on container host
	Compiler: gcc 13.2.1

Fedora 39
	Kernel: Depends on container host
	Compiler: gcc 13.2.1

Fedora 39 (Clang)
	Kernel: Depends on container host
	Compiler: clang 17.0.6

Fedora 40
	Kernel: Depends on container host
	Compiler: gcc 14.1.1

RHEL8
	Kernel: 5.4.0-167-generic
	Compiler: gcc 8.5.0 20210514 (Red Hat 8.5.0-20)

openSUSE Leap 15
	Kernel: 5.4.0-167-generic
	Compiler: gcc 7.5.0

RHEL9
	Kernel: Depends on container host
	Compiler: gcc 11.4.1

Fedora 40 (Clang)
	Kernel: Depends on container host
	Compiler: clang 18.1.6

Ubuntu 20.04
	Kernel: 5.4.0-167-generic
	Compiler: gcc 9.4.0-1ubuntu1~20.04.1

Ubuntu 22.04
	Kernel: 5.4.0-167-generic
	Compiler: gcc 11.4.0

Ubuntu 24.04
	Kernel: 5.4.0-167-generic
	Compiler: gcc 13.2.0

Windows Server 2019
	Kernel: 10.0.17763
	Compiler: clang 14.0 and gcc 8.1.0 (MinGW)

Windows Server 2022
	Kernel: 10.0.20348.2031
	Compiler: clang 15.0.7, gcc 8.1.0 (MinGW), and MSVC VS 17.9

Alpine
	Kernel: 5.4.0-167-generic
	Compiler: gcc (Alpine 13.2.1_git20231014) 13.2.1 20231014

FreeBSD 13.3
	Kernel: 13.3-RELEASE-p1
	Compiler: clang 17.0.6

FreeBSD 14.1
	Kernel: 14.1
	Compiler: clang 18.1.5

To view detailed results, visit:
https://lab.dpdk.org/results/dashboard/patchsets/30725/

UNH-IOL DPDK Community Lab

To manage your email subscriptions, visit: 
https://lab.dpdk.org/results/dashboard/preferences/subscriptions/