From mboxrd@z Thu Jan  1 00:00:00 1970
Return-Path: <test-report-bounces@dpdk.org>
Received: from mails.dpdk.org (mails.dpdk.org [217.70.189.124])
	by inbox.dpdk.org (Postfix) with ESMTP id 799D94574E
	for <public@inbox.dpdk.org>; Tue,  6 Aug 2024 17:46:36 +0200 (CEST)
Received: from mails.dpdk.org (localhost [127.0.0.1])
	by mails.dpdk.org (Postfix) with ESMTP id 7619B40A6C;
	Tue,  6 Aug 2024 17:46:36 +0200 (CEST)
Received: from mail-pl1-f228.google.com (mail-pl1-f228.google.com
 [209.85.214.228])
 by mails.dpdk.org (Postfix) with ESMTP id 8CD2C406B6
 for <test-report@dpdk.org>; Tue,  6 Aug 2024 17:46:35 +0200 (CEST)
Received: by mail-pl1-f228.google.com with SMTP id
 d9443c01a7336-1fd66cddd4dso8917905ad.2
 for <test-report@dpdk.org>; Tue, 06 Aug 2024 08:46:35 -0700 (PDT)
DKIM-Signature: v=1; a=rsa-sha256; c=relaxed/relaxed;
 d=iol.unh.edu; s=unh-iol; t=1722959195; x=1723563995; darn=dpdk.org;
 h=references:in-reply-to:cc:to:from:subject:message-id:date:from:to
 :cc:subject:date:message-id:reply-to;
 bh=GTqQpYO62IgwIvVkDjnUkvz0JHwNrPYqUiBoBlWI5eM=;
 b=KInDe79pXPfLZgYHyQps6nmJXWVmts939rzKYBl0bVCkbBy2Qi+L9TBjc2digFTv0n
 tIBWm1ynU1GGC+y1XrAPdH+XEShcyVKifX0a5zo7darMgmt/BuEHYu4Ye1f4gx6Q0TDs
 pbFNjGVKr2ZBlpeilcISKbjVyi9gRXHSrnlGk=
X-Google-DKIM-Signature: v=1; a=rsa-sha256; c=relaxed/relaxed;
 d=1e100.net; s=20230601; t=1722959195; x=1723563995;
 h=references:in-reply-to:cc:to:from:subject:message-id:date
 :x-gm-message-state:from:to:cc:subject:date:message-id:reply-to;
 bh=GTqQpYO62IgwIvVkDjnUkvz0JHwNrPYqUiBoBlWI5eM=;
 b=aNsHRlMhrXW4fG5RASXo7j6lefm87L25GGBF3lFox0IkMUEi09BbyzEJyFsysIDUz1
 5atMaUlwm3ejr84IYqc5c4ISYgJ4sdkj55uRgkkZ6UQFrFO9ny6McQnaxNEvbKusGh4s
 UgvL1w9JUKxpjXsRoZga+C691IvuCZPNMvRhiNDl0yUSatkMkfr/3HeEpWh6KpJTOSny
 XW97KceyhRcB3cbmE+NqZtuWrFR5tczXro+YC6oGbtS3g/8oDltVKCXYJjHQLunB6bVE
 m/YdmxICUWScdJRGSt9k9eb15d9qgLZA3ORsPqg0lMKzs4l7FS40BX0JkpCKZ+QB1dVO
 y8QQ==
X-Gm-Message-State: AOJu0Ywk26NUrhV0bGkaEo+XiMf+oBi1KL/aWJFZuQsHh5aAtUJH4AEd
 q8ZE13hzy3LQcM5sB/X/eWss/jUeylDQ5UdkaGtEgfHxbFTjMW8SW/eIR73vqgC0g5FYbVkmyZ1
 rw7rxMMWQ+jVT1QlXfNUqIIJekKt8A8dAclBBIftk
X-Google-Smtp-Source: AGHT+IEvcLJIn6NBMQ/1YhmRPLHvegcDnm4fnQLCNY+cH127lcEMqfr6Z2kUlTGyvLGoFHXFw/skurkoF+WU
X-Received: by 2002:a17:902:e74b:b0:1fb:7e13:a7c5 with SMTP id
 d9443c01a7336-1ff573cc565mr207689735ad.45.1722959194745; 
 Tue, 06 Aug 2024 08:46:34 -0700 (PDT)
Received: from postal.iol.unh.edu (postal.iol.unh.edu. [132.177.123.84])
 by smtp-relay.gmail.com with ESMTPS id
 d9443c01a7336-1ff59295363sm7822615ad.144.2024.08.06.08.46.34
 (version=TLS1_2 cipher=ECDHE-ECDSA-AES128-GCM-SHA256 bits=128/128);
 Tue, 06 Aug 2024 08:46:34 -0700 (PDT)
X-Relaying-Domain: iol.unh.edu
Date: Tue, 06 Aug 2024 08:46:34 -0700 (PDT)
Message-ID: <66b2455a.170a0220.a434c.924eSMTPIN_ADDED_MISSING@mx.google.com>
Received: from [172.21.0.6] (unknown [172.18.0.240])
 by postal.iol.unh.edu (Postfix) with ESMTP id B334F605C30B;
 Tue,  6 Aug 2024 11:46:33 -0400 (EDT)
Subject: |PENDING| pw142930-142936 [PATCH] [v2,7/7] crypto/dpaa2_sec: rework 
From: dpdklab@iol.unh.edu
To: Test Report <test-report@dpdk.org>
Cc: dpdk-test-reports@iol.unh.edu
In-Reply-To: <20240806102732.3225536-8-g.singh@nxp.com>
References: <20240806102732.3225536-8-g.singh@nxp.com>
Content-Type: text/plain
X-BeenThere: test-report@dpdk.org
X-Mailman-Version: 2.1.29
Precedence: list
List-Id: automatic DPDK test reports <test-report.dpdk.org>
List-Unsubscribe: <https://mails.dpdk.org/options/test-report>,
 <mailto:test-report-request@dpdk.org?subject=unsubscribe>
List-Archive: <http://mails.dpdk.org/archives/test-report/>
List-Post: <mailto:test-report@dpdk.org>
List-Help: <mailto:test-report-request@dpdk.org?subject=help>
List-Subscribe: <https://mails.dpdk.org/listinfo/test-report>,
 <mailto:test-report-request@dpdk.org?subject=subscribe>
Errors-To: test-report-bounces@dpdk.org

Test-Label: iol-unit-amd64-testing
Test-Status: PENDING
http://dpdk.org/patch/142936

_Testing pending_

Submitter: Gagandeep Singh <g.singh@nxp.com>
Date: Tuesday, August 06 2024 10:27:32 
DPDK git baseline: Repo:dpdk
  Branch: master
  CommitID:b3485f4293997d35b6daecc3437bb0c183a51fb3

142930-142936 --> testing pending

Upstream job id: Generic-Unit-Test-DPDK#249214

Test environment and result as below:

+-------------------+----------------+
|    Environment    | dpdk_unit_test |
+===================+================+
| CentOS Stream 9   | PASS           |
+-------------------+----------------+
| Debian Bullseye   | PASS           |
+-------------------+----------------+
| Debian 12         | PASS           |
+-------------------+----------------+
| Fedora 37         | PASS           |
+-------------------+----------------+
| Fedora 38         | PASS           |
+-------------------+----------------+
| Fedora 38 (Clang) | PEND           |
+-------------------+----------------+
| Fedora 39         | PASS           |
+-------------------+----------------+
| Fedora 39 (Clang) | PEND           |
+-------------------+----------------+
| Fedora 40         | PEND           |
+-------------------+----------------+
| Fedora 40 (Clang) | PEND           |
+-------------------+----------------+
| openSUSE Leap 15  | PEND           |
+-------------------+----------------+
| RHEL9             | PEND           |
+-------------------+----------------+
| RHEL8             | PEND           |
+-------------------+----------------+
| Ubuntu 20.04      | PEND           |
+-------------------+----------------+
| Ubuntu 22.04      | PEND           |
+-------------------+----------------+
| Ubuntu 24.04      | PEND           |
+-------------------+----------------+


CentOS Stream 9
	Kernel: 5.4.0-167-generic
	Compiler: gcc 11.4.1 20230605

Debian Bullseye
	Kernel: 5.4.0-167-generic
	Compiler: gcc 10.2.1-6

Debian 12
	Kernel: Container Host Kernel
	Compiler: gcc 12.2.0

Fedora 37
	Kernel: Depends on container host system
	Compiler: gcc 12.3.1

Fedora 38
	Kernel: Depends on container host
	Compiler: gcc 13.2.1

Fedora 38 (Clang)
	Kernel: Depends on container host
	Compiler: clang 16.0.6

Fedora 39
	Kernel: Depends on container host
	Compiler: gcc 13.2.1

Fedora 39 (Clang)
	Kernel: Depends on container host
	Compiler: clang 17.0.6

Fedora 40
	Kernel: Depends on container host
	Compiler: gcc 14.1.1

Fedora 40 (Clang)
	Kernel: Depends on container host
	Compiler: clang 18.1.6

openSUSE Leap 15
	Kernel: 5.4.0-167-generic
	Compiler: gcc 7.5.0

RHEL9
	Kernel: Depends on container host
	Compiler: gcc 11.4.1

RHEL8
	Kernel: 5.4.0-167-generic
	Compiler: gcc 8.5.0 20210514 (Red Hat 8.5.0-20)

Ubuntu 20.04
	Kernel: 5.4.0-167-generic
	Compiler: gcc 9.4.0-1ubuntu1~20.04.1

Ubuntu 22.04
	Kernel: 5.4.0-167-generic
	Compiler: gcc 11.4.0

Ubuntu 24.04
	Kernel: 5.4.0-167-generic
	Compiler: gcc 13.2.0

To view detailed results, visit:
https://lab.dpdk.org/results/dashboard/patchsets/30725/

UNH-IOL DPDK Community Lab

To manage your email subscriptions, visit: 
https://lab.dpdk.org/results/dashboard/preferences/subscriptions/