From mboxrd@z Thu Jan  1 00:00:00 1970
Return-Path: <test-report-bounces@dpdk.org>
Received: from mails.dpdk.org (mails.dpdk.org [217.70.189.124])
	by inbox.dpdk.org (Postfix) with ESMTP id 010A445751
	for <public@inbox.dpdk.org>; Tue,  6 Aug 2024 18:02:51 +0200 (CEST)
Received: from mails.dpdk.org (localhost [127.0.0.1])
	by mails.dpdk.org (Postfix) with ESMTP id EDDC540685;
	Tue,  6 Aug 2024 18:02:51 +0200 (CEST)
Received: from mail-qt1-f228.google.com (mail-qt1-f228.google.com
 [209.85.160.228])
 by mails.dpdk.org (Postfix) with ESMTP id D867640270
 for <test-report@dpdk.org>; Tue,  6 Aug 2024 18:02:50 +0200 (CEST)
Received: by mail-qt1-f228.google.com with SMTP id
 d75a77b69052e-45019dccc3aso4785481cf.1
 for <test-report@dpdk.org>; Tue, 06 Aug 2024 09:02:50 -0700 (PDT)
DKIM-Signature: v=1; a=rsa-sha256; c=relaxed/relaxed;
 d=iol.unh.edu; s=unh-iol; t=1722960170; x=1723564970; darn=dpdk.org;
 h=references:in-reply-to:cc:to:from:subject:message-id:date:from:to
 :cc:subject:date:message-id:reply-to;
 bh=ksTEvlHG831lpTEUio/sa0N35OQ9pBNDO8TEL0frPjw=;
 b=dm25nz4awDFwcJLcO2VMCQRicZTESAUnFwRkAFEmp1y1asMFkkXH3CY2/JusBAl7cE
 TfsMg0hEASMosOEtMsNCQwpW/1ssYHY/1R0JaC8kni5oigx5Dh1Gjxblc1KDZThqg8Ob
 +db8+8HhxfuCNhAS40Ca5aODlM1HdcDhjOLRI=
X-Google-DKIM-Signature: v=1; a=rsa-sha256; c=relaxed/relaxed;
 d=1e100.net; s=20230601; t=1722960170; x=1723564970;
 h=references:in-reply-to:cc:to:from:subject:message-id:date
 :x-gm-message-state:from:to:cc:subject:date:message-id:reply-to;
 bh=ksTEvlHG831lpTEUio/sa0N35OQ9pBNDO8TEL0frPjw=;
 b=vaNuGPErHW28Hw44J1Fiqfo8f/jjciJR1Wf/kMDsyheSZ2ERJCkm91gRgihz8/jSDU
 MycoTi27yua5NLbLihJ2qCZapAVUlYLas8JLGEaFGS+3sYJnqEma+bibIcLDHu7g5ZEp
 X01PB6nSWlC7WHgcZ5E1hYmF1GkxVxSxhWTs9nSzCnuZB1msLLOc8uLk4AlCdE1mwPFF
 WbkTrlNcDHqUvvUNJMwtDDU46tKQPQtq8scHYGbDwqxUkwPbPyQDv+omF8EN4qnDuZ6J
 d5Ya5egkKx6uKmkEu+SHBNH83VJRkqP0XiQJ2ttB56XcIpFRhA9fXOfAYIHlEWvBwxWf
 qNaw==
X-Gm-Message-State: AOJu0YxHvcv5FMyVWim6QAkZEnF0rGWtzB5gvwn0FitktcJd7bI6Lwg+
 U94zjwZYAdcswyX/lFJ4qsvKD8x/O2ncjAALR+DKLq6Hx7asZiv9luRCeQwqIc4IPtj43drcB1n
 wa3+OgbfJSFfuVuQxPq8b4T4xJChoD/BKTlX+Nbhc
X-Google-Smtp-Source: AGHT+IFxVSa/RYlvDBBCKl6dM/7OrHClCEKZekQ8aUbGBJKLMgEOJI0Xjco3pEP5wLuT7ZiLeB2haatRx3dc
X-Received: by 2002:a05:622a:22a7:b0:451:a06b:ac90 with SMTP id
 d75a77b69052e-451a06bbdd4mr137163341cf.31.1722960169926; 
 Tue, 06 Aug 2024 09:02:49 -0700 (PDT)
Received: from postal.iol.unh.edu (postal.iol.unh.edu. [132.177.123.84])
 by smtp-relay.gmail.com with ESMTPS id
 d75a77b69052e-4518a6c472esm7801831cf.3.2024.08.06.09.02.49
 (version=TLS1_2 cipher=ECDHE-ECDSA-AES128-GCM-SHA256 bits=128/128);
 Tue, 06 Aug 2024 09:02:49 -0700 (PDT)
X-Relaying-Domain: iol.unh.edu
Date: Tue, 06 Aug 2024 09:02:49 -0700 (PDT)
Message-ID: <66b24929.c80a0220.218ffd.9931SMTPIN_ADDED_MISSING@mx.google.com>
Received: from [172.21.0.6] (unknown [172.18.0.240])
 by postal.iol.unh.edu (Postfix) with ESMTP id 98EA4605C351;
 Tue,  6 Aug 2024 12:02:49 -0400 (EDT)
Subject: |SUCCESS| pw142930-142936 [PATCH] [v2,7/7] crypto/dpaa2_sec: rework 
From: dpdklab@iol.unh.edu
To: Test Report <test-report@dpdk.org>
Cc: dpdk-test-reports@iol.unh.edu
In-Reply-To: <20240806102732.3225536-8-g.singh@nxp.com>
References: <20240806102732.3225536-8-g.singh@nxp.com>
Content-Type: text/plain
X-BeenThere: test-report@dpdk.org
X-Mailman-Version: 2.1.29
Precedence: list
List-Id: automatic DPDK test reports <test-report.dpdk.org>
List-Unsubscribe: <https://mails.dpdk.org/options/test-report>,
 <mailto:test-report-request@dpdk.org?subject=unsubscribe>
List-Archive: <http://mails.dpdk.org/archives/test-report/>
List-Post: <mailto:test-report@dpdk.org>
List-Help: <mailto:test-report-request@dpdk.org?subject=help>
List-Subscribe: <https://mails.dpdk.org/listinfo/test-report>,
 <mailto:test-report-request@dpdk.org?subject=subscribe>
Errors-To: test-report-bounces@dpdk.org

Test-Label: iol-unit-amd64-testing
Test-Status: SUCCESS
http://dpdk.org/patch/142936

_Testing PASS_

Submitter: Gagandeep Singh <g.singh@nxp.com>
Date: Tuesday, August 06 2024 10:27:32 
DPDK git baseline: Repo:dpdk
  Branch: master
  CommitID:b3485f4293997d35b6daecc3437bb0c183a51fb3

142930-142936 --> testing pass

Upstream job id: Generic-Unit-Test-DPDK#249226

Test environment and result as below:

+-------------------+----------------+
|    Environment    | dpdk_unit_test |
+===================+================+
| CentOS Stream 9   | PASS           |
+-------------------+----------------+
| Debian Bullseye   | PASS           |
+-------------------+----------------+
| Debian 12         | PASS           |
+-------------------+----------------+
| Fedora 37         | PASS           |
+-------------------+----------------+
| Fedora 38         | PASS           |
+-------------------+----------------+
| Fedora 38 (Clang) | PASS           |
+-------------------+----------------+
| Fedora 39         | PASS           |
+-------------------+----------------+
| Fedora 39 (Clang) | PASS           |
+-------------------+----------------+
| Fedora 40         | PASS           |
+-------------------+----------------+
| Fedora 40 (Clang) | PASS           |
+-------------------+----------------+
| openSUSE Leap 15  | PASS           |
+-------------------+----------------+
| RHEL9             | PASS           |
+-------------------+----------------+
| RHEL8             | PASS           |
+-------------------+----------------+
| Ubuntu 20.04      | PASS           |
+-------------------+----------------+
| Ubuntu 22.04      | PASS           |
+-------------------+----------------+
| Ubuntu 24.04      | PASS           |
+-------------------+----------------+


CentOS Stream 9
	Kernel: 5.4.0-167-generic
	Compiler: gcc 11.4.1 20230605

Debian Bullseye
	Kernel: 5.4.0-167-generic
	Compiler: gcc 10.2.1-6

Debian 12
	Kernel: Container Host Kernel
	Compiler: gcc 12.2.0

Fedora 37
	Kernel: Depends on container host system
	Compiler: gcc 12.3.1

Fedora 38
	Kernel: Depends on container host
	Compiler: gcc 13.2.1

Fedora 38 (Clang)
	Kernel: Depends on container host
	Compiler: clang 16.0.6

Fedora 39
	Kernel: Depends on container host
	Compiler: gcc 13.2.1

Fedora 39 (Clang)
	Kernel: Depends on container host
	Compiler: clang 17.0.6

Fedora 40
	Kernel: Depends on container host
	Compiler: gcc 14.1.1

Fedora 40 (Clang)
	Kernel: Depends on container host
	Compiler: clang 18.1.6

openSUSE Leap 15
	Kernel: 5.4.0-167-generic
	Compiler: gcc 7.5.0

RHEL9
	Kernel: Depends on container host
	Compiler: gcc 11.4.1

RHEL8
	Kernel: 5.4.0-167-generic
	Compiler: gcc 8.5.0 20210514 (Red Hat 8.5.0-20)

Ubuntu 20.04
	Kernel: 5.4.0-167-generic
	Compiler: gcc 9.4.0-1ubuntu1~20.04.1

Ubuntu 22.04
	Kernel: 5.4.0-167-generic
	Compiler: gcc 11.4.0

Ubuntu 24.04
	Kernel: 5.4.0-167-generic
	Compiler: gcc 13.2.0

To view detailed results, visit:
https://lab.dpdk.org/results/dashboard/patchsets/30725/

UNH-IOL DPDK Community Lab

To manage your email subscriptions, visit: 
https://lab.dpdk.org/results/dashboard/preferences/subscriptions/