From mboxrd@z Thu Jan  1 00:00:00 1970
Return-Path: <test-report-bounces@dpdk.org>
Received: from mails.dpdk.org (mails.dpdk.org [217.70.189.124])
	by inbox.dpdk.org (Postfix) with ESMTP id 9C11945751
	for <public@inbox.dpdk.org>; Tue,  6 Aug 2024 18:27:24 +0200 (CEST)
Received: from mails.dpdk.org (localhost [127.0.0.1])
	by mails.dpdk.org (Postfix) with ESMTP id 974F940685;
	Tue,  6 Aug 2024 18:27:24 +0200 (CEST)
Received: from mail-pf1-f227.google.com (mail-pf1-f227.google.com
 [209.85.210.227])
 by mails.dpdk.org (Postfix) with ESMTP id 7760C40270
 for <test-report@dpdk.org>; Tue,  6 Aug 2024 18:27:22 +0200 (CEST)
Received: by mail-pf1-f227.google.com with SMTP id
 d2e1a72fcca58-70d316f0060so2154b3a.1
 for <test-report@dpdk.org>; Tue, 06 Aug 2024 09:27:22 -0700 (PDT)
DKIM-Signature: v=1; a=rsa-sha256; c=relaxed/relaxed;
 d=iol.unh.edu; s=unh-iol; t=1722961641; x=1723566441; darn=dpdk.org;
 h=references:in-reply-to:cc:to:from:subject:message-id:date:from:to
 :cc:subject:date:message-id:reply-to;
 bh=eOoygpCIt0GQBSYqt9DzRfglDg89l7qvjJxGGaZQdRw=;
 b=dGaTyvSTX9aIKRs5JdLCq07t6xcBXRA0LjgAablJvBLomWzvOON5C8s2qArNWZqRGX
 rkntESt1r5pt2YiVLpbRshRDXT9ZnTIYt/1Tz0NGwSwQ+P9sxPOYGGePgrg8MOc2R3n4
 9W5LIaVLgT/gPidU5JSQ8jo3t+UC7pTl6xc9k=
X-Google-DKIM-Signature: v=1; a=rsa-sha256; c=relaxed/relaxed;
 d=1e100.net; s=20230601; t=1722961641; x=1723566441;
 h=references:in-reply-to:cc:to:from:subject:message-id:date
 :x-gm-message-state:from:to:cc:subject:date:message-id:reply-to;
 bh=eOoygpCIt0GQBSYqt9DzRfglDg89l7qvjJxGGaZQdRw=;
 b=MBB4PfF2abtAJ6yd3bAm80ELPhz/KVQ7SnMzlZsjiLhfSPInVvu+DzUfW/Vx0t+hya
 MRW35dM07nnZcbwYTxnk3MBtwI7bqKVCj4I2AVpGfLslG1NnKaF9KSvPHKam/2DrOzaL
 YiWhvHHV7iaclrQordxoqZhz4pmP1c5l4BLZZkb57Sjbp4sO78xfo6GfDchjqmgQhmbG
 huU34jGmmT5pieSFTAqF3zwA+w8tel7+gAhlz+hX7yAhU/1GB5aBPPAr1PzYOLTlz6Yv
 HVN7lc5gxtbofTuhAwDsAbuW7lMMGuAWNYI3h/xN+qpoggcgGs85oaGIVvVkXKXJQ4y4
 wLcA==
X-Gm-Message-State: AOJu0Yz36r1WdN0TIlYZKJ+Y3TJDdIhlKGvrqpyw7QLWnen9ySeq45ND
 tpTbbQwZeMd2uqDO9xZrnaupqr/0XQLAphdLiVFC/SmHMf5Rytr+4rKMmP4iVmDjROSMx9pekbM
 tHooesAk2ahkYBEQhz8YBIfvm/5oYD0GEFRFeFrMvgQkEWar/ijRhYxuK
X-Google-Smtp-Source: AGHT+IHwqInRNt2Cc8A5QQlO0Wkdw/P3ckDj5jaCQQ7wqpvnztBXXClMh7FTwohlSOiPRAEnXQFZw5KVIxYD
X-Received: by 2002:a17:903:1209:b0:1f4:a04e:8713 with SMTP id
 d9443c01a7336-1ff57f062b9mr278779165ad.28.1722961641613; 
 Tue, 06 Aug 2024 09:27:21 -0700 (PDT)
Received: from postal.iol.unh.edu (postal.iol.unh.edu.
 [2606:4100:3880:1234::84]) by smtp-relay.gmail.com with ESMTPS id
 d9443c01a7336-1ff58f5a536sm7942115ad.48.2024.08.06.09.27.21
 (version=TLS1_2 cipher=ECDHE-ECDSA-AES128-GCM-SHA256 bits=128/128);
 Tue, 06 Aug 2024 09:27:21 -0700 (PDT)
X-Relaying-Domain: iol.unh.edu
Date: Tue, 06 Aug 2024 09:27:21 -0700 (PDT)
Message-ID: <66b24ee9.170a0220.108983.a1edSMTPIN_ADDED_MISSING@mx.google.com>
Received: from [172.21.0.7] (unknown [172.18.0.240])
 by postal.iol.unh.edu (Postfix) with ESMTP id BC3C0605C351;
 Tue,  6 Aug 2024 12:27:20 -0400 (EDT)
Subject: |PENDING| pw142955-142957 [PATCH] [v1,3/3] meson: skip symlinks to P
From: dpdklab@iol.unh.edu
To: Test Report <test-report@dpdk.org>
Cc: dpdk-test-reports@iol.unh.edu
In-Reply-To: <20240806134218.3619913-4-g.singh@nxp.com>
References: <20240806134218.3619913-4-g.singh@nxp.com>
Content-Type: text/plain
X-BeenThere: test-report@dpdk.org
X-Mailman-Version: 2.1.29
Precedence: list
List-Id: automatic DPDK test reports <test-report.dpdk.org>
List-Unsubscribe: <https://mails.dpdk.org/options/test-report>,
 <mailto:test-report-request@dpdk.org?subject=unsubscribe>
List-Archive: <http://mails.dpdk.org/archives/test-report/>
List-Post: <mailto:test-report@dpdk.org>
List-Help: <mailto:test-report-request@dpdk.org?subject=help>
List-Subscribe: <https://mails.dpdk.org/listinfo/test-report>,
 <mailto:test-report-request@dpdk.org?subject=subscribe>
Errors-To: test-report-bounces@dpdk.org

Test-Label: iol-abi-testing
Test-Status: PENDING
http://dpdk.org/patch/142957

_Testing pending_

Submitter: Gagandeep Singh <g.singh@nxp.com>
Date: Tuesday, August 06 2024 13:42:18 
DPDK git baseline: Repo:dpdk
  Branch: master
  CommitID:76fa7797c09d5b6bb4aaed8a8f48a3afd6fb2548

142955-142957 --> testing pending

Upstream job id: Generic-DPDK-Compile-ABI#101898

Test environment and result as below:

+-------------------+----------+
|    Environment    | abi_test |
+===================+==========+
| CentOS Stream 9   | PASS     |
+-------------------+----------+
| Debian Bullseye   | PASS     |
+-------------------+----------+
| Debian 12         | PEND     |
+-------------------+----------+
| Fedora 38         | PEND     |
+-------------------+----------+
| Fedora 38 (Clang) | PEND     |
+-------------------+----------+
| Fedora 37         | PEND     |
+-------------------+----------+
| Fedora 39 (Clang) | PASS     |
+-------------------+----------+
| Fedora 40 (Clang) | PEND     |
+-------------------+----------+
| Fedora 39         | PEND     |
+-------------------+----------+
| Fedora 40         | PEND     |
+-------------------+----------+
| openSUSE Leap 15  | PEND     |
+-------------------+----------+
| RHEL9             | PEND     |
+-------------------+----------+
| Ubuntu 22.04      | PEND     |
+-------------------+----------+
| RHEL8             | PEND     |
+-------------------+----------+
| Ubuntu 24.04      | PEND     |
+-------------------+----------+


CentOS Stream 9
	Kernel: 5.4.0-167-generic
	Compiler: gcc 11.4.1 20230605

Debian Bullseye
	Kernel: 5.4.0-167-generic
	Compiler: gcc 10.2.1-6

Debian 12
	Kernel: Container Host Kernel
	Compiler: gcc 12.2.0

Fedora 38
	Kernel: Depends on container host
	Compiler: gcc 13.2.1

Fedora 38 (Clang)
	Kernel: Depends on container host
	Compiler: clang 16.0.6

Fedora 37
	Kernel: Depends on container host system
	Compiler: gcc 12.3.1

Fedora 39 (Clang)
	Kernel: Depends on container host
	Compiler: clang 17.0.6

Fedora 40 (Clang)
	Kernel: Depends on container host
	Compiler: clang 18.1.6

Fedora 39
	Kernel: Depends on container host
	Compiler: gcc 13.2.1

Fedora 40
	Kernel: Depends on container host
	Compiler: gcc 14.1.1

openSUSE Leap 15
	Kernel: 5.4.0-167-generic
	Compiler: gcc 7.5.0

RHEL9
	Kernel: Depends on container host
	Compiler: gcc 11.4.1

Ubuntu 22.04
	Kernel: 5.4.0-167-generic
	Compiler: gcc 11.4.0

RHEL8
	Kernel: 5.4.0-167-generic
	Compiler: gcc 8.5.0 20210514 (Red Hat 8.5.0-20)

Ubuntu 24.04
	Kernel: 5.4.0-167-generic
	Compiler: gcc 13.2.0

To view detailed results, visit:
https://lab.dpdk.org/results/dashboard/patchsets/30731/

UNH-IOL DPDK Community Lab

To manage your email subscriptions, visit: 
https://lab.dpdk.org/results/dashboard/preferences/subscriptions/