From mboxrd@z Thu Jan  1 00:00:00 1970
Return-Path: <test-report-bounces@dpdk.org>
Received: from mails.dpdk.org (mails.dpdk.org [217.70.189.124])
	by inbox.dpdk.org (Postfix) with ESMTP id 0FA0045751
	for <public@inbox.dpdk.org>; Tue,  6 Aug 2024 19:05:19 +0200 (CEST)
Received: from mails.dpdk.org (localhost [127.0.0.1])
	by mails.dpdk.org (Postfix) with ESMTP id 0A10240685;
	Tue,  6 Aug 2024 19:05:19 +0200 (CEST)
Received: from mail-io1-f97.google.com (mail-io1-f97.google.com
 [209.85.166.97]) by mails.dpdk.org (Postfix) with ESMTP id E33B840270
 for <test-report@dpdk.org>; Tue,  6 Aug 2024 19:05:17 +0200 (CEST)
Received: by mail-io1-f97.google.com with SMTP id
 ca18e2360f4ac-81fda7d7a48so29849539f.3
 for <test-report@dpdk.org>; Tue, 06 Aug 2024 10:05:17 -0700 (PDT)
DKIM-Signature: v=1; a=rsa-sha256; c=relaxed/relaxed;
 d=iol.unh.edu; s=unh-iol; t=1722963917; x=1723568717; darn=dpdk.org;
 h=references:in-reply-to:cc:to:from:subject:message-id:date:from:to
 :cc:subject:date:message-id:reply-to;
 bh=jfNpsM219W0LM10BsRXd5TKMxL/wBDzn2jaHzQI5qZA=;
 b=hVvNksBiQ19QNUuAAe0MWR9/JNiHcF8ckjiiK0u28qkCnDv0xX5v6NAr+QKXOT76Uq
 LiD5xlq6YxPxFA9ZDE8Ozg4Z+3XaZ3sVb/Ly5KKmDB7j8sbirIfVMuzUd2orvr7NnAju
 UrlHsISq4nKMGAzd6+9VW7bTSsO/9LfBZPAr4=
X-Google-DKIM-Signature: v=1; a=rsa-sha256; c=relaxed/relaxed;
 d=1e100.net; s=20230601; t=1722963917; x=1723568717;
 h=references:in-reply-to:cc:to:from:subject:message-id:date
 :x-gm-message-state:from:to:cc:subject:date:message-id:reply-to;
 bh=jfNpsM219W0LM10BsRXd5TKMxL/wBDzn2jaHzQI5qZA=;
 b=qI+i4b9am/fQO4Wz8dA9q1XDnL2lBrOutbX3rSOMopgVhkiLwHe0cWRVkhyB+wQSgj
 TmsphOTm/ExId76YnslLprs9I6rxFa9S6Gii61DRBAgWpWyHCv8BiEiuMgvPHrLK6cIa
 2i4TTIfltegaQyalNSBY4GE51OIZU2CDiHaY2K3KuaQYReg+3rGpqNvjsFIZdDLHBYwU
 EV6GGJ0hmFXB2fm5IvSa7bm4VlEnh7bzEX0Uvws9j+r82RjqEe90tdjKpnkfec+NheVK
 pPy/hhFe/HGwO6KYsB52o9bE56f0Y4MtG3kOH4sksCQ/DClvJV8SznOVV7Slxegr4A/+
 NJ8g==
X-Gm-Message-State: AOJu0YzQc7xTIpUE2b2nGDwUvcIa8jtsqswlrRgcwHOP92YOIxHwSfbf
 nnOBFzfe4hXyaDb7Zz30FlwvhLqYWxWNJIujFDSSRXQW7R3+d9i2MLou1ILi8mHjjJSB7DDVOb9
 UDXCwEJGPeE3AEVIIYE2ztsY0i16J0xmQ53NNdbJyiq/9NN96CtC2QNre
X-Google-Smtp-Source: AGHT+IHarttSZv/bLPZwtOx03wnOubWPiAKfyx79Ytq/ursSoj6sF6Srmg3VXdXO8G7HNb8UK9xsgKnxKgev
X-Received: by 2002:a05:6602:1512:b0:7f6:4c4d:5dd4 with SMTP id
 ca18e2360f4ac-81fd43e4cb8mr1890171239f.14.1722963917150; 
 Tue, 06 Aug 2024 10:05:17 -0700 (PDT)
Received: from postal.iol.unh.edu (postal.iol.unh.edu.
 [2606:4100:3880:1234::84]) by smtp-relay.gmail.com with ESMTPS id
 8926c6da1cb9f-4c8d69e3949sm354422173.39.2024.08.06.10.05.17
 (version=TLS1_2 cipher=ECDHE-ECDSA-AES128-GCM-SHA256 bits=128/128);
 Tue, 06 Aug 2024 10:05:17 -0700 (PDT)
X-Relaying-Domain: iol.unh.edu
Date: Tue, 06 Aug 2024 10:05:17 -0700 (PDT)
Message-ID: <66b257cd.020a0220.135484.ddd4SMTPIN_ADDED_MISSING@mx.google.com>
Received: from [172.21.0.6] (unknown [172.18.0.240])
 by postal.iol.unh.edu (Postfix) with ESMTP id 9967F605C351;
 Tue,  6 Aug 2024 13:05:16 -0400 (EDT)
Subject: |PENDING| pw142954 [PATCH] dts: add l2fwd test suite
From: dpdklab@iol.unh.edu
To: Test Report <test-report@dpdk.org>
Cc: dpdk-test-reports@iol.unh.edu
In-Reply-To: <20240806125140.2582859-1-luca.vizzarro@arm.com>
References: <20240806125140.2582859-1-luca.vizzarro@arm.com>
Content-Type: text/plain
X-BeenThere: test-report@dpdk.org
X-Mailman-Version: 2.1.29
Precedence: list
List-Id: automatic DPDK test reports <test-report.dpdk.org>
List-Unsubscribe: <https://mails.dpdk.org/options/test-report>,
 <mailto:test-report-request@dpdk.org?subject=unsubscribe>
List-Archive: <http://mails.dpdk.org/archives/test-report/>
List-Post: <mailto:test-report@dpdk.org>
List-Help: <mailto:test-report-request@dpdk.org?subject=help>
List-Subscribe: <https://mails.dpdk.org/listinfo/test-report>,
 <mailto:test-report-request@dpdk.org?subject=subscribe>
Errors-To: test-report-bounces@dpdk.org

Test-Label: iol-abi-testing
Test-Status: PENDING
http://dpdk.org/patch/142954

_Testing pending_

Submitter: Luca Vizzarro <luca.vizzarro@arm.com>
Date: Tuesday, August 06 2024 12:51:40 
DPDK git baseline: Repo:dpdk
  Branch: master
  CommitID:b3485f4293997d35b6daecc3437bb0c183a51fb3

142954 --> testing pending

Upstream job id: Generic-DPDK-Compile-ABI#101910

Test environment and result as below:

+-------------------+----------+
|    Environment    | abi_test |
+===================+==========+
| CentOS Stream 9   | PASS     |
+-------------------+----------+
| Debian 12         | PASS     |
+-------------------+----------+
| Fedora 38 (Clang) | PASS     |
+-------------------+----------+
| Fedora 38         | PEND     |
+-------------------+----------+
| Fedora 39 (Clang) | PASS     |
+-------------------+----------+
| Fedora 37         | PASS     |
+-------------------+----------+
| Fedora 39         | PASS     |
+-------------------+----------+
| openSUSE Leap 15  | PASS     |
+-------------------+----------+
| Fedora 40         | PEND     |
+-------------------+----------+
| Fedora 40 (Clang) | PEND     |
+-------------------+----------+
| RHEL8             | PEND     |
+-------------------+----------+
| Ubuntu 24.04      | PEND     |
+-------------------+----------+
| Ubuntu 22.04      | PASS     |
+-------------------+----------+
| RHEL9             | PASS     |
+-------------------+----------+
| Debian Bullseye   | PEND     |
+-------------------+----------+


CentOS Stream 9
	Kernel: 5.4.0-167-generic
	Compiler: gcc 11.4.1 20230605

Debian 12
	Kernel: Container Host Kernel
	Compiler: gcc 12.2.0

Fedora 38 (Clang)
	Kernel: Depends on container host
	Compiler: clang 16.0.6

Fedora 38
	Kernel: Depends on container host
	Compiler: gcc 13.2.1

Fedora 39 (Clang)
	Kernel: Depends on container host
	Compiler: clang 17.0.6

Fedora 37
	Kernel: Depends on container host system
	Compiler: gcc 12.3.1

Fedora 39
	Kernel: Depends on container host
	Compiler: gcc 13.2.1

openSUSE Leap 15
	Kernel: 5.4.0-167-generic
	Compiler: gcc 7.5.0

Fedora 40
	Kernel: Depends on container host
	Compiler: gcc 14.1.1

Fedora 40 (Clang)
	Kernel: Depends on container host
	Compiler: clang 18.1.6

RHEL8
	Kernel: 5.4.0-167-generic
	Compiler: gcc 8.5.0 20210514 (Red Hat 8.5.0-20)

Ubuntu 24.04
	Kernel: 5.4.0-167-generic
	Compiler: gcc 13.2.0

Ubuntu 22.04
	Kernel: 5.4.0-167-generic
	Compiler: gcc 11.4.0

RHEL9
	Kernel: Depends on container host
	Compiler: gcc 11.4.1

Debian Bullseye
	Kernel: 5.4.0-167-generic
	Compiler: gcc 10.2.1-6

To view detailed results, visit:
https://lab.dpdk.org/results/dashboard/patchsets/30730/

UNH-IOL DPDK Community Lab

To manage your email subscriptions, visit: 
https://lab.dpdk.org/results/dashboard/preferences/subscriptions/