From mboxrd@z Thu Jan  1 00:00:00 1970
Return-Path: <test-report-bounces@dpdk.org>
Received: from mails.dpdk.org (mails.dpdk.org [217.70.189.124])
	by inbox.dpdk.org (Postfix) with ESMTP id 9F3CC45751
	for <public@inbox.dpdk.org>; Tue,  6 Aug 2024 19:12:38 +0200 (CEST)
Received: from mails.dpdk.org (localhost [127.0.0.1])
	by mails.dpdk.org (Postfix) with ESMTP id 9CA4140685;
	Tue,  6 Aug 2024 19:12:38 +0200 (CEST)
Received: from mail-qv1-f100.google.com (mail-qv1-f100.google.com
 [209.85.219.100])
 by mails.dpdk.org (Postfix) with ESMTP id 5FD8A40270
 for <test-report@dpdk.org>; Tue,  6 Aug 2024 19:12:37 +0200 (CEST)
Received: by mail-qv1-f100.google.com with SMTP id
 6a1803df08f44-6b7a0ef0e75so4912946d6.1
 for <test-report@dpdk.org>; Tue, 06 Aug 2024 10:12:37 -0700 (PDT)
DKIM-Signature: v=1; a=rsa-sha256; c=relaxed/relaxed;
 d=iol.unh.edu; s=unh-iol; t=1722964357; x=1723569157; darn=dpdk.org;
 h=references:in-reply-to:cc:to:from:subject:message-id:date:from:to
 :cc:subject:date:message-id:reply-to;
 bh=bwBTYXgogKEzMJVLpeeADqoXKXpL4EwcDr+gR2vj7cE=;
 b=fRpOhgQcJukyD+kEZp9KewlBaL5JZPe3RtCY1M8M/gG9xh87ZZevksE0E/LZfmbh67
 JI7dbuGcl3XZpHHk6O/Rcpr4zOtm1BsMBzeiJ5AiofxOd2+/74XLnmSxtZ9+XtmGcsyr
 XbIsax1PzGbMfsUm5kLnQPmYxwg03biix107k=
X-Google-DKIM-Signature: v=1; a=rsa-sha256; c=relaxed/relaxed;
 d=1e100.net; s=20230601; t=1722964357; x=1723569157;
 h=references:in-reply-to:cc:to:from:subject:message-id:date
 :x-gm-message-state:from:to:cc:subject:date:message-id:reply-to;
 bh=bwBTYXgogKEzMJVLpeeADqoXKXpL4EwcDr+gR2vj7cE=;
 b=Y2QlZMEMPtVgs3Vej+P5IjZDzgHvCcnzryJrkDvM8Rm0VWMyUvOj7SKF5Hl9eg/VN+
 /cKa1rfdOsvncckbzzXicbQmGCBm+IJuufEssvC38F8dojw6THTEOiMqa4yW7wyTpctC
 09ZSV0IQjXbIUvId9KbGuthTyeFBVYsajYOSms77fx64GUaZ4IUmWoggYaeICib9NqU1
 HP14JAxKoN/VHUvYtHxl+8Js7Ty39rM3owfujKXROh4i92BT/xH58b/ED4Z7HZ5KF5+9
 EvMYNjNwp8ytDywVG1e9oorv0zkZc1VU00swxEXRRLeT3lUN8nXFQ+O/db7ecBEjrV/2
 Agcw==
X-Gm-Message-State: AOJu0YzQzHEgDxOnmHwHWAAv56wgIDkA0fAjaR1g+dlfdVtSMMuyHdUp
 eF4HvPV5sPSlYndM/OrD9cEqHq2HhrzE6dS7NS01AmJwn91m8J6tT5H3ZQmUtwjX5N0B4IkP5Vz
 du3W8clC2/adNXjNRM746JWv7i391lW1Y5A0LCg7n
X-Google-Smtp-Source: AGHT+IHt6Ihqa2BUHjRPMvdIYjZSg5bDnSaRoyYAEyWo90O1jhc7cCEbQyd50IRzwFZK/CLkT6doq1AfiZM4
X-Received: by 2002:a05:6214:590a:b0:6b9:60ad:a9e2 with SMTP id
 6a1803df08f44-6bb9830f744mr229194156d6.11.1722964356691; 
 Tue, 06 Aug 2024 10:12:36 -0700 (PDT)
Received: from postal.iol.unh.edu (postal.iol.unh.edu. [132.177.123.84])
 by smtp-relay.gmail.com with ESMTPS id
 6a1803df08f44-6bb9c85b6f3sm8166326d6.55.2024.08.06.10.12.36
 (version=TLS1_2 cipher=ECDHE-ECDSA-AES128-GCM-SHA256 bits=128/128);
 Tue, 06 Aug 2024 10:12:36 -0700 (PDT)
X-Relaying-Domain: iol.unh.edu
Date: Tue, 06 Aug 2024 10:12:36 -0700 (PDT)
Message-ID: <66b25984.050a0220.332f62.a930SMTPIN_ADDED_MISSING@mx.google.com>
Received: from [172.21.0.7] (unknown [172.18.0.240])
 by postal.iol.unh.edu (Postfix) with ESMTP id 5FDA8605C351;
 Tue,  6 Aug 2024 13:12:36 -0400 (EDT)
Subject: |PENDING| pw142949-142953 [PATCH] [v2,5/5] dts: add testpmd set port
From: dpdklab@iol.unh.edu
To: Test Report <test-report@dpdk.org>
Cc: dpdk-test-reports@iol.unh.edu
In-Reply-To: <20240806124642.2580828-6-luca.vizzarro@arm.com>
References: <20240806124642.2580828-6-luca.vizzarro@arm.com>
Content-Type: text/plain
X-BeenThere: test-report@dpdk.org
X-Mailman-Version: 2.1.29
Precedence: list
List-Id: automatic DPDK test reports <test-report.dpdk.org>
List-Unsubscribe: <https://mails.dpdk.org/options/test-report>,
 <mailto:test-report-request@dpdk.org?subject=unsubscribe>
List-Archive: <http://mails.dpdk.org/archives/test-report/>
List-Post: <mailto:test-report@dpdk.org>
List-Help: <mailto:test-report-request@dpdk.org?subject=help>
List-Subscribe: <https://mails.dpdk.org/listinfo/test-report>,
 <mailto:test-report-request@dpdk.org?subject=subscribe>
Errors-To: test-report-bounces@dpdk.org

Test-Label: iol-abi-testing
Test-Status: PENDING
http://dpdk.org/patch/142953

_Testing pending_

Submitter: Luca Vizzarro <luca.vizzarro@arm.com>
Date: Tuesday, August 06 2024 12:46:42 
DPDK git baseline: Repo:dpdk
  Branch: master
  CommitID:b3485f4293997d35b6daecc3437bb0c183a51fb3

142949-142953 --> testing pending

Upstream job id: Generic-DPDK-Compile-ABI#101931

Test environment and result as below:

+-------------------+----------+
|    Environment    | abi_test |
+===================+==========+
| CentOS Stream 9   | PEND     |
+-------------------+----------+
| Debian Bullseye   | PASS     |
+-------------------+----------+
| Debian 12         | PEND     |
+-------------------+----------+
| Fedora 38         | PASS     |
+-------------------+----------+
| Fedora 39 (Clang) | PEND     |
+-------------------+----------+
| Fedora 37         | PEND     |
+-------------------+----------+
| Fedora 39         | PEND     |
+-------------------+----------+
| Fedora 38 (Clang) | PEND     |
+-------------------+----------+
| Fedora 40         | PASS     |
+-------------------+----------+
| Fedora 40 (Clang) | PEND     |
+-------------------+----------+
| RHEL9             | PEND     |
+-------------------+----------+
| openSUSE Leap 15  | PEND     |
+-------------------+----------+
| RHEL8             | PEND     |
+-------------------+----------+
| Ubuntu 24.04      | PEND     |
+-------------------+----------+
| Ubuntu 22.04      | PEND     |
+-------------------+----------+


CentOS Stream 9
	Kernel: 5.4.0-167-generic
	Compiler: gcc 11.4.1 20230605

Debian Bullseye
	Kernel: 5.4.0-167-generic
	Compiler: gcc 10.2.1-6

Debian 12
	Kernel: Container Host Kernel
	Compiler: gcc 12.2.0

Fedora 38
	Kernel: Depends on container host
	Compiler: gcc 13.2.1

Fedora 39 (Clang)
	Kernel: Depends on container host
	Compiler: clang 17.0.6

Fedora 37
	Kernel: Depends on container host system
	Compiler: gcc 12.3.1

Fedora 39
	Kernel: Depends on container host
	Compiler: gcc 13.2.1

Fedora 38 (Clang)
	Kernel: Depends on container host
	Compiler: clang 16.0.6

Fedora 40
	Kernel: Depends on container host
	Compiler: gcc 14.1.1

Fedora 40 (Clang)
	Kernel: Depends on container host
	Compiler: clang 18.1.6

RHEL9
	Kernel: Depends on container host
	Compiler: gcc 11.4.1

openSUSE Leap 15
	Kernel: 5.4.0-167-generic
	Compiler: gcc 7.5.0

RHEL8
	Kernel: 5.4.0-167-generic
	Compiler: gcc 8.5.0 20210514 (Red Hat 8.5.0-20)

Ubuntu 24.04
	Kernel: 5.4.0-167-generic
	Compiler: gcc 13.2.0

Ubuntu 22.04
	Kernel: 5.4.0-167-generic
	Compiler: gcc 11.4.0

To view detailed results, visit:
https://lab.dpdk.org/results/dashboard/patchsets/30729/

UNH-IOL DPDK Community Lab

To manage your email subscriptions, visit: 
https://lab.dpdk.org/results/dashboard/preferences/subscriptions/