From mboxrd@z Thu Jan  1 00:00:00 1970
Return-Path: <test-report-bounces@dpdk.org>
Received: from mails.dpdk.org (mails.dpdk.org [217.70.189.124])
	by inbox.dpdk.org (Postfix) with ESMTP id 287C445751
	for <public@inbox.dpdk.org>; Tue,  6 Aug 2024 19:16:40 +0200 (CEST)
Received: from mails.dpdk.org (localhost [127.0.0.1])
	by mails.dpdk.org (Postfix) with ESMTP id 24A7E40685;
	Tue,  6 Aug 2024 19:16:40 +0200 (CEST)
Received: from mail-yw1-f226.google.com (mail-yw1-f226.google.com
 [209.85.128.226])
 by mails.dpdk.org (Postfix) with ESMTP id 8FACF40270
 for <test-report@dpdk.org>; Tue,  6 Aug 2024 19:16:38 +0200 (CEST)
Received: by mail-yw1-f226.google.com with SMTP id
 00721157ae682-65f9708c50dso10219237b3.2
 for <test-report@dpdk.org>; Tue, 06 Aug 2024 10:16:38 -0700 (PDT)
DKIM-Signature: v=1; a=rsa-sha256; c=relaxed/relaxed;
 d=iol.unh.edu; s=unh-iol; t=1722964598; x=1723569398; darn=dpdk.org;
 h=references:in-reply-to:cc:to:from:subject:message-id:date:from:to
 :cc:subject:date:message-id:reply-to;
 bh=pkL2zgSQl3Cpxmu0dGOoddC5bi+DuYk4gx4/3W0/u6w=;
 b=HObmqpmB4HiTtbCWxfC54cILnhxo0gr/NKoOzDScmAITwq+aEVCDigjLtfo7PstscC
 iVdxoIYoX70qy2Mg38Ja3f48mG8ep5ixgucupUJ7ouyNjntky0RYOh+7EBOtmPiVfQe3
 J+0nFR0tQZ/LNpJpvg5nqB92dXa+tedMayOeU=
X-Google-DKIM-Signature: v=1; a=rsa-sha256; c=relaxed/relaxed;
 d=1e100.net; s=20230601; t=1722964598; x=1723569398;
 h=references:in-reply-to:cc:to:from:subject:message-id:date
 :x-gm-message-state:from:to:cc:subject:date:message-id:reply-to;
 bh=pkL2zgSQl3Cpxmu0dGOoddC5bi+DuYk4gx4/3W0/u6w=;
 b=E3/VAfatlM+BrnwsEWhxhXFqJt7jgBWIdW2ol0MaOK5Dp9H+NJ+7qAwXLelcjOZgUY
 7DB5eQKm5cIxzyPOuQJ+1M0fY12HUPTM2K0IOUunC7mEPlYam3tMTlw38qZpjWExzA5n
 ygSwFvdr/9DwEO1MyJf9dNCNHAV/9532S7NzE5gPKMfP4elNIoOc4RcqSSLB71APJYK9
 AFdmeISNpDGtk39GYv2fMgLAi0Yl5XUpmK4SVPs0iq5vCBfeKfP63KTVDX48IRJotHc0
 YpiaxqbC+zPaMbopnOqM1SenTzyN6ynJ4YSVAOAGEo8Wb+kDl7QvQLJ9/LlCCoh3/1h5
 yk+g==
X-Gm-Message-State: AOJu0YwWdSsp+gZ5qW9KgI8mzzxxT8kXQS5SD8mZ5C1x50s7mO04459h
 5QBcr2nQRX8U+jucwrBgiNh7noqO3lNYsO5oBK8ogSD3kYXZisiJQZvbMFxrOgK+2u8CudCkzM6
 EzxwzGE5yCQXGsJDFkJ99NzYQTU4qG2512nxwBbYBy3uSQsuG1CdSdX0e
X-Google-Smtp-Source: AGHT+IHE6pU/PGwb9t/IWkyL+yrx/sV1LXONkozaGLmzm0TLHkiY3t15oTC9ZgctWcjNMwJVHTpLz4cV1T+y
X-Received: by 2002:a81:b407:0:b0:649:b0ca:2c9b with SMTP id
 00721157ae682-68964584b14mr182561997b3.40.1722964597950; 
 Tue, 06 Aug 2024 10:16:37 -0700 (PDT)
Received: from postal.iol.unh.edu (postal.iol.unh.edu.
 [2606:4100:3880:1234::84]) by smtp-relay.gmail.com with ESMTPS id
 00721157ae682-68a116dae97sm12220477b3.10.2024.08.06.10.16.37
 (version=TLS1_2 cipher=ECDHE-ECDSA-AES128-GCM-SHA256 bits=128/128);
 Tue, 06 Aug 2024 10:16:37 -0700 (PDT)
X-Relaying-Domain: iol.unh.edu
Date: Tue, 06 Aug 2024 10:16:37 -0700 (PDT)
Message-ID: <66b25a75.810a0220.c74d0.ce61SMTPIN_ADDED_MISSING@mx.google.com>
Received: from [172.21.0.6] (unknown [172.18.0.240])
 by postal.iol.unh.edu (Postfix) with ESMTP id 93902605C351;
 Tue,  6 Aug 2024 13:16:37 -0400 (EDT)
Subject: |PENDING| pw142955-142957 [PATCH] [v1,3/3] meson: skip symlinks to P
From: dpdklab@iol.unh.edu
To: Test Report <test-report@dpdk.org>
Cc: dpdk-test-reports@iol.unh.edu
In-Reply-To: <20240806134218.3619913-4-g.singh@nxp.com>
References: <20240806134218.3619913-4-g.singh@nxp.com>
Content-Type: text/plain
X-BeenThere: test-report@dpdk.org
X-Mailman-Version: 2.1.29
Precedence: list
List-Id: automatic DPDK test reports <test-report.dpdk.org>
List-Unsubscribe: <https://mails.dpdk.org/options/test-report>,
 <mailto:test-report-request@dpdk.org?subject=unsubscribe>
List-Archive: <http://mails.dpdk.org/archives/test-report/>
List-Post: <mailto:test-report@dpdk.org>
List-Help: <mailto:test-report-request@dpdk.org?subject=help>
List-Subscribe: <https://mails.dpdk.org/listinfo/test-report>,
 <mailto:test-report-request@dpdk.org?subject=subscribe>
Errors-To: test-report-bounces@dpdk.org

Test-Label: iol-unit-arm64-testing
Test-Status: PENDING
http://dpdk.org/patch/142957

_Testing pending_

Submitter: Gagandeep Singh <g.singh@nxp.com>
Date: Tuesday, August 06 2024 13:42:18 
DPDK git baseline: Repo:dpdk
  Branch: master
  CommitID:76fa7797c09d5b6bb4aaed8a8f48a3afd6fb2548

142955-142957 --> testing pending

Upstream job id: Generic-Unit-Test-DPDK#249251

Test environment and result as below:

+-----------------------------+----------------+--------------+---------------------------+------------------------------+
|         Environment         | dpdk_unit_test | lpm_autotest | cryptodev_sw_zuc_autotest | cryptodev_sw_snow3g_autotest |
+=============================+================+==============+===========================+==============================+
| CentOS Stream 9 (ARM)       | PASS           | SKIPPED      | SKIPPED                   | SKIPPED                      |
+-----------------------------+----------------+--------------+---------------------------+------------------------------+
| Debian 12 (arm)             | PASS           | SKIPPED      | PASS                      | PEND                         |
+-----------------------------+----------------+--------------+---------------------------+------------------------------+
| Debian 11 (Buster) (ARM)    | PASS           | SKIPPED      | SKIPPED                   | SKIPPED                      |
+-----------------------------+----------------+--------------+---------------------------+------------------------------+
| Fedora 38 (ARM)             | PASS           | SKIPPED      | SKIPPED                   | SKIPPED                      |
+-----------------------------+----------------+--------------+---------------------------+------------------------------+
| Fedora 37 (ARM)             | PASS           | SKIPPED      | SKIPPED                   | SKIPPED                      |
+-----------------------------+----------------+--------------+---------------------------+------------------------------+
| Fedora 38 (ARM Clang)       | PEND           | SKIPPED      | SKIPPED                   | SKIPPED                      |
+-----------------------------+----------------+--------------+---------------------------+------------------------------+
| Fedora 39 (ARM)             | PASS           | SKIPPED      | SKIPPED                   | SKIPPED                      |
+-----------------------------+----------------+--------------+---------------------------+------------------------------+
| Fedora 39 (ARM Clang)       | PEND           | SKIPPED      | SKIPPED                   | SKIPPED                      |
+-----------------------------+----------------+--------------+---------------------------+------------------------------+
| 32-bit Ubuntu 20.04.4 (ARM) | PASS           | SKIPPED      | SKIPPED                   | SKIPPED                      |
+-----------------------------+----------------+--------------+---------------------------+------------------------------+
| Fedora 40 (ARM)             | PEND           | SKIPPED      | SKIPPED                   | SKIPPED                      |
+-----------------------------+----------------+--------------+---------------------------+------------------------------+
| Fedora 40 (ARM Clang)       | PEND           | SKIPPED      | SKIPPED                   | SKIPPED                      |
+-----------------------------+----------------+--------------+---------------------------+------------------------------+
| RHEL9 (ARM)                 | PEND           | SKIPPED      | SKIPPED                   | SKIPPED                      |
+-----------------------------+----------------+--------------+---------------------------+------------------------------+
| Ubuntu 20.04 (ARM)          | PEND           | SKIPPED      | SKIPPED                   | SKIPPED                      |
+-----------------------------+----------------+--------------+---------------------------+------------------------------+
| Ubuntu 22.04 (ARM)          | PEND           | SKIPPED      | SKIPPED                   | SKIPPED                      |
+-----------------------------+----------------+--------------+---------------------------+------------------------------+
| Ubuntu 24.04 (ARM)          | PEND           | SKIPPED      | SKIPPED                   | SKIPPED                      |
+-----------------------------+----------------+--------------+---------------------------+------------------------------+
| Ubuntu 20.04 ARM SVE        | SKIPPED        | PEND         | SKIPPED                   | SKIPPED                      |
+-----------------------------+----------------+--------------+---------------------------+------------------------------+


CentOS Stream 9 (ARM)
	Kernel: Container Host Kernel
	Compiler: gcc 11.4.1

Debian 12 (arm)
	Kernel: Container Host Kernel
	Compiler: gcc 12.2.0

Debian 11 (Buster) (ARM)
	Kernel: Container Host Kernel
	Compiler: gcc 10.2.1

Fedora 38 (ARM)
	Kernel: Depends on container host
	Compiler: gcc 13.2.1

Fedora 37 (ARM)
	Kernel: Depends on container host
	Compiler: gcc 12.3.1

Fedora 38 (ARM Clang)
	Kernel: Depends on container host
	Compiler: clang 16.0.6

Fedora 39 (ARM)
	Kernel: Depends on container host
	Compiler: gcc 13.2.1

Fedora 39 (ARM Clang)
	Kernel: Depends on container host
	Compiler: clang 17.0.6

32-bit Ubuntu 20.04.4 (ARM)
	Kernel: 5.4.0-155-generic aarch64
	Compiler: gcc 9.4

Fedora 40 (ARM)
	Kernel: Depends on container host
	Compiler: gcc 14.1.1

Fedora 40 (ARM Clang)
	Kernel: Depends on container host
	Compiler: clang 18.1.6

RHEL9 (ARM)
	Kernel: Depends on container host
	Compiler: gcc 11.4.1

Ubuntu 20.04 (ARM)
	Kernel: Container Host Kernel
	Compiler: gcc 9.4.0

Ubuntu 22.04 (ARM)
	Kernel: Container Host Kernel
	Compiler: gcc 11.4.0

Ubuntu 24.04 (ARM)
	Kernel: 5.4.0-167-generic
	Compiler: gcc 13.2.0

Ubuntu 20.04 ARM SVE
	Kernel: 5.4.0-167-generic
	Compiler: gcc (Ubuntu 10.5.0-1ubuntu1~20.04) 10.5.0

To view detailed results, visit:
https://lab.dpdk.org/results/dashboard/patchsets/30731/

UNH-IOL DPDK Community Lab

To manage your email subscriptions, visit: 
https://lab.dpdk.org/results/dashboard/preferences/subscriptions/