From mboxrd@z Thu Jan 1 00:00:00 1970 Return-Path: Received: from mails.dpdk.org (mails.dpdk.org [217.70.189.124]) by inbox.dpdk.org (Postfix) with ESMTP id 2781745751 for ; Tue, 6 Aug 2024 19:38:08 +0200 (CEST) Received: from mails.dpdk.org (localhost [127.0.0.1]) by mails.dpdk.org (Postfix) with ESMTP id 22FD940685; Tue, 6 Aug 2024 19:38:08 +0200 (CEST) Received: from mail-yw1-f225.google.com (mail-yw1-f225.google.com [209.85.128.225]) by mails.dpdk.org (Postfix) with ESMTP id 30A9C40270 for ; Tue, 6 Aug 2024 19:38:07 +0200 (CEST) Received: by mail-yw1-f225.google.com with SMTP id 00721157ae682-691c85525ebso7919747b3.0 for ; Tue, 06 Aug 2024 10:38:07 -0700 (PDT) DKIM-Signature: v=1; a=rsa-sha256; c=relaxed/relaxed; d=iol.unh.edu; s=unh-iol; t=1722965886; x=1723570686; darn=dpdk.org; h=references:in-reply-to:cc:to:from:subject:message-id:date:from:to :cc:subject:date:message-id:reply-to; bh=8BtHHZcYv+/UDtJWJWbPnmrfzDbNwn6cMzfnzerwJ88=; b=SnwGKV/grsjnEpV1rseOmH1OZIy2UAe3iRt2TzdmqVvqiHhjpiSKKEAR0WlD3i0xSJ LKGJNUvYRiTY2pTm691qjjUYXtLwIw/uSI3SgRJEFSfhOvhNRCVpD6W3U1gjqpndP0T9 DtnN0qRNaKRBJpZCncje+8a7g0mROLkGGtWIs= X-Google-DKIM-Signature: v=1; a=rsa-sha256; c=relaxed/relaxed; d=1e100.net; s=20230601; t=1722965886; x=1723570686; h=references:in-reply-to:cc:to:from:subject:message-id:date :x-gm-message-state:from:to:cc:subject:date:message-id:reply-to; bh=8BtHHZcYv+/UDtJWJWbPnmrfzDbNwn6cMzfnzerwJ88=; b=exWNgRqopq98WbRlNGd74hmDT0aJZGbXItVf620JzFp/4CziCFznaXF+19Je78J7QM bEHyWYvw0XZmZYRGxDNfkh9bKVJ65fRFAXjrar0cS56+MxKHMXDweNfU/MfYjiGFP1AT vQxWkcIX4bht4sI1Qw8h2NHvMQRJP1djKjPSOrH9LRVhg3gjreqUGkniXXQd8a72aYIB 7rpneGd/zYbsRncY1uOPQ9HRnuXcGle9Pl5f1iRLxt3Vy6fN0cePUmjq8/tVAp2LBuZ5 16w0uJqCXaRrhj7u33neLOuSQYCRJD9cDmI4F57g5E6QTa9QrtaYUTueXzBK2auM6GC4 1qIg== X-Gm-Message-State: AOJu0YwjFMQvnyReKVz6vCfxNG67jecwUNT1jiIytiJY+hVN5eOFfQmN Qahvn2eRdbl0EkwRHf+ZeUMuQqxM4tRk+fvC0pdZ5PN9onB6W7u4Ao3422HCX/h7tc/qstuVT6B mVRcw4HEKeWFmDocgiQyviMuCjOe99N3zaMH5Gji00z430m9qjBUMF7ut X-Google-Smtp-Source: AGHT+IEMagYGLxLAiTW4PGRgdcAZzyXP5YEBcjUHU8Agmp0kGFSam26Se4AXzHPfL4FvpCHfxPqQdmY7LvIs X-Received: by 2002:a0d:ed83:0:b0:664:a26e:5ab2 with SMTP id 00721157ae682-68960491085mr168264217b3.11.1722965886619; Tue, 06 Aug 2024 10:38:06 -0700 (PDT) Received: from postal.iol.unh.edu (postal.iol.unh.edu. [2606:4100:3880:1234::84]) by smtp-relay.gmail.com with ESMTPS id 00721157ae682-68a166e88bfsm12122547b3.70.2024.08.06.10.38.06 (version=TLS1_2 cipher=ECDHE-ECDSA-AES128-GCM-SHA256 bits=128/128); Tue, 06 Aug 2024 10:38:06 -0700 (PDT) X-Relaying-Domain: iol.unh.edu Date: Tue, 06 Aug 2024 10:38:06 -0700 (PDT) Message-ID: <66b25f7e.0d0a0220.f1eb3.c2b9SMTPIN_ADDED_MISSING@mx.google.com> Received: from [172.21.0.7] (unknown [172.18.0.240]) by postal.iol.unh.edu (Postfix) with ESMTP id 542EF605C351; Tue, 6 Aug 2024 13:38:06 -0400 (EDT) Subject: |PENDING| pw142955-142957 [PATCH] [v1,3/3] meson: skip symlinks to P From: dpdklab@iol.unh.edu To: Test Report Cc: dpdk-test-reports@iol.unh.edu In-Reply-To: <20240806134218.3619913-4-g.singh@nxp.com> References: <20240806134218.3619913-4-g.singh@nxp.com> Content-Type: text/plain X-BeenThere: test-report@dpdk.org X-Mailman-Version: 2.1.29 Precedence: list List-Id: automatic DPDK test reports List-Unsubscribe: , List-Archive: List-Post: List-Help: List-Subscribe: , Errors-To: test-report-bounces@dpdk.org Test-Label: iol-unit-arm64-testing Test-Status: PENDING http://dpdk.org/patch/142957 _Testing pending_ Submitter: Gagandeep Singh Date: Tuesday, August 06 2024 13:42:18 DPDK git baseline: Repo:dpdk Branch: master CommitID:76fa7797c09d5b6bb4aaed8a8f48a3afd6fb2548 142955-142957 --> testing pending Upstream job id: Generic-Unit-Test-DPDK#249247 Test environment and result as below: +-----------------------------+----------------+--------------+---------------------------+------------------------------+ | Environment | dpdk_unit_test | lpm_autotest | cryptodev_sw_zuc_autotest | cryptodev_sw_snow3g_autotest | +=============================+================+==============+===========================+==============================+ | CentOS Stream 9 (ARM) | PASS | SKIPPED | SKIPPED | SKIPPED | +-----------------------------+----------------+--------------+---------------------------+------------------------------+ | Debian 12 (arm) | PASS | SKIPPED | PASS | PEND | +-----------------------------+----------------+--------------+---------------------------+------------------------------+ | Debian 11 (Buster) (ARM) | PASS | SKIPPED | SKIPPED | SKIPPED | +-----------------------------+----------------+--------------+---------------------------+------------------------------+ | Fedora 38 (ARM) | PASS | SKIPPED | SKIPPED | SKIPPED | +-----------------------------+----------------+--------------+---------------------------+------------------------------+ | Fedora 37 (ARM) | PASS | SKIPPED | SKIPPED | SKIPPED | +-----------------------------+----------------+--------------+---------------------------+------------------------------+ | Fedora 38 (ARM Clang) | PASS | SKIPPED | SKIPPED | SKIPPED | +-----------------------------+----------------+--------------+---------------------------+------------------------------+ | Fedora 39 (ARM) | PASS | SKIPPED | SKIPPED | SKIPPED | +-----------------------------+----------------+--------------+---------------------------+------------------------------+ | Fedora 39 (ARM Clang) | PASS | SKIPPED | SKIPPED | SKIPPED | +-----------------------------+----------------+--------------+---------------------------+------------------------------+ | 32-bit Ubuntu 20.04.4 (ARM) | PASS | SKIPPED | SKIPPED | SKIPPED | +-----------------------------+----------------+--------------+---------------------------+------------------------------+ | Fedora 40 (ARM) | PEND | SKIPPED | SKIPPED | SKIPPED | +-----------------------------+----------------+--------------+---------------------------+------------------------------+ | Fedora 40 (ARM Clang) | PEND | SKIPPED | SKIPPED | SKIPPED | +-----------------------------+----------------+--------------+---------------------------+------------------------------+ | RHEL9 (ARM) | PEND | SKIPPED | SKIPPED | SKIPPED | +-----------------------------+----------------+--------------+---------------------------+------------------------------+ | Ubuntu 20.04 (ARM) | PEND | SKIPPED | SKIPPED | SKIPPED | +-----------------------------+----------------+--------------+---------------------------+------------------------------+ | Ubuntu 22.04 (ARM) | PEND | SKIPPED | SKIPPED | SKIPPED | +-----------------------------+----------------+--------------+---------------------------+------------------------------+ | Ubuntu 24.04 (ARM) | PEND | SKIPPED | SKIPPED | SKIPPED | +-----------------------------+----------------+--------------+---------------------------+------------------------------+ | Ubuntu 20.04 ARM SVE | SKIPPED | PEND | SKIPPED | SKIPPED | +-----------------------------+----------------+--------------+---------------------------+------------------------------+ CentOS Stream 9 (ARM) Kernel: Container Host Kernel Compiler: gcc 11.4.1 Debian 12 (arm) Kernel: Container Host Kernel Compiler: gcc 12.2.0 Debian 11 (Buster) (ARM) Kernel: Container Host Kernel Compiler: gcc 10.2.1 Fedora 38 (ARM) Kernel: Depends on container host Compiler: gcc 13.2.1 Fedora 37 (ARM) Kernel: Depends on container host Compiler: gcc 12.3.1 Fedora 38 (ARM Clang) Kernel: Depends on container host Compiler: clang 16.0.6 Fedora 39 (ARM) Kernel: Depends on container host Compiler: gcc 13.2.1 Fedora 39 (ARM Clang) Kernel: Depends on container host Compiler: clang 17.0.6 32-bit Ubuntu 20.04.4 (ARM) Kernel: 5.4.0-155-generic aarch64 Compiler: gcc 9.4 Fedora 40 (ARM) Kernel: Depends on container host Compiler: gcc 14.1.1 Fedora 40 (ARM Clang) Kernel: Depends on container host Compiler: clang 18.1.6 RHEL9 (ARM) Kernel: Depends on container host Compiler: gcc 11.4.1 Ubuntu 20.04 (ARM) Kernel: Container Host Kernel Compiler: gcc 9.4.0 Ubuntu 22.04 (ARM) Kernel: Container Host Kernel Compiler: gcc 11.4.0 Ubuntu 24.04 (ARM) Kernel: 5.4.0-167-generic Compiler: gcc 13.2.0 Ubuntu 20.04 ARM SVE Kernel: 5.4.0-167-generic Compiler: gcc (Ubuntu 10.5.0-1ubuntu1~20.04) 10.5.0 To view detailed results, visit: https://lab.dpdk.org/results/dashboard/patchsets/30731/ UNH-IOL DPDK Community Lab To manage your email subscriptions, visit: https://lab.dpdk.org/results/dashboard/preferences/subscriptions/