From mboxrd@z Thu Jan  1 00:00:00 1970
Return-Path: <test-report-bounces@dpdk.org>
Received: from mails.dpdk.org (mails.dpdk.org [217.70.189.124])
	by inbox.dpdk.org (Postfix) with ESMTP id 3F1C045751
	for <public@inbox.dpdk.org>; Tue,  6 Aug 2024 19:43:32 +0200 (CEST)
Received: from mails.dpdk.org (localhost [127.0.0.1])
	by mails.dpdk.org (Postfix) with ESMTP id 3A17940685;
	Tue,  6 Aug 2024 19:43:32 +0200 (CEST)
Received: from mail-yb1-f225.google.com (mail-yb1-f225.google.com
 [209.85.219.225])
 by mails.dpdk.org (Postfix) with ESMTP id E439240270
 for <test-report@dpdk.org>; Tue,  6 Aug 2024 19:43:30 +0200 (CEST)
Received: by mail-yb1-f225.google.com with SMTP id
 3f1490d57ef6-e0b9589a72dso861989276.3
 for <test-report@dpdk.org>; Tue, 06 Aug 2024 10:43:30 -0700 (PDT)
DKIM-Signature: v=1; a=rsa-sha256; c=relaxed/relaxed;
 d=iol.unh.edu; s=unh-iol; t=1722966210; x=1723571010; darn=dpdk.org;
 h=references:in-reply-to:cc:to:from:subject:message-id:date:from:to
 :cc:subject:date:message-id:reply-to;
 bh=jlpxw6AZd1wqFr/IH7Q9p6RdgqX/TSSU1px+R+aQavU=;
 b=Xpu4y9uzSZ8xy1CX9dhWT0cMHtBxL+dbIzydp+Lpor3ogGNCL85/BwPkAtG7fGVB5H
 Xmb3mZf548Fx012Fg/WFwymj3s0wx2xILDOisLcPYDOcSLTbkVP0klf1XVh/Z+uPgBdV
 b3Hzpund0PHbWvFx4aWhmZL754ym7/2WUKZB0=
X-Google-DKIM-Signature: v=1; a=rsa-sha256; c=relaxed/relaxed;
 d=1e100.net; s=20230601; t=1722966210; x=1723571010;
 h=references:in-reply-to:cc:to:from:subject:message-id:date
 :x-gm-message-state:from:to:cc:subject:date:message-id:reply-to;
 bh=jlpxw6AZd1wqFr/IH7Q9p6RdgqX/TSSU1px+R+aQavU=;
 b=CUy8PVNpProWtIr4FpDanEJ0kaNMDkW8+3pCgWcANqutSSERCLUJ6pR60TNasxRtBo
 TVsAAlHgRbpnskXuts0h5fTzLVNWwEIHJIYVhUHc6FDl0kOaDCz3b3D/4qCd6c4lalMX
 ptlUCG1C2M8T7tSBTDsyYEN771YPKfbrjrTrjA6WoPa4RD1BPl6+vX3qUNCo5bomFLsb
 ZxtLzquZ5TckmFzCxSl1h0WVcI9PM01H5vOTIkavK2pFIymcq0Gxt7gRUWDJ3O3buyUE
 0vgftTW+YoWdTUPx0cXC5os/sSTfL0/FtJBpN6CB5PPGgezkyz1tS8Tr2zXvzn7HK1Hq
 x4dQ==
X-Gm-Message-State: AOJu0YylMIyzPR08Y8G1Z+rJhhTRnDCFo/BBPMv5R9k/wzc/COtjrjsP
 nSqmNYuQXmXmP5wcJ+0ARleSu9gPe35SGevbfoz4npErcLjL1TnJS9miBcIaJn8xNVbM5psf2/w
 CWOtS/+bB8Pgq70FA/MfC26LKualZiEDdfU4XWgIfA4DIm+6aUV0RKYHd
X-Google-Smtp-Source: AGHT+IGyD1D1vKZ+H7Zo8E2Igd/fUSLLz16xcsx2jvo1g9ohQ6o/fp4Yqw5t99KLyIP9s2aAzl4aJwoHysTU
X-Received: by 2002:a25:7447:0:b0:e03:50ec:5e57 with SMTP id
 3f1490d57ef6-e0bde34a410mr16028880276.15.1722966210271; 
 Tue, 06 Aug 2024 10:43:30 -0700 (PDT)
Received: from postal.iol.unh.edu (postal.iol.unh.edu.
 [2606:4100:3880:1234::84]) by smtp-relay.gmail.com with ESMTPS id
 3f1490d57ef6-e0be530470bsm395008276.7.2024.08.06.10.43.30
 (version=TLS1_2 cipher=ECDHE-ECDSA-AES128-GCM-SHA256 bits=128/128);
 Tue, 06 Aug 2024 10:43:30 -0700 (PDT)
X-Relaying-Domain: iol.unh.edu
Date: Tue, 06 Aug 2024 10:43:30 -0700 (PDT)
Message-ID: <66b260c2.050a0220.150270.b21bSMTPIN_ADDED_MISSING@mx.google.com>
Received: from [172.21.0.6] (unknown [172.18.0.240])
 by postal.iol.unh.edu (Postfix) with ESMTP id DFD6E605C351;
 Tue,  6 Aug 2024 13:43:29 -0400 (EDT)
Subject: |PENDING| pw142949-142953 [PATCH] [v2,5/5] dts: add testpmd set port
From: dpdklab@iol.unh.edu
To: Test Report <test-report@dpdk.org>
Cc: dpdk-test-reports@iol.unh.edu
In-Reply-To: <20240806124642.2580828-6-luca.vizzarro@arm.com>
References: <20240806124642.2580828-6-luca.vizzarro@arm.com>
Content-Type: text/plain
X-BeenThere: test-report@dpdk.org
X-Mailman-Version: 2.1.29
Precedence: list
List-Id: automatic DPDK test reports <test-report.dpdk.org>
List-Unsubscribe: <https://mails.dpdk.org/options/test-report>,
 <mailto:test-report-request@dpdk.org?subject=unsubscribe>
List-Archive: <http://mails.dpdk.org/archives/test-report/>
List-Post: <mailto:test-report@dpdk.org>
List-Help: <mailto:test-report-request@dpdk.org?subject=help>
List-Subscribe: <https://mails.dpdk.org/listinfo/test-report>,
 <mailto:test-report-request@dpdk.org?subject=subscribe>
Errors-To: test-report-bounces@dpdk.org

Test-Label: iol-abi-testing
Test-Status: PENDING
http://dpdk.org/patch/142953

_Testing pending_

Submitter: Luca Vizzarro <luca.vizzarro@arm.com>
Date: Tuesday, August 06 2024 12:46:42 
DPDK git baseline: Repo:dpdk
  Branch: master
  CommitID:b3485f4293997d35b6daecc3437bb0c183a51fb3

142949-142953 --> testing pending

Upstream job id: Generic-DPDK-Compile-ABI#101933

Test environment and result as below:

+-------------------+----------+
|    Environment    | abi_test |
+===================+==========+
| CentOS Stream 9   | PASS     |
+-------------------+----------+
| Debian Bullseye   | PASS     |
+-------------------+----------+
| Debian 12         | PASS     |
+-------------------+----------+
| Fedora 38         | PASS     |
+-------------------+----------+
| Fedora 39 (Clang) | PASS     |
+-------------------+----------+
| Fedora 37         | PASS     |
+-------------------+----------+
| Fedora 39         | PASS     |
+-------------------+----------+
| Fedora 38 (Clang) | PASS     |
+-------------------+----------+
| Fedora 40         | PASS     |
+-------------------+----------+
| Fedora 40 (Clang) | PASS     |
+-------------------+----------+
| RHEL9             | PASS     |
+-------------------+----------+
| openSUSE Leap 15  | PASS     |
+-------------------+----------+
| RHEL8             | PASS     |
+-------------------+----------+
| Ubuntu 24.04      | PEND     |
+-------------------+----------+
| Ubuntu 22.04      | PEND     |
+-------------------+----------+


CentOS Stream 9
	Kernel: 5.4.0-167-generic
	Compiler: gcc 11.4.1 20230605

Debian Bullseye
	Kernel: 5.4.0-167-generic
	Compiler: gcc 10.2.1-6

Debian 12
	Kernel: Container Host Kernel
	Compiler: gcc 12.2.0

Fedora 38
	Kernel: Depends on container host
	Compiler: gcc 13.2.1

Fedora 39 (Clang)
	Kernel: Depends on container host
	Compiler: clang 17.0.6

Fedora 37
	Kernel: Depends on container host system
	Compiler: gcc 12.3.1

Fedora 39
	Kernel: Depends on container host
	Compiler: gcc 13.2.1

Fedora 38 (Clang)
	Kernel: Depends on container host
	Compiler: clang 16.0.6

Fedora 40
	Kernel: Depends on container host
	Compiler: gcc 14.1.1

Fedora 40 (Clang)
	Kernel: Depends on container host
	Compiler: clang 18.1.6

RHEL9
	Kernel: Depends on container host
	Compiler: gcc 11.4.1

openSUSE Leap 15
	Kernel: 5.4.0-167-generic
	Compiler: gcc 7.5.0

RHEL8
	Kernel: 5.4.0-167-generic
	Compiler: gcc 8.5.0 20210514 (Red Hat 8.5.0-20)

Ubuntu 24.04
	Kernel: 5.4.0-167-generic
	Compiler: gcc 13.2.0

Ubuntu 22.04
	Kernel: 5.4.0-167-generic
	Compiler: gcc 11.4.0

To view detailed results, visit:
https://lab.dpdk.org/results/dashboard/patchsets/30729/

UNH-IOL DPDK Community Lab

To manage your email subscriptions, visit: 
https://lab.dpdk.org/results/dashboard/preferences/subscriptions/