From mboxrd@z Thu Jan  1 00:00:00 1970
Return-Path: <test-report-bounces@dpdk.org>
Received: from mails.dpdk.org (mails.dpdk.org [217.70.189.124])
	by inbox.dpdk.org (Postfix) with ESMTP id 739F845751
	for <public@inbox.dpdk.org>; Tue,  6 Aug 2024 19:44:51 +0200 (CEST)
Received: from mails.dpdk.org (localhost [127.0.0.1])
	by mails.dpdk.org (Postfix) with ESMTP id 6E57E40685;
	Tue,  6 Aug 2024 19:44:51 +0200 (CEST)
Received: from mail-oo1-f98.google.com (mail-oo1-f98.google.com
 [209.85.161.98]) by mails.dpdk.org (Postfix) with ESMTP id C096B40270
 for <test-report@dpdk.org>; Tue,  6 Aug 2024 19:44:50 +0200 (CEST)
Received: by mail-oo1-f98.google.com with SMTP id
 006d021491bc7-5d5bb2ac2ddso47869eaf.0
 for <test-report@dpdk.org>; Tue, 06 Aug 2024 10:44:50 -0700 (PDT)
DKIM-Signature: v=1; a=rsa-sha256; c=relaxed/relaxed;
 d=iol.unh.edu; s=unh-iol; t=1722966290; x=1723571090; darn=dpdk.org;
 h=references:in-reply-to:cc:to:from:subject:message-id:date:from:to
 :cc:subject:date:message-id:reply-to;
 bh=Wbeo/Aitxu16gWMkrjhsAsU/c+Ad8jBrVffnRn0gb+k=;
 b=EeUEPCgTTntqnH+qDo+rwDK9Fpi7Om7m6vzesKPgHO7kGrov4dRaqtU/LTXMkcrHbi
 Jg2e+H6akE6ECbm9x2/bPT16UiSvVLuYUmgjrmfD+KaF2rK9DpnQWkFIVg5Ng5xRMAW0
 v3i0UCrsZVEh117zzmrbX2p9UiSfLC6KhnaHI=
X-Google-DKIM-Signature: v=1; a=rsa-sha256; c=relaxed/relaxed;
 d=1e100.net; s=20230601; t=1722966290; x=1723571090;
 h=references:in-reply-to:cc:to:from:subject:message-id:date
 :x-gm-message-state:from:to:cc:subject:date:message-id:reply-to;
 bh=Wbeo/Aitxu16gWMkrjhsAsU/c+Ad8jBrVffnRn0gb+k=;
 b=pIOeeOjRzidaISWGmVRiHmf+eBCH+Jrz3kb/vagQbWYckjeEvbbOnaAzqOafgfePKD
 27XwLX+oI0tNA3ShUp3g8F4UsE0czXr9eVvTyaGCeh6DtUuBCEUAHxgpFmQu93kErLJK
 4CE/jFUtCKWG2BCfrdUpt6eoxcDPSzrlX+HshbxJcjM9zM0FSrfB/JPYAZzJJIRWU6Px
 lwvh+9Dyc114Enx1oYsedY85c7xxyE71rGh6JFYmcqbtUk+QwrH5nMqbqHYlNqTT1Izk
 JJnxlKsKEQiSXGH6kbsTLFoI8uWqIJ5mMn60p6UwiIGLwfGvkTXJuDHWTlr/D6/b5p4X
 yB4A==
X-Gm-Message-State: AOJu0YyjJcQAgin40nFqbWiz2i4cVWgW92IMbIkwaQPrDGxJRtyrTrRb
 yjq4MiCABgiV8TBiFxk0jUzDO4fhqhIH1JkRWQsacLdHmtn018DC+MnZNbJymXAzMYStj+jFh3i
 G2bZej2D3rrSodD3a/+lqcxu2coGhHrE8hCMOvFW6H6Kgy3WFCZR6BLRD
X-Google-Smtp-Source: AGHT+IGRtTyxZYRtB9Np0jGoeU0ZBPlBN45EdmtY+Tiivzwe5e4rAe9BcWzvMPvhY1ei72y2MaigvNRIuXyt
X-Received: by 2002:a05:6820:2207:b0:5ce:3ccb:2118 with SMTP id
 006d021491bc7-5d6c81de8dfmr6084704eaf.3.1722966289857; 
 Tue, 06 Aug 2024 10:44:49 -0700 (PDT)
Received: from postal.iol.unh.edu (postal.iol.unh.edu.
 [2606:4100:3880:1234::84]) by smtp-relay.gmail.com with ESMTPS id
 006d021491bc7-5d75718b035sm533918eaf.6.2024.08.06.10.44.49
 (version=TLS1_2 cipher=ECDHE-ECDSA-AES128-GCM-SHA256 bits=128/128);
 Tue, 06 Aug 2024 10:44:49 -0700 (PDT)
X-Relaying-Domain: iol.unh.edu
Date: Tue, 06 Aug 2024 10:44:49 -0700 (PDT)
Message-ID: <66b26111.4a0a0220.671a9.3009SMTPIN_ADDED_MISSING@mx.google.com>
Received: from [172.21.0.6] (unknown [172.18.0.240])
 by postal.iol.unh.edu (Postfix) with ESMTP id 5630E605C351;
 Tue,  6 Aug 2024 13:44:49 -0400 (EDT)
Subject: |PENDING| pw142955-142957 [PATCH] [v1,3/3] meson: skip symlinks to P
From: dpdklab@iol.unh.edu
To: Test Report <test-report@dpdk.org>
Cc: dpdk-test-reports@iol.unh.edu
In-Reply-To: <20240806134218.3619913-4-g.singh@nxp.com>
References: <20240806134218.3619913-4-g.singh@nxp.com>
Content-Type: text/plain
X-BeenThere: test-report@dpdk.org
X-Mailman-Version: 2.1.29
Precedence: list
List-Id: automatic DPDK test reports <test-report.dpdk.org>
List-Unsubscribe: <https://mails.dpdk.org/options/test-report>,
 <mailto:test-report-request@dpdk.org?subject=unsubscribe>
List-Archive: <http://mails.dpdk.org/archives/test-report/>
List-Post: <mailto:test-report@dpdk.org>
List-Help: <mailto:test-report-request@dpdk.org?subject=help>
List-Subscribe: <https://mails.dpdk.org/listinfo/test-report>,
 <mailto:test-report-request@dpdk.org?subject=subscribe>
Errors-To: test-report-bounces@dpdk.org

Test-Label: iol-compile-arm64-testing
Test-Status: PENDING
http://dpdk.org/patch/142957

_Testing pending_

Submitter: Gagandeep Singh <g.singh@nxp.com>
Date: Tuesday, August 06 2024 13:42:18 
DPDK git baseline: Repo:dpdk
  Branch: master
  CommitID:76fa7797c09d5b6bb4aaed8a8f48a3afd6fb2548

142955-142957 --> testing pending

Upstream job id: Generic-DPDK-Compile-Meson#285026

Test environment and result as below:

+----------------------------------------+--------------------+
|              Environment               | dpdk_meson_compile |
+========================================+====================+
| Ubuntu 20.04 ARM GCC Cross Compile     | PEND               |
+----------------------------------------+--------------------+
| RHEL9 (ARM)                            | PEND               |
+----------------------------------------+--------------------+
| Debian 12 with MUSDK                   | PASS               |
+----------------------------------------+--------------------+
| Ubuntu 20.04 ARM SVE                   | PASS               |
+----------------------------------------+--------------------+
| Fedora 37 (ARM)                        | PEND               |
+----------------------------------------+--------------------+
| Fedora 38 (ARM Clang)                  | PEND               |
+----------------------------------------+--------------------+
| Fedora 38 (ARM)                        | PASS               |
+----------------------------------------+--------------------+
| Fedora 39 (ARM)                        | PEND               |
+----------------------------------------+--------------------+
| Fedora 39 (ARM Clang)                  | PEND               |
+----------------------------------------+--------------------+
| Fedora 40 (ARM)                        | PEND               |
+----------------------------------------+--------------------+
| Fedora 40 (ARM Clang)                  | PEND               |
+----------------------------------------+--------------------+
| Ubuntu 20.04 (ARM)                     | PEND               |
+----------------------------------------+--------------------+
| Ubuntu 22.04 (ARM)                     | PEND               |
+----------------------------------------+--------------------+
| Ubuntu 24.04 (ARM)                     | PASS               |
+----------------------------------------+--------------------+
| CentOS Stream 9 (ARM)                  | PASS               |
+----------------------------------------+--------------------+
| Debian 11 (Buster) (ARM)               | PASS               |
+----------------------------------------+--------------------+
| Debian 12 (arm)                        | PEND               |
+----------------------------------------+--------------------+
| Ubuntu 20.04 ARM Clang Cross Compile   | PEND               |
+----------------------------------------+--------------------+
| Ubuntu 20.04 aarch32 GCC Cross Compile | PEND               |
+----------------------------------------+--------------------+


Ubuntu 20.04 ARM GCC Cross Compile
	Kernel: 5.4.0-167-generic
	Compiler: aarch64-linux-gnu-gcc (Ubuntu 9.4.0-1ubuntu1~20.04.2) 9.4.0

RHEL9 (ARM)
	Kernel: Depends on container host
	Compiler: gcc 11.4.1

Debian 12 with MUSDK
	Kernel: Container Host Kernel
	Compiler: gcc 12.2.0

Ubuntu 20.04 ARM SVE
	Kernel: 5.4.0-167-generic
	Compiler: gcc (Ubuntu 10.5.0-1ubuntu1~20.04) 10.5.0

Fedora 37 (ARM)
	Kernel: Depends on container host
	Compiler: gcc 12.3.1

Fedora 38 (ARM Clang)
	Kernel: Depends on container host
	Compiler: clang 16.0.6

Fedora 38 (ARM)
	Kernel: Depends on container host
	Compiler: gcc 13.2.1

Fedora 39 (ARM)
	Kernel: Depends on container host
	Compiler: gcc 13.2.1

Fedora 39 (ARM Clang)
	Kernel: Depends on container host
	Compiler: clang 17.0.6

Fedora 40 (ARM)
	Kernel: Depends on container host
	Compiler: gcc 14.1.1

Fedora 40 (ARM Clang)
	Kernel: Depends on container host
	Compiler: clang 18.1.6

Ubuntu 20.04 (ARM)
	Kernel: Container Host Kernel
	Compiler: gcc 9.4.0

Ubuntu 22.04 (ARM)
	Kernel: Container Host Kernel
	Compiler: gcc 11.4.0

Ubuntu 24.04 (ARM)
	Kernel: 5.4.0-167-generic
	Compiler: gcc 13.2.0

CentOS Stream 9 (ARM)
	Kernel: Container Host Kernel
	Compiler: gcc 11.4.1

Debian 11 (Buster) (ARM)
	Kernel: Container Host Kernel
	Compiler: gcc 10.2.1

Debian 12 (arm)
	Kernel: Container Host Kernel
	Compiler: gcc 12.2.0

Ubuntu 20.04 ARM Clang Cross Compile
	Kernel: 5.4.0-72-generic
	Compiler: clang 10.0.0-4ubuntu1

Ubuntu 20.04 aarch32 GCC Cross Compile
	Kernel: 5.4.0-167-generic
	Compiler: gcc 9.4.0

To view detailed results, visit:
https://lab.dpdk.org/results/dashboard/patchsets/30731/

UNH-IOL DPDK Community Lab

To manage your email subscriptions, visit: 
https://lab.dpdk.org/results/dashboard/preferences/subscriptions/