From mboxrd@z Thu Jan  1 00:00:00 1970
Return-Path: <test-report-bounces@dpdk.org>
Received: from mails.dpdk.org (mails.dpdk.org [217.70.189.124])
	by inbox.dpdk.org (Postfix) with ESMTP id D454D45751
	for <public@inbox.dpdk.org>; Tue,  6 Aug 2024 19:47:04 +0200 (CEST)
Received: from mails.dpdk.org (localhost [127.0.0.1])
	by mails.dpdk.org (Postfix) with ESMTP id CCD2540685;
	Tue,  6 Aug 2024 19:47:04 +0200 (CEST)
Received: from mail-yb1-f226.google.com (mail-yb1-f226.google.com
 [209.85.219.226])
 by mails.dpdk.org (Postfix) with ESMTP id 206F440270
 for <test-report@dpdk.org>; Tue,  6 Aug 2024 19:47:04 +0200 (CEST)
Received: by mail-yb1-f226.google.com with SMTP id
 3f1490d57ef6-e08724b2a08so843616276.1
 for <test-report@dpdk.org>; Tue, 06 Aug 2024 10:47:04 -0700 (PDT)
DKIM-Signature: v=1; a=rsa-sha256; c=relaxed/relaxed;
 d=iol.unh.edu; s=unh-iol; t=1722966423; x=1723571223; darn=dpdk.org;
 h=references:in-reply-to:cc:to:from:subject:message-id:date:from:to
 :cc:subject:date:message-id:reply-to;
 bh=xKsSMvsgQFX7EtcUPxdUO0aJLL38SSRypYl7rPo8Y9c=;
 b=IjxYWfs1322bEfDxrSadT+ObOmjjqIAD0yJ5wRija1FrG9OpYl2vRWCQIspCFgdPhV
 ZYLnHBniGKpHbH8LmvSumkJUxY5v/0CynhneAZcFYWTccl0xVbKsCeF06Rp3+yt6LLTn
 ttWamJm5BhF1gtQMfLOKDgPJFqudlPXN8CPxM=
X-Google-DKIM-Signature: v=1; a=rsa-sha256; c=relaxed/relaxed;
 d=1e100.net; s=20230601; t=1722966423; x=1723571223;
 h=references:in-reply-to:cc:to:from:subject:message-id:date
 :x-gm-message-state:from:to:cc:subject:date:message-id:reply-to;
 bh=xKsSMvsgQFX7EtcUPxdUO0aJLL38SSRypYl7rPo8Y9c=;
 b=Qlw1h2fWfFz7yGWjdAnIfGsRDGId6ezs/lTS+TE/PedMrNLWC5S1VBQ6DrmhcXKNVU
 t8yk0vrtHMqVbQrDva21E5dfWPP3Uw3ecRxjWR6PiEjCemrUdevJBG8AwWisxuwC1tYq
 Sxc2eQVjN8iujGEDpRuRs85i7xt1M/jitzhCq9bQ92GMcqsVL36+SLotVCr0yWnKXRQy
 FQ4as+GEzA5PpGykv//z3SRNbpzQU7X4oPUwszfpQCs857PmD+PNHsO1evQQrn+J1K8V
 C1QO1GpsVUu2ykvF3sOQGEhp5/TbDt0SvxWzPSOBx0RVTVuuzj93hgM3q5cQ8Sehiwia
 UkNg==
X-Gm-Message-State: AOJu0YxRWZBPxTfNUabbgI0SFLNnUHmsc1ZX4bV9cTKRn+OsZ69giTNq
 UCMFY4isW2dQJcQEZrTOz2LD431CbSi+UIXdnz+8FBkVzvrScm4TrMtxdsNt/QeLrxDwXS8OkBm
 Z8xka2fqcMdKDHvwCn840Pt+l2DsyAQbb5p2bLk1Q
X-Google-Smtp-Source: AGHT+IFnjJEOp7zeClI4yG3dsxro9xT/uFInMNWRr/UHuWEciJ5xxr0Q02qBSGSvzW+JomJOI3vcifEUOLB2
X-Received: by 2002:a05:6902:18d6:b0:e0b:2c11:bc4 with SMTP id
 3f1490d57ef6-e0bde2d171cmr21681926276.6.1722966423468; 
 Tue, 06 Aug 2024 10:47:03 -0700 (PDT)
Received: from postal.iol.unh.edu (postal.iol.unh.edu. [132.177.123.84])
 by smtp-relay.gmail.com with ESMTPS id
 3f1490d57ef6-e0e40896806sm337964276.22.2024.08.06.10.47.03
 (version=TLS1_2 cipher=ECDHE-ECDSA-AES128-GCM-SHA256 bits=128/128);
 Tue, 06 Aug 2024 10:47:03 -0700 (PDT)
X-Relaying-Domain: iol.unh.edu
Date: Tue, 06 Aug 2024 10:47:03 -0700 (PDT)
Message-ID: <66b26197.050a0220.ea44c.a055SMTPIN_ADDED_MISSING@mx.google.com>
Received: from [172.21.0.6] (unknown [172.18.0.240])
 by postal.iol.unh.edu (Postfix) with ESMTP id 1E77E605C351;
 Tue,  6 Aug 2024 13:47:03 -0400 (EDT)
Subject: |SUCCESS| pw142949-142953 [PATCH] [v2,5/5] dts: add testpmd set port
From: dpdklab@iol.unh.edu
To: Test Report <test-report@dpdk.org>
Cc: dpdk-test-reports@iol.unh.edu
In-Reply-To: <20240806124642.2580828-6-luca.vizzarro@arm.com>
References: <20240806124642.2580828-6-luca.vizzarro@arm.com>
Content-Type: text/plain
X-BeenThere: test-report@dpdk.org
X-Mailman-Version: 2.1.29
Precedence: list
List-Id: automatic DPDK test reports <test-report.dpdk.org>
List-Unsubscribe: <https://mails.dpdk.org/options/test-report>,
 <mailto:test-report-request@dpdk.org?subject=unsubscribe>
List-Archive: <http://mails.dpdk.org/archives/test-report/>
List-Post: <mailto:test-report@dpdk.org>
List-Help: <mailto:test-report-request@dpdk.org?subject=help>
List-Subscribe: <https://mails.dpdk.org/listinfo/test-report>,
 <mailto:test-report-request@dpdk.org?subject=subscribe>
Errors-To: test-report-bounces@dpdk.org

Test-Label: iol-compile-amd64-testing
Test-Status: SUCCESS
http://dpdk.org/patch/142953

_Testing PASS_

Submitter: Luca Vizzarro <luca.vizzarro@arm.com>
Date: Tuesday, August 06 2024 12:46:42 
DPDK git baseline: Repo:dpdk
  Branch: master
  CommitID:b3485f4293997d35b6daecc3437bb0c183a51fb3

142949-142953 --> testing pass

Upstream job id: Windows-Compile-DPDK-Mingw64#21319

Test environment and result as below:

+---------------------+--------------------+----------------------+-------------------+
|     Environment     | dpdk_meson_compile | dpdk_mingw64_compile | dpdk_msvc_compile |
+=====================+====================+======================+===================+
| Windows Server 2022 | PASS               | PASS                 | PASS              |
+---------------------+--------------------+----------------------+-------------------+
| Windows Server 2019 | PASS               | PASS                 | SKIPPED           |
+---------------------+--------------------+----------------------+-------------------+
| FreeBSD 13.3        | PASS               | SKIPPED              | SKIPPED           |
+---------------------+--------------------+----------------------+-------------------+
| FreeBSD 14.1        | PASS               | SKIPPED              | SKIPPED           |
+---------------------+--------------------+----------------------+-------------------+


Windows Server 2022
	Kernel: 10.0.20348.2031
	Compiler: clang 15.0.7, gcc 8.1.0 (MinGW), and MSVC VS 17.9

Windows Server 2019
	Kernel: 10.0.17763
	Compiler: clang 14.0 and gcc 8.1.0 (MinGW)

FreeBSD 13.3
	Kernel: 13.3-RELEASE-p1
	Compiler: clang 17.0.6

FreeBSD 14.1
	Kernel: 14.1
	Compiler: clang 18.1.5

To view detailed results, visit:
https://lab.dpdk.org/results/dashboard/patchsets/30729/

UNH-IOL DPDK Community Lab

To manage your email subscriptions, visit: 
https://lab.dpdk.org/results/dashboard/preferences/subscriptions/