From mboxrd@z Thu Jan 1 00:00:00 1970 Return-Path: Received: from mails.dpdk.org (mails.dpdk.org [217.70.189.124]) by inbox.dpdk.org (Postfix) with ESMTP id B456345752 for ; Tue, 6 Aug 2024 20:01:02 +0200 (CEST) Received: from mails.dpdk.org (localhost [127.0.0.1]) by mails.dpdk.org (Postfix) with ESMTP id AF1D34064A; Tue, 6 Aug 2024 20:01:02 +0200 (CEST) Received: from mail-io1-f97.google.com (mail-io1-f97.google.com [209.85.166.97]) by mails.dpdk.org (Postfix) with ESMTP id BDA8E40270 for ; Tue, 6 Aug 2024 20:01:00 +0200 (CEST) Received: by mail-io1-f97.google.com with SMTP id ca18e2360f4ac-81fdaccd75eso28672539f.3 for ; Tue, 06 Aug 2024 11:01:00 -0700 (PDT) DKIM-Signature: v=1; a=rsa-sha256; c=relaxed/relaxed; d=iol.unh.edu; s=unh-iol; t=1722967260; x=1723572060; darn=dpdk.org; h=references:in-reply-to:cc:to:from:subject:message-id:date:from:to :cc:subject:date:message-id:reply-to; bh=xl9FWQqA1EUW+Kz9Hxk8qbU+yVuz/V4OM4QqMvh6U9s=; b=TtQ+qoxahR6ue6LJGYtSOKZk1SOtj8g+VwCvNfp79p8eh/9+KdF0bHiinsRbSjGlYG mt4PYKzebqgsH/yhjzTQL0F++Mc/i2WzKvZT8i00lu2CnVoSOIHkFjPBxBMbA1Tyth2H DJQzaipPnKvfck0jHyqEViItHABn+2O7+M7S8= X-Google-DKIM-Signature: v=1; a=rsa-sha256; c=relaxed/relaxed; d=1e100.net; s=20230601; t=1722967260; x=1723572060; h=references:in-reply-to:cc:to:from:subject:message-id:date :x-gm-message-state:from:to:cc:subject:date:message-id:reply-to; bh=xl9FWQqA1EUW+Kz9Hxk8qbU+yVuz/V4OM4QqMvh6U9s=; b=dIcId33nOkmIHCIcb8A1S+HSXD1W7y9o1q0PbYX9AsrxfTWHDojYKQwhnr3rKs2OVe I0PKfJ3sqLKtJ4C0Z5LzGUz4g+2zpP4zixIgodq0KvntyIC45ICpQKKPuJCYHSsLWEEF Bp5VTCMz44JqYrdrk9vUxk9VgRYDFlc4XRSJsUQNrW2BVdaKxhbtbaT0VXhco539TMAA QStFiLnxcvQhVc9LloXGHdN8TDW55dP7YLOgl1qkBL1a4Kai5NQRfLb02utVqHlSFNsK LsNIlGaTguPyX6IrgJkKTt2pE3UalB3T8jugrq3Vdl0kZ4tNp8OyowrrtfWB1V5TFtsp cf0w== X-Gm-Message-State: AOJu0YxFQdc4EHc5JVkRTdPZl7ZdNAHisk24L6Gl/mPadnWezVMxUuRy mcLVl+3lJc9DnGMV2gRx3qMY0XZqW5CnwWfntYa08is9uA0JWgfN4lMxvx61byZcAx2V/40raXC cLJVXTAfz4Pa7kHOsUWEVO46QiHD1TZ0HfkW3sPf/ X-Google-Smtp-Source: AGHT+IEyDrE5aqsBf/0ZFywiI6qdH4pyNz4zOk6OiU3yMxZAu1RZ3rCdUKvjONAGPHTgs8p79Pooie4otLsz X-Received: by 2002:a92:c561:0:b0:398:acbe:d798 with SMTP id e9e14a558f8ab-39b1fb6bdfbmr208503775ab.4.1722967259888; Tue, 06 Aug 2024 11:00:59 -0700 (PDT) Received: from postal.iol.unh.edu (postal.iol.unh.edu. [132.177.123.84]) by smtp-relay.gmail.com with ESMTPS id e9e14a558f8ab-39b20a768d4sm10379735ab.9.2024.08.06.11.00.59 (version=TLS1_2 cipher=ECDHE-ECDSA-AES128-GCM-SHA256 bits=128/128); Tue, 06 Aug 2024 11:00:59 -0700 (PDT) X-Relaying-Domain: iol.unh.edu Date: Tue, 06 Aug 2024 11:00:59 -0700 (PDT) Message-ID: <66b264db.050a0220.198f1f.169cSMTPIN_ADDED_MISSING@mx.google.com> Received: from [172.21.0.6] (unknown [172.18.0.240]) by postal.iol.unh.edu (Postfix) with ESMTP id 5550D605C351; Tue, 6 Aug 2024 14:00:59 -0400 (EDT) Subject: |PENDING| pw142955-142957 [PATCH] [v1,3/3] meson: skip symlinks to P From: dpdklab@iol.unh.edu To: Test Report Cc: dpdk-test-reports@iol.unh.edu In-Reply-To: <20240806134218.3619913-4-g.singh@nxp.com> References: <20240806134218.3619913-4-g.singh@nxp.com> Content-Type: text/plain X-BeenThere: test-report@dpdk.org X-Mailman-Version: 2.1.29 Precedence: list List-Id: automatic DPDK test reports List-Unsubscribe: , List-Archive: List-Post: List-Help: List-Subscribe: , Errors-To: test-report-bounces@dpdk.org Test-Label: iol-compile-amd64-testing Test-Status: PENDING http://dpdk.org/patch/142957 _Testing pending_ Submitter: Gagandeep Singh Date: Tuesday, August 06 2024 13:42:18 DPDK git baseline: Repo:dpdk Branch: master CommitID:76fa7797c09d5b6bb4aaed8a8f48a3afd6fb2548 142955-142957 --> testing pending Upstream job id: Generic-DPDK-Compile-Meson#285009 Test environment and result as below: +---------------------+--------------------+------------------+-------------------+----------------------+-------------------+ | Environment | dpdk_meson_compile | dpdk_compile_ovs | dpdk_compile_spdk | dpdk_mingw64_compile | dpdk_msvc_compile | +=====================+====================+==================+===================+======================+===================+ | CentOS Stream 9 | PASS | PASS | PASS | SKIPPED | SKIPPED | +---------------------+--------------------+------------------+-------------------+----------------------+-------------------+ | Debian 12 | PASS | PASS | PASS | SKIPPED | SKIPPED | +---------------------+--------------------+------------------+-------------------+----------------------+-------------------+ | Debian Bullseye | PASS | PASS | PASS | SKIPPED | SKIPPED | +---------------------+--------------------+------------------+-------------------+----------------------+-------------------+ | Fedora 37 | PASS | PASS | PASS | SKIPPED | SKIPPED | +---------------------+--------------------+------------------+-------------------+----------------------+-------------------+ | Fedora 38 (Clang) | PASS | PASS | PASS | SKIPPED | SKIPPED | +---------------------+--------------------+------------------+-------------------+----------------------+-------------------+ | Fedora 38 | PASS | PASS | PASS | SKIPPED | SKIPPED | +---------------------+--------------------+------------------+-------------------+----------------------+-------------------+ | Fedora 39 (Clang) | PASS | PASS | PASS | SKIPPED | SKIPPED | +---------------------+--------------------+------------------+-------------------+----------------------+-------------------+ | Fedora 40 (Clang) | PASS | PASS | PASS | SKIPPED | SKIPPED | +---------------------+--------------------+------------------+-------------------+----------------------+-------------------+ | Fedora 39 | PASS | PASS | PASS | SKIPPED | SKIPPED | +---------------------+--------------------+------------------+-------------------+----------------------+-------------------+ | RHEL8 | PASS | PASS | SKIPPED | SKIPPED | SKIPPED | +---------------------+--------------------+------------------+-------------------+----------------------+-------------------+ | openSUSE Leap 15 | PEND | PEND | SKIPPED | SKIPPED | SKIPPED | +---------------------+--------------------+------------------+-------------------+----------------------+-------------------+ | Fedora 40 | PEND | PEND | PEND | SKIPPED | SKIPPED | +---------------------+--------------------+------------------+-------------------+----------------------+-------------------+ | RHEL9 | PEND | PEND | SKIPPED | SKIPPED | SKIPPED | +---------------------+--------------------+------------------+-------------------+----------------------+-------------------+ | Ubuntu 20.04 | PEND | PEND | SKIPPED | SKIPPED | SKIPPED | +---------------------+--------------------+------------------+-------------------+----------------------+-------------------+ | Ubuntu 22.04 | PEND | PEND | PEND | SKIPPED | SKIPPED | +---------------------+--------------------+------------------+-------------------+----------------------+-------------------+ | Ubuntu 24.04 | PEND | PEND | PEND | SKIPPED | SKIPPED | +---------------------+--------------------+------------------+-------------------+----------------------+-------------------+ | Windows Server 2019 | PASS | SKIPPED | SKIPPED | PASS | SKIPPED | +---------------------+--------------------+------------------+-------------------+----------------------+-------------------+ | Alpine | PEND | PEND | SKIPPED | SKIPPED | SKIPPED | +---------------------+--------------------+------------------+-------------------+----------------------+-------------------+ | Windows Server 2022 | PASS | SKIPPED | SKIPPED | PASS | PASS | +---------------------+--------------------+------------------+-------------------+----------------------+-------------------+ | FreeBSD 13.3 | PASS | SKIPPED | SKIPPED | SKIPPED | SKIPPED | +---------------------+--------------------+------------------+-------------------+----------------------+-------------------+ | FreeBSD 14.1 | PASS | SKIPPED | SKIPPED | SKIPPED | SKIPPED | +---------------------+--------------------+------------------+-------------------+----------------------+-------------------+ CentOS Stream 9 Kernel: 5.4.0-167-generic Compiler: gcc 11.4.1 20230605 Debian 12 Kernel: Container Host Kernel Compiler: gcc 12.2.0 Debian Bullseye Kernel: 5.4.0-167-generic Compiler: gcc 10.2.1-6 Fedora 37 Kernel: Depends on container host system Compiler: gcc 12.3.1 Fedora 38 (Clang) Kernel: Depends on container host Compiler: clang 16.0.6 Fedora 38 Kernel: Depends on container host Compiler: gcc 13.2.1 Fedora 39 (Clang) Kernel: Depends on container host Compiler: clang 17.0.6 Fedora 40 (Clang) Kernel: Depends on container host Compiler: clang 18.1.6 Fedora 39 Kernel: Depends on container host Compiler: gcc 13.2.1 RHEL8 Kernel: 5.4.0-167-generic Compiler: gcc 8.5.0 20210514 (Red Hat 8.5.0-20) openSUSE Leap 15 Kernel: 5.4.0-167-generic Compiler: gcc 7.5.0 Fedora 40 Kernel: Depends on container host Compiler: gcc 14.1.1 RHEL9 Kernel: Depends on container host Compiler: gcc 11.4.1 Ubuntu 20.04 Kernel: 5.4.0-167-generic Compiler: gcc 9.4.0-1ubuntu1~20.04.1 Ubuntu 22.04 Kernel: 5.4.0-167-generic Compiler: gcc 11.4.0 Ubuntu 24.04 Kernel: 5.4.0-167-generic Compiler: gcc 13.2.0 Windows Server 2019 Kernel: 10.0.17763 Compiler: clang 14.0 and gcc 8.1.0 (MinGW) Alpine Kernel: 5.4.0-167-generic Compiler: gcc (Alpine 13.2.1_git20231014) 13.2.1 20231014 Windows Server 2022 Kernel: 10.0.20348.2031 Compiler: clang 15.0.7, gcc 8.1.0 (MinGW), and MSVC VS 17.9 FreeBSD 13.3 Kernel: 13.3-RELEASE-p1 Compiler: clang 17.0.6 FreeBSD 14.1 Kernel: 14.1 Compiler: clang 18.1.5 To view detailed results, visit: https://lab.dpdk.org/results/dashboard/patchsets/30731/ UNH-IOL DPDK Community Lab To manage your email subscriptions, visit: https://lab.dpdk.org/results/dashboard/preferences/subscriptions/