From mboxrd@z Thu Jan 1 00:00:00 1970 Return-Path: Received: from mails.dpdk.org (mails.dpdk.org [217.70.189.124]) by inbox.dpdk.org (Postfix) with ESMTP id 94C6B45752 for ; Tue, 6 Aug 2024 20:37:24 +0200 (CEST) Received: from mails.dpdk.org (localhost [127.0.0.1]) by mails.dpdk.org (Postfix) with ESMTP id 8E3AF406B6; Tue, 6 Aug 2024 20:37:24 +0200 (CEST) Received: from mail-oo1-f99.google.com (mail-oo1-f99.google.com [209.85.161.99]) by mails.dpdk.org (Postfix) with ESMTP id 101AF40685 for ; Tue, 6 Aug 2024 20:37:23 +0200 (CEST) Received: by mail-oo1-f99.google.com with SMTP id 006d021491bc7-5d5e1c86b83so650063eaf.3 for ; Tue, 06 Aug 2024 11:37:23 -0700 (PDT) DKIM-Signature: v=1; a=rsa-sha256; c=relaxed/relaxed; d=iol.unh.edu; s=unh-iol; t=1722969442; x=1723574242; darn=dpdk.org; h=references:in-reply-to:cc:to:from:subject:message-id:date:from:to :cc:subject:date:message-id:reply-to; bh=A6gqORWm6fcwwVKZFhQExZyqA2V5eHCEKWSC9y/rFuQ=; b=az9Xeq2RvaDeaCfg33Eix7SlVBnTVZu7iNYLuvJqoGOgo1WFDdr4FueAkE3zTbR8gg TRwWhEncNf1ITANmIqcmjW1OLT+UihNdcTc/3wFvhh+nqiwub9l60KHIrRQD6bsdpGLl r1GvUQsPgySKACHUBCkuAy1WZO8RWoSmhYrqg= X-Google-DKIM-Signature: v=1; a=rsa-sha256; c=relaxed/relaxed; d=1e100.net; s=20230601; t=1722969442; x=1723574242; h=references:in-reply-to:cc:to:from:subject:message-id:date :x-gm-message-state:from:to:cc:subject:date:message-id:reply-to; bh=A6gqORWm6fcwwVKZFhQExZyqA2V5eHCEKWSC9y/rFuQ=; b=m1+D3fMz4G8AvFiApK6A1sAxoDB0BDc964S6pnzs+pmvIdyCPrXjUmAmgoD8pPEwKR oU19Vi8NLPL4yPIlMWgBW2oaPfuwWz88Qh78Kr898aUzaJAjKdkDCeLRb34uUtIbojaf Ja6nSOHKbRrLUAGW2y4+Jv0W4TU2nINlII+EppiaOMS7X7LUYxNw9AB402ygBDwP0Bad kvIbbUIKNfF+wmrzSHTtyBQeqvfQ9EnjJswdouXL3yM8oWS4K6c+6vkhYgb6KJtYynvc aFRHLlFG1qcaYamXs/+TJGL6ISzzSFhkQsBwIkjGsDKuurd89eggzIhXVLw9KJqG0dIQ M6nw== X-Gm-Message-State: AOJu0YzdVjK3RSicnBjj8LOui8vCboU8q8PwdHTJlGGeC1JQa5Od+H92 I20slwh1aUhOngH9luJxHBq3nGJGGYllwcjrlpIVNlHAQj+rWOotfVUwaOr6Szis1UJPhnTFsje mqqYLgWRgQ0rXH1y+c2nkMqPVub+AkzOrfdVyqscOAmwpo5NWZt/aW3M8 X-Google-Smtp-Source: AGHT+IGiOBTo6gmQzWAgFGKwEUzg8a+n2rL5+8o8vz1xI3jQ+XgkV9VL20s2DZJTTAkAaTxaKKmiLwRYAhFx X-Received: by 2002:a05:6820:2903:b0:5c9:d9db:6a51 with SMTP id 006d021491bc7-5d8107b74b9mr11524908eaf.0.1722969442217; Tue, 06 Aug 2024 11:37:22 -0700 (PDT) Received: from postal.iol.unh.edu (postal.iol.unh.edu. [2606:4100:3880:1234::84]) by smtp-relay.gmail.com with ESMTPS id 006d021491bc7-5d761e4acd1sm548525eaf.12.2024.08.06.11.37.22 (version=TLS1_2 cipher=ECDHE-ECDSA-AES128-GCM-SHA256 bits=128/128); Tue, 06 Aug 2024 11:37:22 -0700 (PDT) X-Relaying-Domain: iol.unh.edu Date: Tue, 06 Aug 2024 11:37:22 -0700 (PDT) Message-ID: <66b26d62.4a0a0220.105037.4b26SMTPIN_ADDED_MISSING@mx.google.com> Received: from [172.21.0.6] (unknown [172.18.0.240]) by postal.iol.unh.edu (Postfix) with ESMTP id A3C67605C351; Tue, 6 Aug 2024 14:37:21 -0400 (EDT) Subject: |PENDING| pw142955-142957 [PATCH] [v1,3/3] meson: skip symlinks to P From: dpdklab@iol.unh.edu To: Test Report Cc: dpdk-test-reports@iol.unh.edu In-Reply-To: <20240806134218.3619913-4-g.singh@nxp.com> References: <20240806134218.3619913-4-g.singh@nxp.com> Content-Type: text/plain X-BeenThere: test-report@dpdk.org X-Mailman-Version: 2.1.29 Precedence: list List-Id: automatic DPDK test reports List-Unsubscribe: , List-Archive: List-Post: List-Help: List-Subscribe: , Errors-To: test-report-bounces@dpdk.org Test-Label: iol-compile-arm64-testing Test-Status: PENDING http://dpdk.org/patch/142957 _Testing pending_ Submitter: Gagandeep Singh Date: Tuesday, August 06 2024 13:42:18 DPDK git baseline: Repo:dpdk Branch: master CommitID:76fa7797c09d5b6bb4aaed8a8f48a3afd6fb2548 142955-142957 --> testing pending Upstream job id: Generic-DPDK-Compile-Meson#285032 Test environment and result as below: +----------------------------------------+--------------------+ | Environment | dpdk_meson_compile | +========================================+====================+ | Ubuntu 20.04 ARM GCC Cross Compile | PEND | +----------------------------------------+--------------------+ | RHEL9 (ARM) | PASS | +----------------------------------------+--------------------+ | Debian 12 with MUSDK | PASS | +----------------------------------------+--------------------+ | Ubuntu 20.04 ARM SVE | PASS | +----------------------------------------+--------------------+ | Fedora 37 (ARM) | PEND | +----------------------------------------+--------------------+ | Fedora 38 (ARM Clang) | PASS | +----------------------------------------+--------------------+ | Fedora 38 (ARM) | PASS | +----------------------------------------+--------------------+ | Fedora 39 (ARM) | PEND | +----------------------------------------+--------------------+ | Fedora 39 (ARM Clang) | PASS | +----------------------------------------+--------------------+ | Fedora 40 (ARM) | PEND | +----------------------------------------+--------------------+ | Fedora 40 (ARM Clang) | PASS | +----------------------------------------+--------------------+ | Ubuntu 20.04 (ARM) | PASS | +----------------------------------------+--------------------+ | Ubuntu 22.04 (ARM) | PASS | +----------------------------------------+--------------------+ | Ubuntu 24.04 (ARM) | PASS | +----------------------------------------+--------------------+ | CentOS Stream 9 (ARM) | PASS | +----------------------------------------+--------------------+ | Debian 11 (Buster) (ARM) | PASS | +----------------------------------------+--------------------+ | Debian 12 (arm) | PEND | +----------------------------------------+--------------------+ | Ubuntu 20.04 ARM Clang Cross Compile | PASS | +----------------------------------------+--------------------+ | Ubuntu 20.04 aarch32 GCC Cross Compile | PASS | +----------------------------------------+--------------------+ Ubuntu 20.04 ARM GCC Cross Compile Kernel: 5.4.0-167-generic Compiler: aarch64-linux-gnu-gcc (Ubuntu 9.4.0-1ubuntu1~20.04.2) 9.4.0 RHEL9 (ARM) Kernel: Depends on container host Compiler: gcc 11.4.1 Debian 12 with MUSDK Kernel: Container Host Kernel Compiler: gcc 12.2.0 Ubuntu 20.04 ARM SVE Kernel: 5.4.0-167-generic Compiler: gcc (Ubuntu 10.5.0-1ubuntu1~20.04) 10.5.0 Fedora 37 (ARM) Kernel: Depends on container host Compiler: gcc 12.3.1 Fedora 38 (ARM Clang) Kernel: Depends on container host Compiler: clang 16.0.6 Fedora 38 (ARM) Kernel: Depends on container host Compiler: gcc 13.2.1 Fedora 39 (ARM) Kernel: Depends on container host Compiler: gcc 13.2.1 Fedora 39 (ARM Clang) Kernel: Depends on container host Compiler: clang 17.0.6 Fedora 40 (ARM) Kernel: Depends on container host Compiler: gcc 14.1.1 Fedora 40 (ARM Clang) Kernel: Depends on container host Compiler: clang 18.1.6 Ubuntu 20.04 (ARM) Kernel: Container Host Kernel Compiler: gcc 9.4.0 Ubuntu 22.04 (ARM) Kernel: Container Host Kernel Compiler: gcc 11.4.0 Ubuntu 24.04 (ARM) Kernel: 5.4.0-167-generic Compiler: gcc 13.2.0 CentOS Stream 9 (ARM) Kernel: Container Host Kernel Compiler: gcc 11.4.1 Debian 11 (Buster) (ARM) Kernel: Container Host Kernel Compiler: gcc 10.2.1 Debian 12 (arm) Kernel: Container Host Kernel Compiler: gcc 12.2.0 Ubuntu 20.04 ARM Clang Cross Compile Kernel: 5.4.0-72-generic Compiler: clang 10.0.0-4ubuntu1 Ubuntu 20.04 aarch32 GCC Cross Compile Kernel: 5.4.0-167-generic Compiler: gcc 9.4.0 To view detailed results, visit: https://lab.dpdk.org/results/dashboard/patchsets/30731/ UNH-IOL DPDK Community Lab To manage your email subscriptions, visit: https://lab.dpdk.org/results/dashboard/preferences/subscriptions/