From mboxrd@z Thu Jan  1 00:00:00 1970
Return-Path: <test-report-bounces@dpdk.org>
Received: from mails.dpdk.org (mails.dpdk.org [217.70.189.124])
	by inbox.dpdk.org (Postfix) with ESMTP id 098A245752
	for <public@inbox.dpdk.org>; Tue,  6 Aug 2024 21:06:51 +0200 (CEST)
Received: from mails.dpdk.org (localhost [127.0.0.1])
	by mails.dpdk.org (Postfix) with ESMTP id 0266D406B6;
	Tue,  6 Aug 2024 21:06:51 +0200 (CEST)
Received: from mail-io1-f97.google.com (mail-io1-f97.google.com
 [209.85.166.97]) by mails.dpdk.org (Postfix) with ESMTP id C526A40685
 for <test-report@dpdk.org>; Tue,  6 Aug 2024 21:06:49 +0200 (CEST)
Received: by mail-io1-f97.google.com with SMTP id
 ca18e2360f4ac-81f94ce22f2so39643439f.1
 for <test-report@dpdk.org>; Tue, 06 Aug 2024 12:06:49 -0700 (PDT)
DKIM-Signature: v=1; a=rsa-sha256; c=relaxed/relaxed;
 d=iol.unh.edu; s=unh-iol; t=1722971209; x=1723576009; darn=dpdk.org;
 h=references:in-reply-to:cc:to:from:subject:message-id:date:from:to
 :cc:subject:date:message-id:reply-to;
 bh=Qeg/km91JXOKupP2+rmDc93WaGBeFSOMEKJCz3Pf4XA=;
 b=ZFyNEr1umgmL4q0mVs0AxHjNnsVovcvCgcyIt6BRYL5Sw9wTQ7wgZpf4NyY9EbRdQ2
 qOVjvST2pj3v0DJKrh4aUuz+VAd8XPZoyKuJqtQl688Er8A8mOdwhiGSLCv4MMlLLJ8R
 QCeeb1mFYx53EdvaYQHjN2FiV/rSknD7zvqAQ=
X-Google-DKIM-Signature: v=1; a=rsa-sha256; c=relaxed/relaxed;
 d=1e100.net; s=20230601; t=1722971209; x=1723576009;
 h=references:in-reply-to:cc:to:from:subject:message-id:date
 :x-gm-message-state:from:to:cc:subject:date:message-id:reply-to;
 bh=Qeg/km91JXOKupP2+rmDc93WaGBeFSOMEKJCz3Pf4XA=;
 b=dsnrEIk9AXtzYAEtXTeQ9+JqQJ9cIrCfV5xRycqtwqdK1t/GB50FgE4PepSNhvWxvP
 XIVju96Sks+VBIUMwRtLhaif3IqorVqz30wBLdRlII6x4YafqaaAT1FYFJcZPSMpI21f
 Y4W92jXCQmn3m2yNJ0bMg8ositpuxsdiHemN76EZHn0X6HuMCCpTeUXnMMWVRYy3INmE
 QGU2SuYgaW2ADDa6oUDxy91/Ur6srBhlA/Tl6t4m95woOjIVlsbMNrlC7vz8nBSEay3t
 XUyUca9yxJH9PtXA72d5Ssg51f0METgqG+pR+8qHY/sWv4NjEawTxXQN+yUjb4XK6KZZ
 /lUA==
X-Gm-Message-State: AOJu0YxZkcT4d/Z13sjRMojvR/0pZufmxcVmO6KgTS135Rx5Mv4Jn+zx
 /5JyHLToCOlEmvKXQYbYRaDOvgIqsnTBhqr9RWKzwGBf7bPYptgdsVIyJltj/YbuimxgeRkcFyG
 /rC3NkWjhTIp3MMaMeAJeIXSpW0aF0NGN5lRN399Q
X-Google-Smtp-Source: AGHT+IFYAfEMhPeE0X3Q5JTnx8kPwERAMBKnT2fDFme4oRtI4ykU6XgUBf4TVMMbMQei3gY/jiE2X0+98O8E
X-Received: by 2002:a92:6610:0:b0:399:2c60:9951 with SMTP id
 e9e14a558f8ab-39b1fbf5c86mr173197315ab.20.1722971209068; 
 Tue, 06 Aug 2024 12:06:49 -0700 (PDT)
Received: from postal.iol.unh.edu (postal.iol.unh.edu. [132.177.123.84])
 by smtp-relay.gmail.com with ESMTPS id
 e9e14a558f8ab-39b3df7be39sm6961185ab.2.2024.08.06.12.06.48
 (version=TLS1_2 cipher=ECDHE-ECDSA-AES128-GCM-SHA256 bits=128/128);
 Tue, 06 Aug 2024 12:06:49 -0700 (PDT)
X-Relaying-Domain: iol.unh.edu
Date: Tue, 06 Aug 2024 12:06:49 -0700 (PDT)
Message-ID: <66b27449.050a0220.5de61.3879SMTPIN_ADDED_MISSING@mx.google.com>
Received: from [172.21.0.6] (unknown [172.18.0.240])
 by postal.iol.unh.edu (Postfix) with ESMTP id 7FDEE605C351;
 Tue,  6 Aug 2024 15:06:48 -0400 (EDT)
Subject: |PENDING| pw142955-142957 [PATCH] [v1,3/3] meson: skip symlinks to P
From: dpdklab@iol.unh.edu
To: Test Report <test-report@dpdk.org>
Cc: dpdk-test-reports@iol.unh.edu
In-Reply-To: <20240806134218.3619913-4-g.singh@nxp.com>
References: <20240806134218.3619913-4-g.singh@nxp.com>
Content-Type: text/plain
X-BeenThere: test-report@dpdk.org
X-Mailman-Version: 2.1.29
Precedence: list
List-Id: automatic DPDK test reports <test-report.dpdk.org>
List-Unsubscribe: <https://mails.dpdk.org/options/test-report>,
 <mailto:test-report-request@dpdk.org?subject=unsubscribe>
List-Archive: <http://mails.dpdk.org/archives/test-report/>
List-Post: <mailto:test-report@dpdk.org>
List-Help: <mailto:test-report-request@dpdk.org?subject=help>
List-Subscribe: <https://mails.dpdk.org/listinfo/test-report>,
 <mailto:test-report-request@dpdk.org?subject=subscribe>
Errors-To: test-report-bounces@dpdk.org

Test-Label: iol-unit-amd64-testing
Test-Status: PENDING
http://dpdk.org/patch/142957

_Testing pending_

Submitter: Gagandeep Singh <g.singh@nxp.com>
Date: Tuesday, August 06 2024 13:42:18 
DPDK git baseline: Repo:dpdk
  Branch: master
  CommitID:76fa7797c09d5b6bb4aaed8a8f48a3afd6fb2548

142955-142957 --> testing pending

Upstream job id: Generic-Unit-Test-DPDK#249246

Test environment and result as below:

+---------------------+----------------+
|     Environment     | dpdk_unit_test |
+=====================+================+
| Windows Server 2019 | PASS           |
+---------------------+----------------+
| Windows Server 2022 | PASS           |
+---------------------+----------------+
| CentOS Stream 9     | PASS           |
+---------------------+----------------+
| Debian Bullseye     | PASS           |
+---------------------+----------------+
| Debian 12           | PASS           |
+---------------------+----------------+
| Fedora 39           | PASS           |
+---------------------+----------------+
| Fedora 37           | PASS           |
+---------------------+----------------+
| Fedora 38           | PASS           |
+---------------------+----------------+
| Fedora 38 (Clang)   | PASS           |
+---------------------+----------------+
| Fedora 40           | PASS           |
+---------------------+----------------+
| Fedora 40 (Clang)   | PASS           |
+---------------------+----------------+
| RHEL9               | PASS           |
+---------------------+----------------+
| openSUSE Leap 15    | PASS           |
+---------------------+----------------+
| RHEL8               | PASS           |
+---------------------+----------------+
| Ubuntu 22.04        | PASS           |
+---------------------+----------------+
| Ubuntu 24.04        | PASS           |
+---------------------+----------------+
| Ubuntu 20.04        | PEND           |
+---------------------+----------------+
| Fedora 39 (Clang)   | PASS           |
+---------------------+----------------+


Windows Server 2019
	Kernel: 10.0.17763
	Compiler: clang 14.0 and gcc 8.1.0 (MinGW)

Windows Server 2022
	Kernel: 10.0.20348.2031
	Compiler: clang 15.0.7, gcc 8.1.0 (MinGW), and MSVC VS 17.9

CentOS Stream 9
	Kernel: 5.4.0-167-generic
	Compiler: gcc 11.4.1 20230605

Debian Bullseye
	Kernel: 5.4.0-167-generic
	Compiler: gcc 10.2.1-6

Debian 12
	Kernel: Container Host Kernel
	Compiler: gcc 12.2.0

Fedora 39
	Kernel: Depends on container host
	Compiler: gcc 13.2.1

Fedora 37
	Kernel: Depends on container host system
	Compiler: gcc 12.3.1

Fedora 38
	Kernel: Depends on container host
	Compiler: gcc 13.2.1

Fedora 38 (Clang)
	Kernel: Depends on container host
	Compiler: clang 16.0.6

Fedora 40
	Kernel: Depends on container host
	Compiler: gcc 14.1.1

Fedora 40 (Clang)
	Kernel: Depends on container host
	Compiler: clang 18.1.6

RHEL9
	Kernel: Depends on container host
	Compiler: gcc 11.4.1

openSUSE Leap 15
	Kernel: 5.4.0-167-generic
	Compiler: gcc 7.5.0

RHEL8
	Kernel: 5.4.0-167-generic
	Compiler: gcc 8.5.0 20210514 (Red Hat 8.5.0-20)

Ubuntu 22.04
	Kernel: 5.4.0-167-generic
	Compiler: gcc 11.4.0

Ubuntu 24.04
	Kernel: 5.4.0-167-generic
	Compiler: gcc 13.2.0

Ubuntu 20.04
	Kernel: 5.4.0-167-generic
	Compiler: gcc 9.4.0-1ubuntu1~20.04.1

Fedora 39 (Clang)
	Kernel: Depends on container host
	Compiler: clang 17.0.6

To view detailed results, visit:
https://lab.dpdk.org/results/dashboard/patchsets/30731/

UNH-IOL DPDK Community Lab

To manage your email subscriptions, visit: 
https://lab.dpdk.org/results/dashboard/preferences/subscriptions/