From mboxrd@z Thu Jan 1 00:00:00 1970 Return-Path: Received: from mails.dpdk.org (mails.dpdk.org [217.70.189.124]) by inbox.dpdk.org (Postfix) with ESMTP id 07FA845752 for ; Tue, 6 Aug 2024 21:10:27 +0200 (CEST) Received: from mails.dpdk.org (localhost [127.0.0.1]) by mails.dpdk.org (Postfix) with ESMTP id 01E33406B6; Tue, 6 Aug 2024 21:10:27 +0200 (CEST) Received: from mail-ot1-f97.google.com (mail-ot1-f97.google.com [209.85.210.97]) by mails.dpdk.org (Postfix) with ESMTP id BC19B40685 for ; Tue, 6 Aug 2024 21:10:21 +0200 (CEST) Received: by mail-ot1-f97.google.com with SMTP id 46e09a7af769-709339c91f9so435877a34.0 for ; Tue, 06 Aug 2024 12:10:21 -0700 (PDT) DKIM-Signature: v=1; a=rsa-sha256; c=relaxed/relaxed; d=iol.unh.edu; s=unh-iol; t=1722971421; x=1723576221; darn=dpdk.org; h=references:in-reply-to:cc:to:from:subject:message-id:date:from:to :cc:subject:date:message-id:reply-to; bh=SCcq8br3k8y0HS8yjIMlxDtdRsSfo2DbhMuGNPy2pFk=; b=GRqG/h1v9ROpPYoUpQthB1EN7W5TSggUiQ2w+yKbCZayyXwdwAdYasX7hgv1C0+sDH PozFLY0syu9zlXRYqA0OHhEM2UM52SlP6/t75bvi/CJyjXspKnMxpRaYwJu7Rw7Vdi39 uqkor6l9OC+jMvgzKWaQw76axpmG/PI7HRK8U= X-Google-DKIM-Signature: v=1; a=rsa-sha256; c=relaxed/relaxed; d=1e100.net; s=20230601; t=1722971421; x=1723576221; h=references:in-reply-to:cc:to:from:subject:message-id:date :x-gm-message-state:from:to:cc:subject:date:message-id:reply-to; bh=SCcq8br3k8y0HS8yjIMlxDtdRsSfo2DbhMuGNPy2pFk=; b=dZqbjhwPZMJF8woOYaeKUn67XEoFEhzT9KqPk68VtL/SVz4+2rekX1cQeR6+0d9LO6 sN4Q8tz34LYkyEP31LSEo3EJed+8wdBwfmayHQOAL+NMnyE9EeJO3IbPwtciNVLCoO9G 21313bVLG8fjEn8GJtX+Rd2DYnbvsTAXhK8zxVPPMCnREV8+VDUnFt0FAxO+JJSyvVOu zJDbeYtux5MM8AwM5n6sXfhYrXhOWaN5oygSiJayhHneZ49ShM0DufoL8FD5HPu/n9vb 3TY0CB9PyKL25nyt0Q/pkW+P6+jM+aZ59T09XkSGKAOweQaMRU+cw+RQwCskEZ+fGqW6 06Hw== X-Gm-Message-State: AOJu0Yx10iLZKTk9V/mRkCStfLqNdkOdcjQVMPxEH3V0yxWjPXbuODDk 6um+dR5t7yomHqiHWsdltPf8L87REpZEKYMyOwshmZB4yM8yAEzZwpa5miFAUGnzoiz7/GaKT5x pJKddTII7VCIgSGHVZB76WNA55U4xKY7n+5ZNx6o8 X-Google-Smtp-Source: AGHT+IHWZYDO8UmMcvfYtOPGKENA5todATMGYEn3pyi45kAXw2uwVojo+TSmOayPwOHNXKus4Hxyci0lis7R X-Received: by 2002:a05:6830:2aac:b0:70a:948c:6b3f with SMTP id 46e09a7af769-70a948c6e09mr16944223a34.12.1722971421020; Tue, 06 Aug 2024 12:10:21 -0700 (PDT) Received: from postal.iol.unh.edu (postal.iol.unh.edu. [132.177.123.84]) by smtp-relay.gmail.com with ESMTPS id 6a1803df08f44-6bbb0abe4f8sm3175336d6.10.2024.08.06.12.10.20 (version=TLS1_2 cipher=ECDHE-ECDSA-AES128-GCM-SHA256 bits=128/128); Tue, 06 Aug 2024 12:10:20 -0700 (PDT) X-Relaying-Domain: iol.unh.edu Date: Tue, 06 Aug 2024 12:10:20 -0700 (PDT) Message-ID: <66b2751c.050a0220.3d9bd5.9491SMTPIN_ADDED_MISSING@mx.google.com> Received: from [172.21.0.6] (unknown [172.18.0.240]) by postal.iol.unh.edu (Postfix) with ESMTP id B2D70605C351; Tue, 6 Aug 2024 15:10:20 -0400 (EDT) Subject: |PENDING| pw142949-142953 [PATCH] [v2,5/5] dts: add testpmd set port From: dpdklab@iol.unh.edu To: Test Report Cc: dpdk-test-reports@iol.unh.edu In-Reply-To: <20240806124642.2580828-6-luca.vizzarro@arm.com> References: <20240806124642.2580828-6-luca.vizzarro@arm.com> Content-Type: text/plain X-BeenThere: test-report@dpdk.org X-Mailman-Version: 2.1.29 Precedence: list List-Id: automatic DPDK test reports List-Unsubscribe: , List-Archive: List-Post: List-Help: List-Subscribe: , Errors-To: test-report-bounces@dpdk.org Test-Label: iol-unit-arm64-testing Test-Status: PENDING http://dpdk.org/patch/142953 _Testing pending_ Submitter: Luca Vizzarro Date: Tuesday, August 06 2024 12:46:42 DPDK git baseline: Repo:dpdk Branch: master CommitID:b3485f4293997d35b6daecc3437bb0c183a51fb3 142949-142953 --> testing pending Upstream job id: Generic-Unit-Test-DPDK#249300 Test environment and result as below: +-----------------------------+--------------+----------------+------------------------------+---------------------------+ | Environment | lpm_autotest | dpdk_unit_test | cryptodev_sw_snow3g_autotest | cryptodev_sw_zuc_autotest | +=============================+==============+================+==============================+===========================+ | Ubuntu 20.04 ARM SVE | PEND | SKIPPED | SKIPPED | SKIPPED | +-----------------------------+--------------+----------------+------------------------------+---------------------------+ | 32-bit Ubuntu 20.04.4 (ARM) | SKIPPED | PASS | SKIPPED | SKIPPED | +-----------------------------+--------------+----------------+------------------------------+---------------------------+ | CentOS Stream 9 (ARM) | SKIPPED | PASS | SKIPPED | SKIPPED | +-----------------------------+--------------+----------------+------------------------------+---------------------------+ | Debian 11 (Buster) (ARM) | SKIPPED | PEND | SKIPPED | SKIPPED | +-----------------------------+--------------+----------------+------------------------------+---------------------------+ | Debian 12 (arm) | SKIPPED | PEND | PASS | PASS | +-----------------------------+--------------+----------------+------------------------------+---------------------------+ | Fedora 38 (ARM Clang) | SKIPPED | PEND | SKIPPED | SKIPPED | +-----------------------------+--------------+----------------+------------------------------+---------------------------+ | Fedora 37 (ARM) | SKIPPED | PEND | SKIPPED | SKIPPED | +-----------------------------+--------------+----------------+------------------------------+---------------------------+ | Fedora 38 (ARM) | SKIPPED | PEND | SKIPPED | SKIPPED | +-----------------------------+--------------+----------------+------------------------------+---------------------------+ | Fedora 39 (ARM Clang) | SKIPPED | PEND | SKIPPED | SKIPPED | +-----------------------------+--------------+----------------+------------------------------+---------------------------+ | Fedora 40 (ARM) | SKIPPED | PEND | SKIPPED | SKIPPED | +-----------------------------+--------------+----------------+------------------------------+---------------------------+ | Fedora 40 (ARM Clang) | SKIPPED | PEND | SKIPPED | SKIPPED | +-----------------------------+--------------+----------------+------------------------------+---------------------------+ | Fedora 39 (ARM) | SKIPPED | PEND | SKIPPED | SKIPPED | +-----------------------------+--------------+----------------+------------------------------+---------------------------+ | RHEL9 (ARM) | SKIPPED | PEND | SKIPPED | SKIPPED | +-----------------------------+--------------+----------------+------------------------------+---------------------------+ | Ubuntu 20.04 (ARM) | SKIPPED | PEND | SKIPPED | SKIPPED | +-----------------------------+--------------+----------------+------------------------------+---------------------------+ | Ubuntu 22.04 (ARM) | SKIPPED | PEND | SKIPPED | SKIPPED | +-----------------------------+--------------+----------------+------------------------------+---------------------------+ | Ubuntu 24.04 (ARM) | SKIPPED | PEND | SKIPPED | SKIPPED | +-----------------------------+--------------+----------------+------------------------------+---------------------------+ Ubuntu 20.04 ARM SVE Kernel: 5.4.0-167-generic Compiler: gcc (Ubuntu 10.5.0-1ubuntu1~20.04) 10.5.0 32-bit Ubuntu 20.04.4 (ARM) Kernel: 5.4.0-155-generic aarch64 Compiler: gcc 9.4 CentOS Stream 9 (ARM) Kernel: Container Host Kernel Compiler: gcc 11.4.1 Debian 11 (Buster) (ARM) Kernel: Container Host Kernel Compiler: gcc 10.2.1 Debian 12 (arm) Kernel: Container Host Kernel Compiler: gcc 12.2.0 Fedora 38 (ARM Clang) Kernel: Depends on container host Compiler: clang 16.0.6 Fedora 37 (ARM) Kernel: Depends on container host Compiler: gcc 12.3.1 Fedora 38 (ARM) Kernel: Depends on container host Compiler: gcc 13.2.1 Fedora 39 (ARM Clang) Kernel: Depends on container host Compiler: clang 17.0.6 Fedora 40 (ARM) Kernel: Depends on container host Compiler: gcc 14.1.1 Fedora 40 (ARM Clang) Kernel: Depends on container host Compiler: clang 18.1.6 Fedora 39 (ARM) Kernel: Depends on container host Compiler: gcc 13.2.1 RHEL9 (ARM) Kernel: Depends on container host Compiler: gcc 11.4.1 Ubuntu 20.04 (ARM) Kernel: Container Host Kernel Compiler: gcc 9.4.0 Ubuntu 22.04 (ARM) Kernel: Container Host Kernel Compiler: gcc 11.4.0 Ubuntu 24.04 (ARM) Kernel: 5.4.0-167-generic Compiler: gcc 13.2.0 To view detailed results, visit: https://lab.dpdk.org/results/dashboard/patchsets/30729/ UNH-IOL DPDK Community Lab To manage your email subscriptions, visit: https://lab.dpdk.org/results/dashboard/preferences/subscriptions/