From mboxrd@z Thu Jan  1 00:00:00 1970
Return-Path: <test-report-bounces@dpdk.org>
Received: from mails.dpdk.org (mails.dpdk.org [217.70.189.124])
	by inbox.dpdk.org (Postfix) with ESMTP id EBEA345753
	for <public@inbox.dpdk.org>; Tue,  6 Aug 2024 22:19:04 +0200 (CEST)
Received: from mails.dpdk.org (localhost [127.0.0.1])
	by mails.dpdk.org (Postfix) with ESMTP id E805340668;
	Tue,  6 Aug 2024 22:19:04 +0200 (CEST)
Received: from mail-pl1-f226.google.com (mail-pl1-f226.google.com
 [209.85.214.226])
 by mails.dpdk.org (Postfix) with ESMTP id D082C40608
 for <test-report@dpdk.org>; Tue,  6 Aug 2024 22:19:03 +0200 (CEST)
Received: by mail-pl1-f226.google.com with SMTP id
 d9443c01a7336-1fc569440e1so10634925ad.3
 for <test-report@dpdk.org>; Tue, 06 Aug 2024 13:19:03 -0700 (PDT)
DKIM-Signature: v=1; a=rsa-sha256; c=relaxed/relaxed;
 d=iol.unh.edu; s=unh-iol; t=1722975543; x=1723580343; darn=dpdk.org;
 h=references:in-reply-to:cc:to:from:subject:message-id:date:from:to
 :cc:subject:date:message-id:reply-to;
 bh=CrPpbgonm2GvVPBo+3FbZWWRAzia/fVkR7kUDSRRywQ=;
 b=awFWqfAbjBEkwNUJDCkqAoVtAwqHPK08wAArb04k55XBT9CfZUrzN8hF0v+fIrJtBs
 0g8lAsOTSrwcUb6gFU7hTMCNUUS5D2cQSSRMjvGHlaG6WH1U/twwSwC/DhNK88xpurBC
 tGtNiHWFYEj8kNmL1Z0gfklg0pMvvLH4wYc44=
X-Google-DKIM-Signature: v=1; a=rsa-sha256; c=relaxed/relaxed;
 d=1e100.net; s=20230601; t=1722975543; x=1723580343;
 h=references:in-reply-to:cc:to:from:subject:message-id:date
 :x-gm-message-state:from:to:cc:subject:date:message-id:reply-to;
 bh=CrPpbgonm2GvVPBo+3FbZWWRAzia/fVkR7kUDSRRywQ=;
 b=YLZa8yLtxabtAl0tYpPmHn/SiE0W2UfZRE4Pc/KZKY0+jDMPILeHFgYHlbPqOA3mok
 eANrOhznr0XWOZQEg27w8ZnJuD5KowNqqbxE5/5W7Vg8M9BT2g2G9oEMWbsQpi3XG1Ue
 m8BfCsjUneMSA8dvqDhVxcfuHGPx+9AjWqUeEujJ42R6D4FyUSC5168dRHrwWUDAg3Oq
 AdR/pdNp3uaS5Jc7rR4xDxDxwMjILrOtXhLQo35z4K82TFgKfK/xZvKyCcmhpAXaiw+U
 iHY+Kxe5veNlpSXSJr7jQEJDNJM7bhN7UqBF5DDKtBWInX5llw0AGUHsqQShRXg710xD
 Iufw==
X-Gm-Message-State: AOJu0YylZ4UAsW9EEduXlpvhS4frLueSUneIbFga2Zkb1/xb4cqvCa+z
 xR2XAqyup7FkUO7ZhutWWuwWpoE9XInzhy7GXWCKUHFaGiVy87/Tbt3jLYTddmiBn61AcAEYCOZ
 tnara5F22/aTxQ2p1LbR1AHvUvbWIGS7yeXE9lfmw
X-Google-Smtp-Source: AGHT+IGF+JILNhjvTV67x5ScS21Bc9y25AppkjX9Za16vhzINApEc5cD+7f228JTILqKFKJXplkZg8bo+BtN
X-Received: by 2002:a17:902:e74b:b0:1fb:7e13:a7c5 with SMTP id
 d9443c01a7336-1ff573cc565mr218547575ad.45.1722975542877; 
 Tue, 06 Aug 2024 13:19:02 -0700 (PDT)
Received: from postal.iol.unh.edu (postal.iol.unh.edu. [132.177.123.84])
 by smtp-relay.gmail.com with ESMTPS id
 d9443c01a7336-1ff59178267sm8088255ad.107.2024.08.06.13.19.02
 (version=TLS1_2 cipher=ECDHE-ECDSA-AES128-GCM-SHA256 bits=128/128);
 Tue, 06 Aug 2024 13:19:02 -0700 (PDT)
X-Relaying-Domain: iol.unh.edu
Date: Tue, 06 Aug 2024 13:19:02 -0700 (PDT)
Message-ID: <66b28536.170a0220.315c83.ac02SMTPIN_ADDED_MISSING@mx.google.com>
Received: from [172.21.0.6] (unknown [172.18.0.240])
 by postal.iol.unh.edu (Postfix) with ESMTP id F2988605C351;
 Tue,  6 Aug 2024 16:19:01 -0400 (EDT)
Subject: |PENDING| pw142949-142953 [PATCH] [v2,5/5] dts: add testpmd set port
From: dpdklab@iol.unh.edu
To: Test Report <test-report@dpdk.org>
Cc: dpdk-test-reports@iol.unh.edu
In-Reply-To: <20240806124642.2580828-6-luca.vizzarro@arm.com>
References: <20240806124642.2580828-6-luca.vizzarro@arm.com>
Content-Type: text/plain
X-BeenThere: test-report@dpdk.org
X-Mailman-Version: 2.1.29
Precedence: list
List-Id: automatic DPDK test reports <test-report.dpdk.org>
List-Unsubscribe: <https://mails.dpdk.org/options/test-report>,
 <mailto:test-report-request@dpdk.org?subject=unsubscribe>
List-Archive: <http://mails.dpdk.org/archives/test-report/>
List-Post: <mailto:test-report@dpdk.org>
List-Help: <mailto:test-report-request@dpdk.org?subject=help>
List-Subscribe: <https://mails.dpdk.org/listinfo/test-report>,
 <mailto:test-report-request@dpdk.org?subject=subscribe>
Errors-To: test-report-bounces@dpdk.org

Test-Label: iol-unit-amd64-testing
Test-Status: PENDING
http://dpdk.org/patch/142953

_Testing pending_

Submitter: Luca Vizzarro <luca.vizzarro@arm.com>
Date: Tuesday, August 06 2024 12:46:42 
DPDK git baseline: Repo:dpdk
  Branch: master
  CommitID:b3485f4293997d35b6daecc3437bb0c183a51fb3

142949-142953 --> testing pending

Upstream job id: Generic-Unit-Test-DPDK#249322

Test environment and result as below:

+---------------------+----------------+
|     Environment     | dpdk_unit_test |
+=====================+================+
| Windows Server 2019 | PASS           |
+---------------------+----------------+
| CentOS Stream 9     | PASS           |
+---------------------+----------------+
| Debian Bullseye     | PASS           |
+---------------------+----------------+
| Debian 12           | PASS           |
+---------------------+----------------+
| Windows Server 2022 | PASS           |
+---------------------+----------------+
| Fedora 37           | PASS           |
+---------------------+----------------+
| Fedora 39           | PASS           |
+---------------------+----------------+
| Fedora 38 (Clang)   | PASS           |
+---------------------+----------------+
| Fedora 38           | PASS           |
+---------------------+----------------+
| Fedora 40           | PEND           |
+---------------------+----------------+
| Fedora 39 (Clang)   | PASS           |
+---------------------+----------------+
| Fedora 40 (Clang)   | PASS           |
+---------------------+----------------+
| openSUSE Leap 15    | PEND           |
+---------------------+----------------+
| RHEL8               | PASS           |
+---------------------+----------------+
| RHEL9               | PEND           |
+---------------------+----------------+
| Ubuntu 20.04        | PEND           |
+---------------------+----------------+
| Ubuntu 24.04        | PEND           |
+---------------------+----------------+
| Ubuntu 22.04        | PEND           |
+---------------------+----------------+


Windows Server 2019
	Kernel: 10.0.17763
	Compiler: clang 14.0 and gcc 8.1.0 (MinGW)

CentOS Stream 9
	Kernel: 5.4.0-167-generic
	Compiler: gcc 11.4.1 20230605

Debian Bullseye
	Kernel: 5.4.0-167-generic
	Compiler: gcc 10.2.1-6

Debian 12
	Kernel: Container Host Kernel
	Compiler: gcc 12.2.0

Windows Server 2022
	Kernel: 10.0.20348.2031
	Compiler: clang 15.0.7, gcc 8.1.0 (MinGW), and MSVC VS 17.9

Fedora 37
	Kernel: Depends on container host system
	Compiler: gcc 12.3.1

Fedora 39
	Kernel: Depends on container host
	Compiler: gcc 13.2.1

Fedora 38 (Clang)
	Kernel: Depends on container host
	Compiler: clang 16.0.6

Fedora 38
	Kernel: Depends on container host
	Compiler: gcc 13.2.1

Fedora 40
	Kernel: Depends on container host
	Compiler: gcc 14.1.1

Fedora 39 (Clang)
	Kernel: Depends on container host
	Compiler: clang 17.0.6

Fedora 40 (Clang)
	Kernel: Depends on container host
	Compiler: clang 18.1.6

openSUSE Leap 15
	Kernel: 5.4.0-167-generic
	Compiler: gcc 7.5.0

RHEL8
	Kernel: 5.4.0-167-generic
	Compiler: gcc 8.5.0 20210514 (Red Hat 8.5.0-20)

RHEL9
	Kernel: Depends on container host
	Compiler: gcc 11.4.1

Ubuntu 20.04
	Kernel: 5.4.0-167-generic
	Compiler: gcc 9.4.0-1ubuntu1~20.04.1

Ubuntu 24.04
	Kernel: 5.4.0-167-generic
	Compiler: gcc 13.2.0

Ubuntu 22.04
	Kernel: 5.4.0-167-generic
	Compiler: gcc 11.4.0

To view detailed results, visit:
https://lab.dpdk.org/results/dashboard/patchsets/30729/

UNH-IOL DPDK Community Lab

To manage your email subscriptions, visit: 
https://lab.dpdk.org/results/dashboard/preferences/subscriptions/