From mboxrd@z Thu Jan  1 00:00:00 1970
Return-Path: <test-report-bounces@dpdk.org>
Received: from mails.dpdk.org (mails.dpdk.org [217.70.189.124])
	by inbox.dpdk.org (Postfix) with ESMTP id EACA345755
	for <public@inbox.dpdk.org>; Tue,  6 Aug 2024 23:57:12 +0200 (CEST)
Received: from mails.dpdk.org (localhost [127.0.0.1])
	by mails.dpdk.org (Postfix) with ESMTP id E1DCB40668;
	Tue,  6 Aug 2024 23:57:12 +0200 (CEST)
Received: from mail-yw1-f228.google.com (mail-yw1-f228.google.com
 [209.85.128.228])
 by mails.dpdk.org (Postfix) with ESMTP id 2FAB140608
 for <test-report@dpdk.org>; Tue,  6 Aug 2024 23:57:11 +0200 (CEST)
Received: by mail-yw1-f228.google.com with SMTP id
 00721157ae682-68aa9c894c7so11020497b3.1
 for <test-report@dpdk.org>; Tue, 06 Aug 2024 14:57:11 -0700 (PDT)
DKIM-Signature: v=1; a=rsa-sha256; c=relaxed/relaxed;
 d=iol.unh.edu; s=unh-iol; t=1722981430; x=1723586230; darn=dpdk.org;
 h=references:in-reply-to:cc:to:from:subject:message-id:date:from:to
 :cc:subject:date:message-id:reply-to;
 bh=5OV9VgupSu5tQdjHK2HJNKYNVpH9ZBHji+/rg1IKZsk=;
 b=Bn1R1V/d7Ha46mNhyeuEG8Cupv3RFYU6yuZxfCJ6asOU9ECQHHjIkpQuFVM087ZjrA
 1Oh6UuboWe/WLvJp96XXADC1TLiyTulYDz5TaB+0gX7spSSfKRRUNRCsxGe08p8W6qkp
 I1fbk7wtL7gt/MrZURTFENqteYbf7X0wImLEs=
X-Google-DKIM-Signature: v=1; a=rsa-sha256; c=relaxed/relaxed;
 d=1e100.net; s=20230601; t=1722981430; x=1723586230;
 h=references:in-reply-to:cc:to:from:subject:message-id:date
 :x-gm-message-state:from:to:cc:subject:date:message-id:reply-to;
 bh=5OV9VgupSu5tQdjHK2HJNKYNVpH9ZBHji+/rg1IKZsk=;
 b=EzDWAcN7ofrzNoKtzJo1WSDziw2ZV1laMgGoLAg6w6fRJ/PW1V1rndvtUNR2wIXGs/
 rvnjo6aWDRWKWeTuWZuZmnq9T61FhZM5+EEUaZ3K9EJHCuDTVvTFFZc4JEkXuZKjCiXv
 i1rfaXl5BpE5z9ZcL2t6Vthq1gSBdMbukW+Q++gC0Xy+/h52n5FOxIIYgN6C1Z5Fnmy2
 m8Nh2aFAKygedgHlfyD6k8BNd9tkM58jYR2mm+9Awnr/VparqHqweM/Cbc1IYomZeLLt
 Y9lRlDTTHnGQKuup9RIbWmjj1KZ42JYstpfs5TsRxvz4IN9ubYNTCHn4LlSulDNCWbsX
 0Mkg==
X-Gm-Message-State: AOJu0YyMvHBQl9xhheDS2wXshSagxkcPrVJZC7PBDj+yUs3kWNAg5B2B
 VFLftK/e27085ytg1ywWis7/ECrRFWaSSPtv2afOXkpu7lq410fTH0VW4zbByu6XOkKLetTwcwu
 yMubiDCUToBomm2STG6RgVr0euaGS9GHvcewI7J99
X-Google-Smtp-Source: AGHT+IF/lIn5LcAuVD0+Q//PXUYpSPhCn05IDti2n+/+NQ3rCvn1jdQpfi4WGFVbFd5If8tRGNfvgKRBM6uc
X-Received: by 2002:a0d:f002:0:b0:672:e88b:6d0a with SMTP id
 00721157ae682-6896457c91dmr178345947b3.43.1722981430511; 
 Tue, 06 Aug 2024 14:57:10 -0700 (PDT)
Received: from postal.iol.unh.edu (postal.iol.unh.edu. [132.177.123.84])
 by smtp-relay.gmail.com with ESMTPS id
 00721157ae682-68a116dbc9asm9313977b3.16.2024.08.06.14.57.10
 (version=TLS1_2 cipher=ECDHE-ECDSA-AES128-GCM-SHA256 bits=128/128);
 Tue, 06 Aug 2024 14:57:10 -0700 (PDT)
X-Relaying-Domain: iol.unh.edu
Date: Tue, 06 Aug 2024 14:57:10 -0700 (PDT)
Message-ID: <66b29c36.810a0220.c9c7f.1e36SMTPIN_ADDED_MISSING@mx.google.com>
Received: from [172.21.0.6] (unknown [172.18.0.240])
 by postal.iol.unh.edu (Postfix) with ESMTP id 2789A605C351;
 Tue,  6 Aug 2024 17:57:10 -0400 (EDT)
Subject: |PENDING| pw142959-142963 [PATCH] [v15,5/5] dts: add API doc generat
From: dpdklab@iol.unh.edu
To: Test Report <test-report@dpdk.org>
Cc: dpdk-test-reports@iol.unh.edu
In-Reply-To: <20240806151937.391917-6-juraj.linkes@pantheon.tech>
References: <20240806151937.391917-6-juraj.linkes@pantheon.tech>
Content-Type: text/plain
X-BeenThere: test-report@dpdk.org
X-Mailman-Version: 2.1.29
Precedence: list
List-Id: automatic DPDK test reports <test-report.dpdk.org>
List-Unsubscribe: <https://mails.dpdk.org/options/test-report>,
 <mailto:test-report-request@dpdk.org?subject=unsubscribe>
List-Archive: <http://mails.dpdk.org/archives/test-report/>
List-Post: <mailto:test-report@dpdk.org>
List-Help: <mailto:test-report-request@dpdk.org?subject=help>
List-Subscribe: <https://mails.dpdk.org/listinfo/test-report>,
 <mailto:test-report-request@dpdk.org?subject=subscribe>
Errors-To: test-report-bounces@dpdk.org

Test-Label: iol-abi-testing
Test-Status: PENDING
http://dpdk.org/patch/142963

_Testing pending_

Submitter: Juraj Linkes <juraj.linkes@pantheon.tech>
Date: Tuesday, August 06 2024 15:19:37 
DPDK git baseline: Repo:dpdk
  Branch: master
  CommitID:b3485f4293997d35b6daecc3437bb0c183a51fb3

142959-142963 --> testing pending

Upstream job id: Generic-DPDK-Compile-ABI#101975

Test environment and result as below:

+-------------------+----------+
|    Environment    | abi_test |
+===================+==========+
| CentOS Stream 9   | PASS     |
+-------------------+----------+
| Fedora 37         | PASS     |
+-------------------+----------+
| Debian 12         | PEND     |
+-------------------+----------+
| Debian Bullseye   | PASS     |
+-------------------+----------+
| Fedora 38         | PASS     |
+-------------------+----------+
| Fedora 38 (Clang) | PASS     |
+-------------------+----------+
| Fedora 39 (Clang) | PASS     |
+-------------------+----------+
| Fedora 40 (Clang) | PASS     |
+-------------------+----------+
| Fedora 40         | PEND     |
+-------------------+----------+
| openSUSE Leap 15  | PASS     |
+-------------------+----------+
| RHEL8             | PASS     |
+-------------------+----------+
| Ubuntu 22.04      | PASS     |
+-------------------+----------+
| RHEL9             | PASS     |
+-------------------+----------+
| Ubuntu 24.04      | PEND     |
+-------------------+----------+
| Fedora 39         | PEND     |
+-------------------+----------+


CentOS Stream 9
	Kernel: 5.4.0-167-generic
	Compiler: gcc 11.4.1 20230605

Fedora 37
	Kernel: Depends on container host system
	Compiler: gcc 12.3.1

Debian 12
	Kernel: Container Host Kernel
	Compiler: gcc 12.2.0

Debian Bullseye
	Kernel: 5.4.0-167-generic
	Compiler: gcc 10.2.1-6

Fedora 38
	Kernel: Depends on container host
	Compiler: gcc 13.2.1

Fedora 38 (Clang)
	Kernel: Depends on container host
	Compiler: clang 16.0.6

Fedora 39 (Clang)
	Kernel: Depends on container host
	Compiler: clang 17.0.6

Fedora 40 (Clang)
	Kernel: Depends on container host
	Compiler: clang 18.1.6

Fedora 40
	Kernel: Depends on container host
	Compiler: gcc 14.1.1

openSUSE Leap 15
	Kernel: 5.4.0-167-generic
	Compiler: gcc 7.5.0

RHEL8
	Kernel: 5.4.0-167-generic
	Compiler: gcc 8.5.0 20210514 (Red Hat 8.5.0-20)

Ubuntu 22.04
	Kernel: 5.4.0-167-generic
	Compiler: gcc 11.4.0

RHEL9
	Kernel: Depends on container host
	Compiler: gcc 11.4.1

Ubuntu 24.04
	Kernel: 5.4.0-167-generic
	Compiler: gcc 13.2.0

Fedora 39
	Kernel: Depends on container host
	Compiler: gcc 13.2.1

To view detailed results, visit:
https://lab.dpdk.org/results/dashboard/patchsets/30733/

UNH-IOL DPDK Community Lab

To manage your email subscriptions, visit: 
https://lab.dpdk.org/results/dashboard/preferences/subscriptions/