From mboxrd@z Thu Jan  1 00:00:00 1970
Return-Path: <test-report-bounces@dpdk.org>
Received: from mails.dpdk.org (mails.dpdk.org [217.70.189.124])
	by inbox.dpdk.org (Postfix) with ESMTP id EA9EC45755
	for <public@inbox.dpdk.org>; Wed,  7 Aug 2024 00:22:24 +0200 (CEST)
Received: from mails.dpdk.org (localhost [127.0.0.1])
	by mails.dpdk.org (Postfix) with ESMTP id E36BA4029C;
	Wed,  7 Aug 2024 00:22:24 +0200 (CEST)
Received: from mail-oo1-f100.google.com (mail-oo1-f100.google.com
 [209.85.161.100])
 by mails.dpdk.org (Postfix) with ESMTP id F057E402E9
 for <test-report@dpdk.org>; Wed,  7 Aug 2024 00:22:20 +0200 (CEST)
Received: by mail-oo1-f100.google.com with SMTP id
 006d021491bc7-5d5bb03fe42so612959eaf.3
 for <test-report@dpdk.org>; Tue, 06 Aug 2024 15:22:20 -0700 (PDT)
DKIM-Signature: v=1; a=rsa-sha256; c=relaxed/relaxed;
 d=iol.unh.edu; s=unh-iol; t=1722982940; x=1723587740; darn=dpdk.org;
 h=references:in-reply-to:cc:to:from:subject:message-id:date:from:to
 :cc:subject:date:message-id:reply-to;
 bh=NQpyEq/ia8DuwvgVxt9vCDGwZK/Ugnibh43a5t8Gv74=;
 b=J467M1/8G1JA2Ptj5kr+qX0aynZa0ZgDvs3vIB8EIFPg+O0ebNFYMqCPHq5eJvh6NH
 G5o/xC52CxCppxatUwwIa5q8EfPJ2UKMEND0JQfiiBiNobD2p5NizIxqWvmNkzLIkQl8
 pTn4dqRwDCUkoxNVKOqCYhGLqQTemsnDlFOj4=
X-Google-DKIM-Signature: v=1; a=rsa-sha256; c=relaxed/relaxed;
 d=1e100.net; s=20230601; t=1722982940; x=1723587740;
 h=references:in-reply-to:cc:to:from:subject:message-id:date
 :x-gm-message-state:from:to:cc:subject:date:message-id:reply-to;
 bh=NQpyEq/ia8DuwvgVxt9vCDGwZK/Ugnibh43a5t8Gv74=;
 b=WthKQ/6W42fV9MmF5jjw6wfS7TOVxRtfZiYK226xpGfnoPzDI66RohRmJr+x89hXSV
 wrUl31tDhFHHmxqIKh/bkY4SFogwIMVesRZU5GIU5Nl/FIshfqOoC9jbFED4YU9k/xuJ
 vBFUXMgfTwkI1LuK36rp0PqdJguj0F8+fmQiCLCNcrX6Nb73o8l0BrBcQTpErSnzOQCv
 VY650UoIdDbAqu/I96iFt0wK39bCDPhvAbSgtxBNzSk+MraEKdLBO4Gcx8eQoAnMYZd5
 Q5oRMm6IpGA2TCrYIEJCJI1izWgD3GpaMbSdf/bdD5SA3WbReHoSVV7VNoJHyhFv+xHt
 rfKw==
X-Gm-Message-State: AOJu0Yxr/doQUpUAaoIc/HNb/YAw3di7hgOHZCRUcwscokPVSeFpoFN6
 N3DOCetPowBM1ty6nevMBumK9h+7EaSCdFoytiUovbBtXVZW7umVoXNzr3DssH2gX9+tXOGOalm
 8KE156Aox9PKqI8dWwyMjFFvBoVtLnzdEy8GsWpcu
X-Google-Smtp-Source: AGHT+IE+jHiosnbOjwApUbo4a1JMs5oYMnS2x29hNiM9kusOC7YqrVK+2YyP6t5OfIv9rWF69lXOruXlYJ1l
X-Received: by 2002:a05:6820:1504:b0:5d5:d5ad:35f8 with SMTP id
 006d021491bc7-5d67155434dmr18258703eaf.8.1722982940158; 
 Tue, 06 Aug 2024 15:22:20 -0700 (PDT)
Received: from postal.iol.unh.edu (postal.iol.unh.edu. [132.177.123.84])
 by smtp-relay.gmail.com with ESMTPS id
 006d021491bc7-5d8230c3832sm325162eaf.16.2024.08.06.15.22.20
 (version=TLS1_2 cipher=ECDHE-ECDSA-AES128-GCM-SHA256 bits=128/128);
 Tue, 06 Aug 2024 15:22:20 -0700 (PDT)
X-Relaying-Domain: iol.unh.edu
Date: Tue, 06 Aug 2024 15:22:20 -0700 (PDT)
Message-ID: <66b2a21c.050a0220.1d1c6.a37aSMTPIN_ADDED_MISSING@mx.google.com>
Received: from [172.21.0.9] (unknown [172.18.0.240])
 by postal.iol.unh.edu (Postfix) with ESMTP id A1416605C351;
 Tue,  6 Aug 2024 18:22:19 -0400 (EDT)
Subject: |PENDING| pw142964-142967 [PATCH] [4/4] ethdev: add traffic manager 
From: dpdklab@iol.unh.edu
To: Test Report <test-report@dpdk.org>
Cc: dpdk-test-reports@iol.unh.edu
In-Reply-To: <20240806152417.3649745-5-bruce.richardson@intel.com>
References: <20240806152417.3649745-5-bruce.richardson@intel.com>
Content-Type: text/plain
X-BeenThere: test-report@dpdk.org
X-Mailman-Version: 2.1.29
Precedence: list
List-Id: automatic DPDK test reports <test-report.dpdk.org>
List-Unsubscribe: <https://mails.dpdk.org/options/test-report>,
 <mailto:test-report-request@dpdk.org?subject=unsubscribe>
List-Archive: <http://mails.dpdk.org/archives/test-report/>
List-Post: <mailto:test-report@dpdk.org>
List-Help: <mailto:test-report-request@dpdk.org?subject=help>
List-Subscribe: <https://mails.dpdk.org/listinfo/test-report>,
 <mailto:test-report-request@dpdk.org?subject=subscribe>
Errors-To: test-report-bounces@dpdk.org

Test-Label: iol-compile-arm64-testing
Test-Status: PENDING
http://dpdk.org/patch/142967

_Testing pending_

Submitter: Bruce Richardson <bruce.richardson@intel.com>
Date: Tuesday, August 06 2024 15:24:17 
DPDK git baseline: Repo:dpdk
  Branch: master
  CommitID:37ce4c84c0f23c3989bc7ae19e03a4593cec94e5

142964-142967 --> testing pending

Upstream job id: Generic-DPDK-Compile-Meson#285165

Test environment and result as below:

+----------------------------------------+--------------------+
|              Environment               | dpdk_meson_compile |
+========================================+====================+
| RHEL9 (ARM)                            | PASS               |
+----------------------------------------+--------------------+
| Ubuntu 20.04 ARM GCC Cross Compile     | PEND               |
+----------------------------------------+--------------------+
| Ubuntu 20.04 ARM SVE                   | PASS               |
+----------------------------------------+--------------------+
| Debian 12 with MUSDK                   | PASS               |
+----------------------------------------+--------------------+
| Fedora 37 (ARM)                        | PEND               |
+----------------------------------------+--------------------+
| Fedora 38 (ARM)                        | PEND               |
+----------------------------------------+--------------------+
| Fedora 38 (ARM Clang)                  | PEND               |
+----------------------------------------+--------------------+
| Fedora 39 (ARM)                        | PASS               |
+----------------------------------------+--------------------+
| Fedora 39 (ARM Clang)                  | PEND               |
+----------------------------------------+--------------------+
| Fedora 40 (ARM)                        | PEND               |
+----------------------------------------+--------------------+
| Fedora 40 (ARM Clang)                  | PEND               |
+----------------------------------------+--------------------+
| Ubuntu 20.04 (ARM)                     | PASS               |
+----------------------------------------+--------------------+
| Ubuntu 22.04 (ARM)                     | PEND               |
+----------------------------------------+--------------------+
| Ubuntu 24.04 (ARM)                     | PASS               |
+----------------------------------------+--------------------+
| CentOS Stream 9 (ARM)                  | PASS               |
+----------------------------------------+--------------------+
| Debian 11 (Buster) (ARM)               | PEND               |
+----------------------------------------+--------------------+
| Debian 12 (arm)                        | PEND               |
+----------------------------------------+--------------------+
| Ubuntu 20.04 ARM Clang Cross Compile   | PEND               |
+----------------------------------------+--------------------+
| Ubuntu 20.04 aarch32 GCC Cross Compile | PEND               |
+----------------------------------------+--------------------+


RHEL9 (ARM)
	Kernel: Depends on container host
	Compiler: gcc 11.4.1

Ubuntu 20.04 ARM GCC Cross Compile
	Kernel: 5.4.0-167-generic
	Compiler: aarch64-linux-gnu-gcc (Ubuntu 9.4.0-1ubuntu1~20.04.2) 9.4.0

Ubuntu 20.04 ARM SVE
	Kernel: 5.4.0-167-generic
	Compiler: gcc (Ubuntu 10.5.0-1ubuntu1~20.04) 10.5.0

Debian 12 with MUSDK
	Kernel: Container Host Kernel
	Compiler: gcc 12.2.0

Fedora 37 (ARM)
	Kernel: Depends on container host
	Compiler: gcc 12.3.1

Fedora 38 (ARM)
	Kernel: Depends on container host
	Compiler: gcc 13.2.1

Fedora 38 (ARM Clang)
	Kernel: Depends on container host
	Compiler: clang 16.0.6

Fedora 39 (ARM)
	Kernel: Depends on container host
	Compiler: gcc 13.2.1

Fedora 39 (ARM Clang)
	Kernel: Depends on container host
	Compiler: clang 17.0.6

Fedora 40 (ARM)
	Kernel: Depends on container host
	Compiler: gcc 14.1.1

Fedora 40 (ARM Clang)
	Kernel: Depends on container host
	Compiler: clang 18.1.6

Ubuntu 20.04 (ARM)
	Kernel: Container Host Kernel
	Compiler: gcc 9.4.0

Ubuntu 22.04 (ARM)
	Kernel: Container Host Kernel
	Compiler: gcc 11.4.0

Ubuntu 24.04 (ARM)
	Kernel: 5.4.0-167-generic
	Compiler: gcc 13.2.0

CentOS Stream 9 (ARM)
	Kernel: Container Host Kernel
	Compiler: gcc 11.4.1

Debian 11 (Buster) (ARM)
	Kernel: Container Host Kernel
	Compiler: gcc 10.2.1

Debian 12 (arm)
	Kernel: Container Host Kernel
	Compiler: gcc 12.2.0

Ubuntu 20.04 ARM Clang Cross Compile
	Kernel: 5.4.0-72-generic
	Compiler: clang 10.0.0-4ubuntu1

Ubuntu 20.04 aarch32 GCC Cross Compile
	Kernel: 5.4.0-167-generic
	Compiler: gcc 9.4.0

To view detailed results, visit:
https://lab.dpdk.org/results/dashboard/patchsets/30734/

UNH-IOL DPDK Community Lab

To manage your email subscriptions, visit: 
https://lab.dpdk.org/results/dashboard/preferences/subscriptions/