From mboxrd@z Thu Jan 1 00:00:00 1970 Return-Path: Received: from mails.dpdk.org (mails.dpdk.org [217.70.189.124]) by inbox.dpdk.org (Postfix) with ESMTP id 9ECB445755 for ; Wed, 7 Aug 2024 00:31:37 +0200 (CEST) Received: from mails.dpdk.org (localhost [127.0.0.1]) by mails.dpdk.org (Postfix) with ESMTP id 99C5A4029C; Wed, 7 Aug 2024 00:31:37 +0200 (CEST) Received: from mail-pl1-f227.google.com (mail-pl1-f227.google.com [209.85.214.227]) by mails.dpdk.org (Postfix) with ESMTP id 5C7454028C for ; Wed, 7 Aug 2024 00:31:36 +0200 (CEST) Received: by mail-pl1-f227.google.com with SMTP id d9443c01a7336-1fc692abba4so12120475ad.2 for ; Tue, 06 Aug 2024 15:31:36 -0700 (PDT) DKIM-Signature: v=1; a=rsa-sha256; c=relaxed/relaxed; d=iol.unh.edu; s=unh-iol; t=1722983495; x=1723588295; darn=dpdk.org; h=references:in-reply-to:cc:to:from:subject:message-id:date:from:to :cc:subject:date:message-id:reply-to; bh=VvZzSCiMsrRAkWElCWq5ieoCiF5OtjaCetsPfiiIvqk=; b=DWZNxy0X5E+8KL/jqze8CUq5EKCR0wS6RX4SAC/whcPS9ywLeMO7CjNAf8YL+UYlnh CSMTz2hbhFUmbzIFunb6IbuGCSxt2uH6Qtl0wtmP5KK2k7ey6qKJ/PGWSZkIbqlPJP9W ZjN4EUdGMPriJvj1r3/3F4je4Rt/KEuQ2nH5k= X-Google-DKIM-Signature: v=1; a=rsa-sha256; c=relaxed/relaxed; d=1e100.net; s=20230601; t=1722983495; x=1723588295; h=references:in-reply-to:cc:to:from:subject:message-id:date :x-gm-message-state:from:to:cc:subject:date:message-id:reply-to; bh=VvZzSCiMsrRAkWElCWq5ieoCiF5OtjaCetsPfiiIvqk=; b=LdO7cxhzaPW4ecY257HAy2i8QpUmzLOxg5REZYall16FWTkIolKoZysQ6vi6otvP5t 4Hb7bP/r+bN+rwAS51L6ACOlhlnW53vTJk4BlzrFWuuwNmD04CzYGb6glVECU26EVgXm w/Q6/Zhl7QZ/+JVfHmBS8Wb4zU5l9eT6MT2cgU5ZzTjxTOfc3QAl+X0rnMMNGXKFvlqn XWg6eS6/64wN5LtmvwG1NxJHloRXRismWJ/jS5tp5hAfTeYAC7/AAqVANVv7aY3p3zqo dW3mFAQ4/Q/v0lm3YhzZrftBAY2y7cAadydxGuqe8zND6QancZEXPyWiGQfGYgC9NyKI EHxA== X-Gm-Message-State: AOJu0Yz0z8DoULQZssKflG9gOngNNij6FynB29Yz1TM19Eg3UjABoi85 4EBgn5kSmABTkm52j+l3iG2SqvH1TZpvqoeW2XmHirsYqXChJNOtp5xpjQOkwfy917Bg6EwPUl2 pUwhS7gkTbEyQemF9Xo9+oxnasNa2IX2A8pSFqmDa X-Google-Smtp-Source: AGHT+IG/bTRYf9+rUjs+yjI0C1AS8usbT3/tq8W0jn0SyUuWE8Q8g/S8wQyrbD6A0bAsQ5Q2q+IQ4/YcuvsS X-Received: by 2002:a17:902:c951:b0:1fc:86cc:4254 with SMTP id d9443c01a7336-1ff572e0a49mr165959965ad.33.1722983495514; Tue, 06 Aug 2024 15:31:35 -0700 (PDT) Received: from postal.iol.unh.edu (postal.iol.unh.edu. [132.177.123.84]) by smtp-relay.gmail.com with ESMTPS id d9443c01a7336-1ff58f5a489sm8569555ad.33.2024.08.06.15.31.35 (version=TLS1_2 cipher=ECDHE-ECDSA-AES128-GCM-SHA256 bits=128/128); Tue, 06 Aug 2024 15:31:35 -0700 (PDT) X-Relaying-Domain: iol.unh.edu Date: Tue, 06 Aug 2024 15:31:35 -0700 (PDT) Message-ID: <66b2a447.170a0220.2b5c9.c506SMTPIN_ADDED_MISSING@mx.google.com> Received: from [172.21.0.7] (unknown [172.18.0.240]) by postal.iol.unh.edu (Postfix) with ESMTP id AC1CC605C351; Tue, 6 Aug 2024 18:31:34 -0400 (EDT) Subject: |PENDING| pw142964-142967 [PATCH] [4/4] ethdev: add traffic manager From: dpdklab@iol.unh.edu To: Test Report Cc: dpdk-test-reports@iol.unh.edu In-Reply-To: <20240806152417.3649745-5-bruce.richardson@intel.com> References: <20240806152417.3649745-5-bruce.richardson@intel.com> Content-Type: text/plain X-BeenThere: test-report@dpdk.org X-Mailman-Version: 2.1.29 Precedence: list List-Id: automatic DPDK test reports List-Unsubscribe: , List-Archive: List-Post: List-Help: List-Subscribe: , Errors-To: test-report-bounces@dpdk.org Test-Label: iol-compile-arm64-testing Test-Status: PENDING http://dpdk.org/patch/142967 _Testing pending_ Submitter: Bruce Richardson Date: Tuesday, August 06 2024 15:24:17 DPDK git baseline: Repo:dpdk Branch: master CommitID:37ce4c84c0f23c3989bc7ae19e03a4593cec94e5 142964-142967 --> testing pending Upstream job id: Generic-DPDK-Compile-Meson#285170 Test environment and result as below: +----------------------------------------+--------------------+ | Environment | dpdk_meson_compile | +========================================+====================+ | RHEL9 (ARM) | PASS | +----------------------------------------+--------------------+ | Ubuntu 20.04 ARM GCC Cross Compile | PEND | +----------------------------------------+--------------------+ | Ubuntu 20.04 ARM SVE | PASS | +----------------------------------------+--------------------+ | Debian 12 with MUSDK | PASS | +----------------------------------------+--------------------+ | Fedora 37 (ARM) | PEND | +----------------------------------------+--------------------+ | Fedora 38 (ARM) | PASS | +----------------------------------------+--------------------+ | Fedora 38 (ARM Clang) | PEND | +----------------------------------------+--------------------+ | Fedora 39 (ARM) | PASS | +----------------------------------------+--------------------+ | Fedora 39 (ARM Clang) | PEND | +----------------------------------------+--------------------+ | Fedora 40 (ARM) | PASS | +----------------------------------------+--------------------+ | Fedora 40 (ARM Clang) | PEND | +----------------------------------------+--------------------+ | Ubuntu 20.04 (ARM) | PASS | +----------------------------------------+--------------------+ | Ubuntu 22.04 (ARM) | PASS | +----------------------------------------+--------------------+ | Ubuntu 24.04 (ARM) | PASS | +----------------------------------------+--------------------+ | CentOS Stream 9 (ARM) | PASS | +----------------------------------------+--------------------+ | Debian 11 (Buster) (ARM) | PEND | +----------------------------------------+--------------------+ | Debian 12 (arm) | PEND | +----------------------------------------+--------------------+ | Ubuntu 20.04 ARM Clang Cross Compile | PEND | +----------------------------------------+--------------------+ | Ubuntu 20.04 aarch32 GCC Cross Compile | PEND | +----------------------------------------+--------------------+ RHEL9 (ARM) Kernel: Depends on container host Compiler: gcc 11.4.1 Ubuntu 20.04 ARM GCC Cross Compile Kernel: 5.4.0-167-generic Compiler: aarch64-linux-gnu-gcc (Ubuntu 9.4.0-1ubuntu1~20.04.2) 9.4.0 Ubuntu 20.04 ARM SVE Kernel: 5.4.0-167-generic Compiler: gcc (Ubuntu 10.5.0-1ubuntu1~20.04) 10.5.0 Debian 12 with MUSDK Kernel: Container Host Kernel Compiler: gcc 12.2.0 Fedora 37 (ARM) Kernel: Depends on container host Compiler: gcc 12.3.1 Fedora 38 (ARM) Kernel: Depends on container host Compiler: gcc 13.2.1 Fedora 38 (ARM Clang) Kernel: Depends on container host Compiler: clang 16.0.6 Fedora 39 (ARM) Kernel: Depends on container host Compiler: gcc 13.2.1 Fedora 39 (ARM Clang) Kernel: Depends on container host Compiler: clang 17.0.6 Fedora 40 (ARM) Kernel: Depends on container host Compiler: gcc 14.1.1 Fedora 40 (ARM Clang) Kernel: Depends on container host Compiler: clang 18.1.6 Ubuntu 20.04 (ARM) Kernel: Container Host Kernel Compiler: gcc 9.4.0 Ubuntu 22.04 (ARM) Kernel: Container Host Kernel Compiler: gcc 11.4.0 Ubuntu 24.04 (ARM) Kernel: 5.4.0-167-generic Compiler: gcc 13.2.0 CentOS Stream 9 (ARM) Kernel: Container Host Kernel Compiler: gcc 11.4.1 Debian 11 (Buster) (ARM) Kernel: Container Host Kernel Compiler: gcc 10.2.1 Debian 12 (arm) Kernel: Container Host Kernel Compiler: gcc 12.2.0 Ubuntu 20.04 ARM Clang Cross Compile Kernel: 5.4.0-72-generic Compiler: clang 10.0.0-4ubuntu1 Ubuntu 20.04 aarch32 GCC Cross Compile Kernel: 5.4.0-167-generic Compiler: gcc 9.4.0 To view detailed results, visit: https://lab.dpdk.org/results/dashboard/patchsets/30734/ UNH-IOL DPDK Community Lab To manage your email subscriptions, visit: https://lab.dpdk.org/results/dashboard/preferences/subscriptions/