From mboxrd@z Thu Jan 1 00:00:00 1970 Return-Path: Received: from mails.dpdk.org (mails.dpdk.org [217.70.189.124]) by inbox.dpdk.org (Postfix) with ESMTP id 55A6E45755 for ; Wed, 7 Aug 2024 00:33:06 +0200 (CEST) Received: from mails.dpdk.org (localhost [127.0.0.1]) by mails.dpdk.org (Postfix) with ESMTP id 4E88C4029C; Wed, 7 Aug 2024 00:33:06 +0200 (CEST) Received: from mail-pl1-f228.google.com (mail-pl1-f228.google.com [209.85.214.228]) by mails.dpdk.org (Postfix) with ESMTP id DCFC44028C for ; Wed, 7 Aug 2024 00:32:52 +0200 (CEST) Received: by mail-pl1-f228.google.com with SMTP id d9443c01a7336-1fd70ba6a15so9312035ad.0 for ; Tue, 06 Aug 2024 15:32:52 -0700 (PDT) DKIM-Signature: v=1; a=rsa-sha256; c=relaxed/relaxed; d=iol.unh.edu; s=unh-iol; t=1722983572; x=1723588372; darn=dpdk.org; h=references:in-reply-to:cc:to:from:subject:message-id:date:from:to :cc:subject:date:message-id:reply-to; bh=9KEwLOqGtVzhN9S7jCGdDBhz946QWcVvgdx0FUlgr+4=; b=b6b9eThMsyuQfuQYhxSJGHtsAcKHHo5SuoC+Z7wiskAqy4Jwq0jDhDLs9kymO2l0y8 a2EYF3z4426cnhwCWMGY3URxG0AJIxu8jLPXwJWx25viJntE2yMrg778Tdg2IRBZzEXi jufBKi27ouarvlmm+HdVVFlWVxXxhON3D04AE= X-Google-DKIM-Signature: v=1; a=rsa-sha256; c=relaxed/relaxed; d=1e100.net; s=20230601; t=1722983572; x=1723588372; h=references:in-reply-to:cc:to:from:subject:message-id:date :x-gm-message-state:from:to:cc:subject:date:message-id:reply-to; bh=9KEwLOqGtVzhN9S7jCGdDBhz946QWcVvgdx0FUlgr+4=; b=BDyq6i0Tv9ifoxHYpPpytLpcmdNCjfgTlyPy9cj2FrosDFr56jAxvbfECrzeIFLlCN xjw/5JZPWv28uf0CY7Qr1RRi8Thh9gXIuVbIVgLjMaAyDFjtt77bKfGwt1VuHV06vufL 5zzhCTstO+HQbFMfq11kLrURnokym3+4TsBwFlCC51n461IAYDF3TSmxnfQsmkpfBbcH i0f0xGgAdBHED7qyzaAMmw2OMofLkL+/Ee4tQcyLGYR7TjEe0tu0xojfDoEza3kAS5Pz R+vhmFJpAqodRQe5AT1sqhSfzFUaT/XFFbsC6wGDfto5Uo3Jke6Tg+hRl+sXQuY5/UTs HHDg== X-Gm-Message-State: AOJu0YycO8srG6wrcQXvVGLlbNSb/vo+ROg5e/shKkBW+VnOhx2aFIA3 FVYFke3oL0AprDOP3gWp1h+8CzKA18Pm0rC011o5ToWscnAJo3bVd2LnAcZDw5mJWKsd83IsFS0 n2BvoLFUOA3ciisexyp90m9lddyF53D+ISA/32Y28 X-Google-Smtp-Source: AGHT+IG8OtrxUxT//YmYOUP8b0HpAyVN80AF3uTP0cH69LLuky/zT/4L/XxtOwh366qNrXEDc4Jb/gxQR21t X-Received: by 2002:a17:902:fa87:b0:1fa:a89:fd1a with SMTP id d9443c01a7336-1ff5722e650mr116544125ad.10.1722983572047; Tue, 06 Aug 2024 15:32:52 -0700 (PDT) Received: from postal.iol.unh.edu (postal.iol.unh.edu. [132.177.123.84]) by smtp-relay.gmail.com with ESMTPS id d9443c01a7336-1ff59179f43sm8470425ad.120.2024.08.06.15.32.51 (version=TLS1_2 cipher=ECDHE-ECDSA-AES128-GCM-SHA256 bits=128/128); Tue, 06 Aug 2024 15:32:52 -0700 (PDT) X-Relaying-Domain: iol.unh.edu Date: Tue, 06 Aug 2024 15:32:52 -0700 (PDT) Message-ID: <66b2a494.170a0220.1eb26f.b016SMTPIN_ADDED_MISSING@mx.google.com> Received: from [172.21.0.7] (unknown [172.18.0.240]) by postal.iol.unh.edu (Postfix) with ESMTP id 3BD69605C351; Tue, 6 Aug 2024 18:32:51 -0400 (EDT) Subject: |PENDING| pw142964-142967 [PATCH] [4/4] ethdev: add traffic manager From: dpdklab@iol.unh.edu To: Test Report Cc: dpdk-test-reports@iol.unh.edu In-Reply-To: <20240806152417.3649745-5-bruce.richardson@intel.com> References: <20240806152417.3649745-5-bruce.richardson@intel.com> Content-Type: text/plain X-BeenThere: test-report@dpdk.org X-Mailman-Version: 2.1.29 Precedence: list List-Id: automatic DPDK test reports List-Unsubscribe: , List-Archive: List-Post: List-Help: List-Subscribe: , Errors-To: test-report-bounces@dpdk.org Test-Label: iol-compile-amd64-testing Test-Status: PENDING http://dpdk.org/patch/142967 _Testing pending_ Submitter: Bruce Richardson Date: Tuesday, August 06 2024 15:24:17 DPDK git baseline: Repo:dpdk Branch: master CommitID:37ce4c84c0f23c3989bc7ae19e03a4593cec94e5 142964-142967 --> testing pending Upstream job id: Generic-DPDK-Compile-Meson#285148 Test environment and result as below: +---------------------+--------------------+----------------------+-------------------+------------------+-------------------+ | Environment | dpdk_meson_compile | dpdk_mingw64_compile | dpdk_msvc_compile | dpdk_compile_ovs | dpdk_compile_spdk | +=====================+====================+======================+===================+==================+===================+ | Windows Server 2022 | PASS | PASS | PASS | SKIPPED | SKIPPED | +---------------------+--------------------+----------------------+-------------------+------------------+-------------------+ | Windows Server 2019 | PASS | PASS | SKIPPED | SKIPPED | SKIPPED | +---------------------+--------------------+----------------------+-------------------+------------------+-------------------+ | FreeBSD 13.3 | PASS | SKIPPED | SKIPPED | SKIPPED | SKIPPED | +---------------------+--------------------+----------------------+-------------------+------------------+-------------------+ | FreeBSD 14.1 | PASS | SKIPPED | SKIPPED | SKIPPED | SKIPPED | +---------------------+--------------------+----------------------+-------------------+------------------+-------------------+ | CentOS Stream 9 | PASS | SKIPPED | SKIPPED | PASS | PASS | +---------------------+--------------------+----------------------+-------------------+------------------+-------------------+ | Debian Bullseye | PEND | SKIPPED | SKIPPED | PEND | PEND | +---------------------+--------------------+----------------------+-------------------+------------------+-------------------+ | Debian 12 | PEND | SKIPPED | SKIPPED | PEND | PEND | +---------------------+--------------------+----------------------+-------------------+------------------+-------------------+ | Fedora 37 | PEND | SKIPPED | SKIPPED | PEND | PEND | +---------------------+--------------------+----------------------+-------------------+------------------+-------------------+ | Fedora 38 (Clang) | PEND | SKIPPED | SKIPPED | PEND | PEND | +---------------------+--------------------+----------------------+-------------------+------------------+-------------------+ | Fedora 38 | PEND | SKIPPED | SKIPPED | PEND | PEND | +---------------------+--------------------+----------------------+-------------------+------------------+-------------------+ | Fedora 39 (Clang) | PEND | SKIPPED | SKIPPED | PEND | PEND | +---------------------+--------------------+----------------------+-------------------+------------------+-------------------+ | Fedora 39 | PEND | SKIPPED | SKIPPED | PEND | PEND | +---------------------+--------------------+----------------------+-------------------+------------------+-------------------+ | Fedora 40 (Clang) | PEND | SKIPPED | SKIPPED | PEND | PEND | +---------------------+--------------------+----------------------+-------------------+------------------+-------------------+ | Fedora 40 | PEND | SKIPPED | SKIPPED | PEND | PEND | +---------------------+--------------------+----------------------+-------------------+------------------+-------------------+ | openSUSE Leap 15 | PEND | SKIPPED | SKIPPED | PEND | SKIPPED | +---------------------+--------------------+----------------------+-------------------+------------------+-------------------+ | RHEL8 | PEND | SKIPPED | SKIPPED | PEND | SKIPPED | +---------------------+--------------------+----------------------+-------------------+------------------+-------------------+ | RHEL9 | PEND | SKIPPED | SKIPPED | PEND | SKIPPED | +---------------------+--------------------+----------------------+-------------------+------------------+-------------------+ | Ubuntu 20.04 | PEND | SKIPPED | SKIPPED | PEND | SKIPPED | +---------------------+--------------------+----------------------+-------------------+------------------+-------------------+ | Ubuntu 22.04 | PEND | SKIPPED | SKIPPED | PEND | PEND | +---------------------+--------------------+----------------------+-------------------+------------------+-------------------+ | Ubuntu 24.04 | PEND | SKIPPED | SKIPPED | PEND | PEND | +---------------------+--------------------+----------------------+-------------------+------------------+-------------------+ | Alpine | PEND | SKIPPED | SKIPPED | PEND | SKIPPED | +---------------------+--------------------+----------------------+-------------------+------------------+-------------------+ Windows Server 2022 Kernel: 10.0.20348.2031 Compiler: clang 15.0.7, gcc 8.1.0 (MinGW), and MSVC VS 17.9 Windows Server 2019 Kernel: 10.0.17763 Compiler: clang 14.0 and gcc 8.1.0 (MinGW) FreeBSD 13.3 Kernel: 13.3-RELEASE-p1 Compiler: clang 17.0.6 FreeBSD 14.1 Kernel: 14.1 Compiler: clang 18.1.5 CentOS Stream 9 Kernel: 5.4.0-167-generic Compiler: gcc 11.4.1 20230605 Debian Bullseye Kernel: 5.4.0-167-generic Compiler: gcc 10.2.1-6 Debian 12 Kernel: Container Host Kernel Compiler: gcc 12.2.0 Fedora 37 Kernel: Depends on container host system Compiler: gcc 12.3.1 Fedora 38 (Clang) Kernel: Depends on container host Compiler: clang 16.0.6 Fedora 38 Kernel: Depends on container host Compiler: gcc 13.2.1 Fedora 39 (Clang) Kernel: Depends on container host Compiler: clang 17.0.6 Fedora 39 Kernel: Depends on container host Compiler: gcc 13.2.1 Fedora 40 (Clang) Kernel: Depends on container host Compiler: clang 18.1.6 Fedora 40 Kernel: Depends on container host Compiler: gcc 14.1.1 openSUSE Leap 15 Kernel: 5.4.0-167-generic Compiler: gcc 7.5.0 RHEL8 Kernel: 5.4.0-167-generic Compiler: gcc 8.5.0 20210514 (Red Hat 8.5.0-20) RHEL9 Kernel: Depends on container host Compiler: gcc 11.4.1 Ubuntu 20.04 Kernel: 5.4.0-167-generic Compiler: gcc 9.4.0-1ubuntu1~20.04.1 Ubuntu 22.04 Kernel: 5.4.0-167-generic Compiler: gcc 11.4.0 Ubuntu 24.04 Kernel: 5.4.0-167-generic Compiler: gcc 13.2.0 Alpine Kernel: 5.4.0-167-generic Compiler: gcc (Alpine 13.2.1_git20231014) 13.2.1 20231014 To view detailed results, visit: https://lab.dpdk.org/results/dashboard/patchsets/30734/ UNH-IOL DPDK Community Lab To manage your email subscriptions, visit: https://lab.dpdk.org/results/dashboard/preferences/subscriptions/