From mboxrd@z Thu Jan  1 00:00:00 1970
Return-Path: <test-report-bounces@dpdk.org>
Received: from mails.dpdk.org (mails.dpdk.org [217.70.189.124])
	by inbox.dpdk.org (Postfix) with ESMTP id BA00445755
	for <public@inbox.dpdk.org>; Wed,  7 Aug 2024 00:40:41 +0200 (CEST)
Received: from mails.dpdk.org (localhost [127.0.0.1])
	by mails.dpdk.org (Postfix) with ESMTP id B19424029C;
	Wed,  7 Aug 2024 00:40:41 +0200 (CEST)
Received: from mail-oi1-f228.google.com (mail-oi1-f228.google.com
 [209.85.167.228])
 by mails.dpdk.org (Postfix) with ESMTP id 59DA64028C
 for <test-report@dpdk.org>; Wed,  7 Aug 2024 00:40:40 +0200 (CEST)
Received: by mail-oi1-f228.google.com with SMTP id
 5614622812f47-3db1bc36bc2so164258b6e.0
 for <test-report@dpdk.org>; Tue, 06 Aug 2024 15:40:40 -0700 (PDT)
DKIM-Signature: v=1; a=rsa-sha256; c=relaxed/relaxed;
 d=iol.unh.edu; s=unh-iol; t=1722984039; x=1723588839; darn=dpdk.org;
 h=references:in-reply-to:cc:to:from:subject:message-id:date:from:to
 :cc:subject:date:message-id:reply-to;
 bh=swH86IOrYU9pbOJ6SzRWiRehL6EPnO0tvmVxSvvwEh8=;
 b=ZRWHK2o4oQ9ujYSQ2JETWQhVSRsgiXAf4etjzQIr5kZsGWJuvwGHGH16QzAPtUEj8w
 kARHtHbmuvsAgw/MBHT1keDrchM7BcFJkcm+ywB5K8wdxZz6ySl8m4y2u7px6b8PRxOV
 qwzlSaj2QHsrasuEVmTgs64W/IjtZ0/f1TWUY=
X-Google-DKIM-Signature: v=1; a=rsa-sha256; c=relaxed/relaxed;
 d=1e100.net; s=20230601; t=1722984039; x=1723588839;
 h=references:in-reply-to:cc:to:from:subject:message-id:date
 :x-gm-message-state:from:to:cc:subject:date:message-id:reply-to;
 bh=swH86IOrYU9pbOJ6SzRWiRehL6EPnO0tvmVxSvvwEh8=;
 b=YJzXrl0W3BZwjOOa8oh3QPHBDuYPJov73gIzik+r8F3iaOxcRP1wWqnWY06feQBREu
 8c4DeTgGPAYbScG6jSUHBXZ6K21bF6D9G07tQgR9KrqhLxja56IBIpuga750w2wGLdBM
 hIxHwzN+rZ/1F/OQcUh+4r/v7qDy8ljnGl65iYrVTv/Yfnwyl7JQMDoqlJeemIjyLPty
 yG52vujIc6dzZ1ea86pNn5baSHIrwR4F4n+RZDI8Nqb/F5JKZqEI4DnPl79kQs9FRw73
 HOnFzWd0+4CBcgIHuG8lmfTFjYvGzGLRJgzxsjA+zteCC3ps84RDRWRebRRDLEDi/4tP
 Wwig==
X-Gm-Message-State: AOJu0YwvQH2piH6cYJAPUNeIBNWl2fqYeh6W8sYzhx0jQCO3rxDsQCwb
 iPtzy1EZZN6qKy/SBftYAy221JegijuuM8s/IMacdofz1jRSt+V5cALjgK5PPG+GO6YWeH7iMq+
 xJL+z+LT4KYXMRT3GnMCC4CwBANp/w63gzgX2McgN
X-Google-Smtp-Source: AGHT+IGCp1By6euCg7Bz31pUuCxo/P3dlyg5RTCHUhhLFo/s9k3SzhYmDCJcmr9z0k/7Z7MKys9V+ToI03wY
X-Received: by 2002:a05:6808:14ce:b0:3d9:dbe9:7cee with SMTP id
 5614622812f47-3dc34ae6f7amr139665b6e.14.1722984039556; 
 Tue, 06 Aug 2024 15:40:39 -0700 (PDT)
Received: from postal.iol.unh.edu (postal.iol.unh.edu. [132.177.123.84])
 by smtp-relay.gmail.com with ESMTPS id
 006d021491bc7-5d762531f9esm579877eaf.15.2024.08.06.15.40.39
 (version=TLS1_2 cipher=ECDHE-ECDSA-AES128-GCM-SHA256 bits=128/128);
 Tue, 06 Aug 2024 15:40:39 -0700 (PDT)
X-Relaying-Domain: iol.unh.edu
Date: Tue, 06 Aug 2024 15:40:39 -0700 (PDT)
Message-ID: <66b2a667.4a0a0220.e9cf5.56e5SMTPIN_ADDED_MISSING@mx.google.com>
Received: from [172.21.0.7] (unknown [172.18.0.240])
 by postal.iol.unh.edu (Postfix) with ESMTP id 06780605C351;
 Tue,  6 Aug 2024 18:40:39 -0400 (EDT)
Subject: |PENDING| pw142959-142963 [PATCH] [v15,5/5] dts: add API doc generat
From: dpdklab@iol.unh.edu
To: Test Report <test-report@dpdk.org>
Cc: dpdk-test-reports@iol.unh.edu
In-Reply-To: <20240806151937.391917-6-juraj.linkes@pantheon.tech>
References: <20240806151937.391917-6-juraj.linkes@pantheon.tech>
Content-Type: text/plain
X-BeenThere: test-report@dpdk.org
X-Mailman-Version: 2.1.29
Precedence: list
List-Id: automatic DPDK test reports <test-report.dpdk.org>
List-Unsubscribe: <https://mails.dpdk.org/options/test-report>,
 <mailto:test-report-request@dpdk.org?subject=unsubscribe>
List-Archive: <http://mails.dpdk.org/archives/test-report/>
List-Post: <mailto:test-report@dpdk.org>
List-Help: <mailto:test-report-request@dpdk.org?subject=help>
List-Subscribe: <https://mails.dpdk.org/listinfo/test-report>,
 <mailto:test-report-request@dpdk.org?subject=subscribe>
Errors-To: test-report-bounces@dpdk.org

Test-Label: iol-unit-arm64-testing
Test-Status: PENDING
http://dpdk.org/patch/142963

_Testing pending_

Submitter: Juraj Linkes <juraj.linkes@pantheon.tech>
Date: Tuesday, August 06 2024 15:19:37 
DPDK git baseline: Repo:dpdk
  Branch: master
  CommitID:b3485f4293997d35b6daecc3437bb0c183a51fb3

142959-142963 --> testing pending

Upstream job id: Generic-Unit-Test-DPDK#249423

Test environment and result as below:

+-----------------------------+------------------------------+--------------+---------------------------+----------------+
|         Environment         | cryptodev_sw_snow3g_autotest | lpm_autotest | cryptodev_sw_zuc_autotest | dpdk_unit_test |
+=============================+==============================+==============+===========================+================+
| Debian 12 (arm)             | PASS                         | SKIPPED      | PASS                      | PASS           |
+-----------------------------+------------------------------+--------------+---------------------------+----------------+
| Ubuntu 20.04 ARM SVE        | SKIPPED                      | PEND         | SKIPPED                   | SKIPPED        |
+-----------------------------+------------------------------+--------------+---------------------------+----------------+
| CentOS Stream 9 (ARM)       | SKIPPED                      | SKIPPED      | SKIPPED                   | PASS           |
+-----------------------------+------------------------------+--------------+---------------------------+----------------+
| Debian 11 (Buster) (ARM)    | SKIPPED                      | SKIPPED      | SKIPPED                   | PASS           |
+-----------------------------+------------------------------+--------------+---------------------------+----------------+
| 32-bit Ubuntu 20.04.4 (ARM) | SKIPPED                      | SKIPPED      | SKIPPED                   | PASS           |
+-----------------------------+------------------------------+--------------+---------------------------+----------------+
| Fedora 37 (ARM)             | SKIPPED                      | SKIPPED      | SKIPPED                   | PASS           |
+-----------------------------+------------------------------+--------------+---------------------------+----------------+
| Fedora 38 (ARM Clang)       | SKIPPED                      | SKIPPED      | SKIPPED                   | PEND           |
+-----------------------------+------------------------------+--------------+---------------------------+----------------+
| Fedora 38 (ARM)             | SKIPPED                      | SKIPPED      | SKIPPED                   | PASS           |
+-----------------------------+------------------------------+--------------+---------------------------+----------------+
| Fedora 39 (ARM)             | SKIPPED                      | SKIPPED      | SKIPPED                   | PASS           |
+-----------------------------+------------------------------+--------------+---------------------------+----------------+
| Fedora 39 (ARM Clang)       | SKIPPED                      | SKIPPED      | SKIPPED                   | PEND           |
+-----------------------------+------------------------------+--------------+---------------------------+----------------+
| Fedora 40 (ARM)             | SKIPPED                      | SKIPPED      | SKIPPED                   | PASS           |
+-----------------------------+------------------------------+--------------+---------------------------+----------------+
| Fedora 40 (ARM Clang)       | SKIPPED                      | SKIPPED      | SKIPPED                   | PEND           |
+-----------------------------+------------------------------+--------------+---------------------------+----------------+
| RHEL9 (ARM)                 | SKIPPED                      | SKIPPED      | SKIPPED                   | PASS           |
+-----------------------------+------------------------------+--------------+---------------------------+----------------+
| Ubuntu 20.04 (ARM)          | SKIPPED                      | SKIPPED      | SKIPPED                   | PEND           |
+-----------------------------+------------------------------+--------------+---------------------------+----------------+
| Ubuntu 24.04 (ARM)          | SKIPPED                      | SKIPPED      | SKIPPED                   | PEND           |
+-----------------------------+------------------------------+--------------+---------------------------+----------------+
| Ubuntu 22.04 (ARM)          | SKIPPED                      | SKIPPED      | SKIPPED                   | PEND           |
+-----------------------------+------------------------------+--------------+---------------------------+----------------+


Debian 12 (arm)
	Kernel: Container Host Kernel
	Compiler: gcc 12.2.0

Ubuntu 20.04 ARM SVE
	Kernel: 5.4.0-167-generic
	Compiler: gcc (Ubuntu 10.5.0-1ubuntu1~20.04) 10.5.0

CentOS Stream 9 (ARM)
	Kernel: Container Host Kernel
	Compiler: gcc 11.4.1

Debian 11 (Buster) (ARM)
	Kernel: Container Host Kernel
	Compiler: gcc 10.2.1

32-bit Ubuntu 20.04.4 (ARM)
	Kernel: 5.4.0-155-generic aarch64
	Compiler: gcc 9.4

Fedora 37 (ARM)
	Kernel: Depends on container host
	Compiler: gcc 12.3.1

Fedora 38 (ARM Clang)
	Kernel: Depends on container host
	Compiler: clang 16.0.6

Fedora 38 (ARM)
	Kernel: Depends on container host
	Compiler: gcc 13.2.1

Fedora 39 (ARM)
	Kernel: Depends on container host
	Compiler: gcc 13.2.1

Fedora 39 (ARM Clang)
	Kernel: Depends on container host
	Compiler: clang 17.0.6

Fedora 40 (ARM)
	Kernel: Depends on container host
	Compiler: gcc 14.1.1

Fedora 40 (ARM Clang)
	Kernel: Depends on container host
	Compiler: clang 18.1.6

RHEL9 (ARM)
	Kernel: Depends on container host
	Compiler: gcc 11.4.1

Ubuntu 20.04 (ARM)
	Kernel: Container Host Kernel
	Compiler: gcc 9.4.0

Ubuntu 24.04 (ARM)
	Kernel: 5.4.0-167-generic
	Compiler: gcc 13.2.0

Ubuntu 22.04 (ARM)
	Kernel: Container Host Kernel
	Compiler: gcc 11.4.0

To view detailed results, visit:
https://lab.dpdk.org/results/dashboard/patchsets/30733/

UNH-IOL DPDK Community Lab

To manage your email subscriptions, visit: 
https://lab.dpdk.org/results/dashboard/preferences/subscriptions/