From mboxrd@z Thu Jan  1 00:00:00 1970
Return-Path: <test-report-bounces@dpdk.org>
Received: from mails.dpdk.org (mails.dpdk.org [217.70.189.124])
	by inbox.dpdk.org (Postfix) with ESMTP id CC5EF45755
	for <public@inbox.dpdk.org>; Wed,  7 Aug 2024 00:44:37 +0200 (CEST)
Received: from mails.dpdk.org (localhost [127.0.0.1])
	by mails.dpdk.org (Postfix) with ESMTP id C90B44029C;
	Wed,  7 Aug 2024 00:44:37 +0200 (CEST)
Received: from mail-pj1-f100.google.com (mail-pj1-f100.google.com
 [209.85.216.100])
 by mails.dpdk.org (Postfix) with ESMTP id 9028E4028C
 for <test-report@dpdk.org>; Wed,  7 Aug 2024 00:44:36 +0200 (CEST)
Received: by mail-pj1-f100.google.com with SMTP id
 98e67ed59e1d1-2cb576db1c5so789047a91.1
 for <test-report@dpdk.org>; Tue, 06 Aug 2024 15:44:36 -0700 (PDT)
DKIM-Signature: v=1; a=rsa-sha256; c=relaxed/relaxed;
 d=iol.unh.edu; s=unh-iol; t=1722984276; x=1723589076; darn=dpdk.org;
 h=references:in-reply-to:cc:to:from:subject:message-id:date:from:to
 :cc:subject:date:message-id:reply-to;
 bh=13WAYuVZvOhJkwBWY8yPRGN8+nNdPFQN2GoJ+uS2LwE=;
 b=gzkOG6sJiAnU8Y8kB734CRBWo2Xs8eYINOA6bpxNcLrRfy8+jvYZzNGRMnNtKqlw4z
 KS0JiQJ3KIKsppik8VrQPRBaP3pJx1lV4UVkJ0iGr2tH9swOygrOsmUsDOV2q9QHXsln
 EmF5ixWxtwKgVpwfRKzNbe6zNdNbf3W7xlTHE=
X-Google-DKIM-Signature: v=1; a=rsa-sha256; c=relaxed/relaxed;
 d=1e100.net; s=20230601; t=1722984276; x=1723589076;
 h=references:in-reply-to:cc:to:from:subject:message-id:date
 :x-gm-message-state:from:to:cc:subject:date:message-id:reply-to;
 bh=13WAYuVZvOhJkwBWY8yPRGN8+nNdPFQN2GoJ+uS2LwE=;
 b=CY77woYPvvcFSQHpdkMBsd3qRdJkaVMGeUAp6zzSWZB5cMbwwAnSCHY1pRfU/u5xTx
 RpHoSxBX+NDlzJX0wtdkABG3oDhXum7Z+KQgjSVOcbXubNPtU+O3ml3QQ2jEYLRE/QvA
 l4QvbFys1hC7qw+Ifrf2B0qQcgIEQkmGZgwaiHddHwdh2HgQEnaLhGMufKWnioCMgJes
 lZG9hPXAkad1oNi1KrAe118jIWIAf5v9C2k5TiVwvj3U0cPEbXPnG6dHGHXlcjrZ1rhE
 lJFvjk9DdyzCG0OSWvCuu2TJH4djgrE9mCO0C91KotHzmU95qop5+dLbabZgeWuYNtmi
 3Lbw==
X-Gm-Message-State: AOJu0Yzce8wrsaMzzYC4gw+Hg0nGYHVc5tL2j/qm6ePPQia+AZqtzMPh
 07vsNN//OhvdwIK2qGwVhkGhUbVf33ZZjcLDSKojpnClsjm8VTad6skAoh60W/r5mj6fIDKczq2
 3tZHT7olgwHVqT/lPWKuaY7CbiefUJmeYfale88Q2
X-Google-Smtp-Source: AGHT+IEgmtU7ueSAiToZf0KJArhdRQpoRi2vmZcQkljWvEpgbQ/AoFJMDsxBHuf8Mw8zPkqGREKHqYPNzU7d
X-Received: by 2002:a17:90b:1a8a:b0:2c2:5f25:5490 with SMTP id
 98e67ed59e1d1-2cff9526d68mr15508292a91.34.1722984275773; 
 Tue, 06 Aug 2024 15:44:35 -0700 (PDT)
Received: from postal.iol.unh.edu (postal.iol.unh.edu. [132.177.123.84])
 by smtp-relay.gmail.com with ESMTPS id
 98e67ed59e1d1-2d1b3ab0ac8sm5590a91.6.2024.08.06.15.44.35
 (version=TLS1_2 cipher=ECDHE-ECDSA-AES128-GCM-SHA256 bits=128/128);
 Tue, 06 Aug 2024 15:44:35 -0700 (PDT)
X-Relaying-Domain: iol.unh.edu
Date: Tue, 06 Aug 2024 15:44:35 -0700 (PDT)
Message-ID: <66b2a753.170a0220.2bb7c2.0273SMTPIN_ADDED_MISSING@mx.google.com>
Received: from [172.21.0.7] (unknown [172.18.0.240])
 by postal.iol.unh.edu (Postfix) with ESMTP id ED911605C351;
 Tue,  6 Aug 2024 18:44:34 -0400 (EDT)
Subject: |PENDING| pw142964-142967 [PATCH] [4/4] ethdev: add traffic manager 
From: dpdklab@iol.unh.edu
To: Test Report <test-report@dpdk.org>
Cc: dpdk-test-reports@iol.unh.edu
In-Reply-To: <20240806152417.3649745-5-bruce.richardson@intel.com>
References: <20240806152417.3649745-5-bruce.richardson@intel.com>
Content-Type: text/plain
X-BeenThere: test-report@dpdk.org
X-Mailman-Version: 2.1.29
Precedence: list
List-Id: automatic DPDK test reports <test-report.dpdk.org>
List-Unsubscribe: <https://mails.dpdk.org/options/test-report>,
 <mailto:test-report-request@dpdk.org?subject=unsubscribe>
List-Archive: <http://mails.dpdk.org/archives/test-report/>
List-Post: <mailto:test-report@dpdk.org>
List-Help: <mailto:test-report-request@dpdk.org?subject=help>
List-Subscribe: <https://mails.dpdk.org/listinfo/test-report>,
 <mailto:test-report-request@dpdk.org?subject=subscribe>
Errors-To: test-report-bounces@dpdk.org

Test-Label: iol-unit-amd64-testing
Test-Status: PENDING
http://dpdk.org/patch/142967

_Testing pending_

Submitter: Bruce Richardson <bruce.richardson@intel.com>
Date: Tuesday, August 06 2024 15:24:17 
DPDK git baseline: Repo:dpdk
  Branch: master
  CommitID:37ce4c84c0f23c3989bc7ae19e03a4593cec94e5

142964-142967 --> testing pending

Upstream job id: Generic-Unit-Test-DPDK#249387

Test environment and result as below:

+---------------------+----------------+
|     Environment     | dpdk_unit_test |
+=====================+================+
| Windows Server 2019 | PASS           |
+---------------------+----------------+
| Windows Server 2022 | PASS           |
+---------------------+----------------+
| CentOS Stream 9     | PASS           |
+---------------------+----------------+
| Debian Bullseye     | PASS           |
+---------------------+----------------+
| Debian 12           | PASS           |
+---------------------+----------------+
| Fedora 37           | PASS           |
+---------------------+----------------+
| Fedora 38           | PASS           |
+---------------------+----------------+
| Fedora 38 (Clang)   | PASS           |
+---------------------+----------------+
| Fedora 39           | PASS           |
+---------------------+----------------+
| Fedora 39 (Clang)   | PEND           |
+---------------------+----------------+
| openSUSE Leap 15    | PASS           |
+---------------------+----------------+
| Fedora 40           | PASS           |
+---------------------+----------------+
| Fedora 40 (Clang)   | PEND           |
+---------------------+----------------+
| RHEL9               | PEND           |
+---------------------+----------------+
| RHEL8               | PEND           |
+---------------------+----------------+
| Ubuntu 20.04        | PEND           |
+---------------------+----------------+
| Ubuntu 22.04        | PEND           |
+---------------------+----------------+
| Ubuntu 24.04        | PEND           |
+---------------------+----------------+


Windows Server 2019
	Kernel: 10.0.17763
	Compiler: clang 14.0 and gcc 8.1.0 (MinGW)

Windows Server 2022
	Kernel: 10.0.20348.2031
	Compiler: clang 15.0.7, gcc 8.1.0 (MinGW), and MSVC VS 17.9

CentOS Stream 9
	Kernel: 5.4.0-167-generic
	Compiler: gcc 11.4.1 20230605

Debian Bullseye
	Kernel: 5.4.0-167-generic
	Compiler: gcc 10.2.1-6

Debian 12
	Kernel: Container Host Kernel
	Compiler: gcc 12.2.0

Fedora 37
	Kernel: Depends on container host system
	Compiler: gcc 12.3.1

Fedora 38
	Kernel: Depends on container host
	Compiler: gcc 13.2.1

Fedora 38 (Clang)
	Kernel: Depends on container host
	Compiler: clang 16.0.6

Fedora 39
	Kernel: Depends on container host
	Compiler: gcc 13.2.1

Fedora 39 (Clang)
	Kernel: Depends on container host
	Compiler: clang 17.0.6

openSUSE Leap 15
	Kernel: 5.4.0-167-generic
	Compiler: gcc 7.5.0

Fedora 40
	Kernel: Depends on container host
	Compiler: gcc 14.1.1

Fedora 40 (Clang)
	Kernel: Depends on container host
	Compiler: clang 18.1.6

RHEL9
	Kernel: Depends on container host
	Compiler: gcc 11.4.1

RHEL8
	Kernel: 5.4.0-167-generic
	Compiler: gcc 8.5.0 20210514 (Red Hat 8.5.0-20)

Ubuntu 20.04
	Kernel: 5.4.0-167-generic
	Compiler: gcc 9.4.0-1ubuntu1~20.04.1

Ubuntu 22.04
	Kernel: 5.4.0-167-generic
	Compiler: gcc 11.4.0

Ubuntu 24.04
	Kernel: 5.4.0-167-generic
	Compiler: gcc 13.2.0

To view detailed results, visit:
https://lab.dpdk.org/results/dashboard/patchsets/30734/

UNH-IOL DPDK Community Lab

To manage your email subscriptions, visit: 
https://lab.dpdk.org/results/dashboard/preferences/subscriptions/