From mboxrd@z Thu Jan 1 00:00:00 1970 Return-Path: Received: from mails.dpdk.org (mails.dpdk.org [217.70.189.124]) by inbox.dpdk.org (Postfix) with ESMTP id 89EEB45755 for ; Wed, 7 Aug 2024 00:49:13 +0200 (CEST) Received: from mails.dpdk.org (localhost [127.0.0.1]) by mails.dpdk.org (Postfix) with ESMTP id 7B59C4029C; Wed, 7 Aug 2024 00:49:13 +0200 (CEST) Received: from mail-yw1-f227.google.com (mail-yw1-f227.google.com [209.85.128.227]) by mails.dpdk.org (Postfix) with ESMTP id 5B5D04028C for ; Wed, 7 Aug 2024 00:49:07 +0200 (CEST) Received: by mail-yw1-f227.google.com with SMTP id 00721157ae682-66ca536621cso13147687b3.3 for ; Tue, 06 Aug 2024 15:49:07 -0700 (PDT) DKIM-Signature: v=1; a=rsa-sha256; c=relaxed/relaxed; d=iol.unh.edu; s=unh-iol; t=1722984546; x=1723589346; darn=dpdk.org; h=references:in-reply-to:cc:to:from:subject:message-id:date:from:to :cc:subject:date:message-id:reply-to; bh=E1NHX7FpyRX+Bpj0ykxfggQcldsmepQYxqkBU+cPHWA=; b=HNrjrWMGriVY/y06icBFZrlwS5xktnF1pm1maBouf5Tr9yn2ZbnHUwFReUKTcb+PwZ xDVWLBj+/YgaFPOM0eBSTvTcheGHsQ4em1F9V90Vzw0m8cHQ76K4nNV6aJKflaHyOY+x H4Ru167kizSFtASWLw2+ELc28BynrMnMnd+N0= X-Google-DKIM-Signature: v=1; a=rsa-sha256; c=relaxed/relaxed; d=1e100.net; s=20230601; t=1722984546; x=1723589346; h=references:in-reply-to:cc:to:from:subject:message-id:date :x-gm-message-state:from:to:cc:subject:date:message-id:reply-to; bh=E1NHX7FpyRX+Bpj0ykxfggQcldsmepQYxqkBU+cPHWA=; b=UKhmnfXaJgBfcs6So5r7kTREIL1VkShw+F+sQzVUlv//cCNGOJue2S012GBk6fUHZv MTi+xNB8z9fs8NpzG3wb8xfbj00O35M67E4lLvaA9yybOj0SohashyOtoq3M5JZkLAl7 u8eFARn6m5gj+6CDxv0I7dOgM7Xn4oSozr8GHJh7hbHQ/CfqUgdiX4gMeV7xePtIkO9s nDkMkJ01xojOU7RbQRjEZ3RwRKoo5IZv/FFCYU/q4C4+xJB9zF2YSCnk4a8VPTq1s42Y I9DQtPgF08RsdijlQDNqLIYLZU+wG9Ad+ug/fGGZNj9/l/qM0doC9U9Du0CrGc6fxXRx 4U1A== X-Gm-Message-State: AOJu0Yynmljr5ADsFvAdKEaAZ7qxbx1yD9LqmtHZHDVYfs+fnGRIYQJh VFnbiGZT+q9l7ESVrIw+0qO2lsDQsnhQg3E9OTrNZsp5x6Ko3zZUl4iro4UlDspvNNv2k2DY/aV 3yEfEi7TqdQVKBlgGe+VcTnEbdbrqEZ/Pd4R1vBr8 X-Google-Smtp-Source: AGHT+IGbhjivDfrZ3JgLaWW837MJsQrEPXk6M8y+oV6LpN/g4y1hhw+I0oraWFbm5NpiAAIV2i7A48J/vpA7 X-Received: by 2002:a81:6e0b:0:b0:65f:8973:31a2 with SMTP id 00721157ae682-68960681a81mr164068067b3.13.1722984546758; Tue, 06 Aug 2024 15:49:06 -0700 (PDT) Received: from postal.iol.unh.edu (postal.iol.unh.edu. [132.177.123.84]) by smtp-relay.gmail.com with ESMTPS id 00721157ae682-68a165f2301sm12374487b3.64.2024.08.06.15.49.06 (version=TLS1_2 cipher=ECDHE-ECDSA-AES128-GCM-SHA256 bits=128/128); Tue, 06 Aug 2024 15:49:06 -0700 (PDT) X-Relaying-Domain: iol.unh.edu Date: Tue, 06 Aug 2024 15:49:06 -0700 (PDT) Message-ID: <66b2a862.0d0a0220.2d7fd8.9538SMTPIN_ADDED_MISSING@mx.google.com> Received: from [172.21.0.7] (unknown [172.18.0.240]) by postal.iol.unh.edu (Postfix) with ESMTP id 6A8A1605C351; Tue, 6 Aug 2024 18:49:06 -0400 (EDT) Subject: |PENDING| pw142964-142967 [PATCH] [4/4] ethdev: add traffic manager From: dpdklab@iol.unh.edu To: Test Report Cc: dpdk-test-reports@iol.unh.edu In-Reply-To: <20240806152417.3649745-5-bruce.richardson@intel.com> References: <20240806152417.3649745-5-bruce.richardson@intel.com> Content-Type: text/plain X-BeenThere: test-report@dpdk.org X-Mailman-Version: 2.1.29 Precedence: list List-Id: automatic DPDK test reports List-Unsubscribe: , List-Archive: List-Post: List-Help: List-Subscribe: , Errors-To: test-report-bounces@dpdk.org Test-Label: iol-unit-amd64-testing Test-Status: PENDING http://dpdk.org/patch/142967 _Testing pending_ Submitter: Bruce Richardson Date: Tuesday, August 06 2024 15:24:17 DPDK git baseline: Repo:dpdk Branch: master CommitID:37ce4c84c0f23c3989bc7ae19e03a4593cec94e5 142964-142967 --> testing pending Upstream job id: Generic-Unit-Test-DPDK#249389 Test environment and result as below: +---------------------+----------------+ | Environment | dpdk_unit_test | +=====================+================+ | Windows Server 2019 | PASS | +---------------------+----------------+ | Windows Server 2022 | PASS | +---------------------+----------------+ | CentOS Stream 9 | PASS | +---------------------+----------------+ | Debian Bullseye | PASS | +---------------------+----------------+ | Debian 12 | PASS | +---------------------+----------------+ | Fedora 37 | PASS | +---------------------+----------------+ | Fedora 38 | PASS | +---------------------+----------------+ | Fedora 38 (Clang) | PASS | +---------------------+----------------+ | Fedora 39 | PASS | +---------------------+----------------+ | Fedora 39 (Clang) | PEND | +---------------------+----------------+ | openSUSE Leap 15 | PASS | +---------------------+----------------+ | Fedora 40 | PASS | +---------------------+----------------+ | Fedora 40 (Clang) | PEND | +---------------------+----------------+ | RHEL9 | PASS | +---------------------+----------------+ | RHEL8 | PEND | +---------------------+----------------+ | Ubuntu 20.04 | PEND | +---------------------+----------------+ | Ubuntu 22.04 | PEND | +---------------------+----------------+ | Ubuntu 24.04 | PEND | +---------------------+----------------+ Windows Server 2019 Kernel: 10.0.17763 Compiler: clang 14.0 and gcc 8.1.0 (MinGW) Windows Server 2022 Kernel: 10.0.20348.2031 Compiler: clang 15.0.7, gcc 8.1.0 (MinGW), and MSVC VS 17.9 CentOS Stream 9 Kernel: 5.4.0-167-generic Compiler: gcc 11.4.1 20230605 Debian Bullseye Kernel: 5.4.0-167-generic Compiler: gcc 10.2.1-6 Debian 12 Kernel: Container Host Kernel Compiler: gcc 12.2.0 Fedora 37 Kernel: Depends on container host system Compiler: gcc 12.3.1 Fedora 38 Kernel: Depends on container host Compiler: gcc 13.2.1 Fedora 38 (Clang) Kernel: Depends on container host Compiler: clang 16.0.6 Fedora 39 Kernel: Depends on container host Compiler: gcc 13.2.1 Fedora 39 (Clang) Kernel: Depends on container host Compiler: clang 17.0.6 openSUSE Leap 15 Kernel: 5.4.0-167-generic Compiler: gcc 7.5.0 Fedora 40 Kernel: Depends on container host Compiler: gcc 14.1.1 Fedora 40 (Clang) Kernel: Depends on container host Compiler: clang 18.1.6 RHEL9 Kernel: Depends on container host Compiler: gcc 11.4.1 RHEL8 Kernel: 5.4.0-167-generic Compiler: gcc 8.5.0 20210514 (Red Hat 8.5.0-20) Ubuntu 20.04 Kernel: 5.4.0-167-generic Compiler: gcc 9.4.0-1ubuntu1~20.04.1 Ubuntu 22.04 Kernel: 5.4.0-167-generic Compiler: gcc 11.4.0 Ubuntu 24.04 Kernel: 5.4.0-167-generic Compiler: gcc 13.2.0 To view detailed results, visit: https://lab.dpdk.org/results/dashboard/patchsets/30734/ UNH-IOL DPDK Community Lab To manage your email subscriptions, visit: https://lab.dpdk.org/results/dashboard/preferences/subscriptions/