From mboxrd@z Thu Jan  1 00:00:00 1970
Return-Path: <test-report-bounces@dpdk.org>
Received: from mails.dpdk.org (mails.dpdk.org [217.70.189.124])
	by inbox.dpdk.org (Postfix) with ESMTP id 42B9E45755
	for <public@inbox.dpdk.org>; Wed,  7 Aug 2024 00:51:27 +0200 (CEST)
Received: from mails.dpdk.org (localhost [127.0.0.1])
	by mails.dpdk.org (Postfix) with ESMTP id 2E2F94029C;
	Wed,  7 Aug 2024 00:51:27 +0200 (CEST)
Received: from mail-io1-f98.google.com (mail-io1-f98.google.com
 [209.85.166.98]) by mails.dpdk.org (Postfix) with ESMTP id A8A1C4028C
 for <test-report@dpdk.org>; Wed,  7 Aug 2024 00:51:25 +0200 (CEST)
Received: by mail-io1-f98.google.com with SMTP id
 ca18e2360f4ac-81f8f0197abso52567039f.2
 for <test-report@dpdk.org>; Tue, 06 Aug 2024 15:51:25 -0700 (PDT)
DKIM-Signature: v=1; a=rsa-sha256; c=relaxed/relaxed;
 d=iol.unh.edu; s=unh-iol; t=1722984685; x=1723589485; darn=dpdk.org;
 h=references:in-reply-to:cc:to:from:subject:message-id:date:from:to
 :cc:subject:date:message-id:reply-to;
 bh=H2Qa8ADlu8A79YnvRG4NeCSv0+8r7gYju2jbY9nOH9g=;
 b=EeBuF2C1o+xTHRhuGbDHM9Y/ZvpPorCh4QUod0UVps+b1wSjRoV81bqoGNV5W5fAMq
 n9o5bgu8yAvLQl0rlDo1DzvP5PvkMeX8kOJISi03TUJRDQaj4g/6xPDDD5nsHBasi/Dq
 5VHRaM47mOW4DYsPCdouMjGmX9fvCjStU6WYk=
X-Google-DKIM-Signature: v=1; a=rsa-sha256; c=relaxed/relaxed;
 d=1e100.net; s=20230601; t=1722984685; x=1723589485;
 h=references:in-reply-to:cc:to:from:subject:message-id:date
 :x-gm-message-state:from:to:cc:subject:date:message-id:reply-to;
 bh=H2Qa8ADlu8A79YnvRG4NeCSv0+8r7gYju2jbY9nOH9g=;
 b=KcMSfoklNeMYBtGyNJ6ywEKd8pZimXJbnqv+Sw4t2VUp+qKFU958eoKBkPCLMLCwff
 CkN6/b7J0tV4mkCb8IBPX2VFC4xUQSvg5XY+HtLaVUV/m9Ag/4jWPnKEsrkZv5EifPAM
 I0CmndV6DWpCwzrXV1oysrx/jyIjVR7FMz2dy/N9ip8wvBkYTNt9155Ar4TopMYViYAb
 E9gEcYpCHO3LTYycVIV0XwN0rL3qJOpttjr0Ya1QuUI7gShDj/Q/DSxFk7DaUEpahzoD
 4HES9DOKh1guTaLvG0kVNT8MdU7/UQMnuwtFKlcicKY1jo5EbI5XaZqAcpzMAx61eJI7
 KVsA==
X-Gm-Message-State: AOJu0Yxuj66LsJQUabPXmAEXnNcuGrZIklMeShJt/HcxxlctYNeuRA/u
 m9D6wh1JqZ6H3Yz4a6PPk4Ji6tIj0GhyS4+IDVW1gE0tuKoCyQsMC2A9JfbDbrC8kgi4J4RN9Eh
 a8EZdGVC2Th7xUwBEYHLLd60NedOA9n6VW6kthRxj2NTtFr7yzmFDCZZ3
X-Google-Smtp-Source: AGHT+IFgAVOXKFDRjOilvSrS4sk4LEhQfMYYr55bGdwXF4u8nBrj6futEz8VmhMp9DLb1errtW21e97/LQce
X-Received: by 2002:a05:6602:3c4:b0:81b:d692:9da0 with SMTP id
 ca18e2360f4ac-81fd4363fbemr2575486039f.5.1722984684910; 
 Tue, 06 Aug 2024 15:51:24 -0700 (PDT)
Received: from postal.iol.unh.edu (postal.iol.unh.edu.
 [2606:4100:3880:1234::84]) by smtp-relay.gmail.com with ESMTPS id
 8926c6da1cb9f-4c8d69a911asm375308173.17.2024.08.06.15.51.24
 (version=TLS1_2 cipher=ECDHE-ECDSA-AES128-GCM-SHA256 bits=128/128);
 Tue, 06 Aug 2024 15:51:24 -0700 (PDT)
X-Relaying-Domain: iol.unh.edu
Date: Tue, 06 Aug 2024 15:51:24 -0700 (PDT)
Message-ID: <66b2a8ec.050a0220.38632d.da01SMTPIN_ADDED_MISSING@mx.google.com>
Received: from [172.21.0.8] (unknown [172.18.0.240])
 by postal.iol.unh.edu (Postfix) with ESMTP id 6BA45605C351;
 Tue,  6 Aug 2024 18:51:24 -0400 (EDT)
Subject: |PENDING| pw142964-142967 [PATCH] [4/4] ethdev: add traffic manager 
From: dpdklab@iol.unh.edu
To: Test Report <test-report@dpdk.org>
Cc: dpdk-test-reports@iol.unh.edu
In-Reply-To: <20240806152417.3649745-5-bruce.richardson@intel.com>
References: <20240806152417.3649745-5-bruce.richardson@intel.com>
Content-Type: text/plain
X-BeenThere: test-report@dpdk.org
X-Mailman-Version: 2.1.29
Precedence: list
List-Id: automatic DPDK test reports <test-report.dpdk.org>
List-Unsubscribe: <https://mails.dpdk.org/options/test-report>,
 <mailto:test-report-request@dpdk.org?subject=unsubscribe>
List-Archive: <http://mails.dpdk.org/archives/test-report/>
List-Post: <mailto:test-report@dpdk.org>
List-Help: <mailto:test-report-request@dpdk.org?subject=help>
List-Subscribe: <https://mails.dpdk.org/listinfo/test-report>,
 <mailto:test-report-request@dpdk.org?subject=subscribe>
Errors-To: test-report-bounces@dpdk.org

Test-Label: iol-unit-amd64-testing
Test-Status: PENDING
http://dpdk.org/patch/142967

_Testing pending_

Submitter: Bruce Richardson <bruce.richardson@intel.com>
Date: Tuesday, August 06 2024 15:24:17 
DPDK git baseline: Repo:dpdk
  Branch: master
  CommitID:37ce4c84c0f23c3989bc7ae19e03a4593cec94e5

142964-142967 --> testing pending

Upstream job id: Generic-Unit-Test-DPDK#249388

Test environment and result as below:

+---------------------+----------------+
|     Environment     | dpdk_unit_test |
+=====================+================+
| Windows Server 2019 | PASS           |
+---------------------+----------------+
| Windows Server 2022 | PASS           |
+---------------------+----------------+
| CentOS Stream 9     | PASS           |
+---------------------+----------------+
| Debian Bullseye     | PASS           |
+---------------------+----------------+
| Debian 12           | PASS           |
+---------------------+----------------+
| Fedora 37           | PASS           |
+---------------------+----------------+
| Fedora 38           | PASS           |
+---------------------+----------------+
| Fedora 38 (Clang)   | PASS           |
+---------------------+----------------+
| Fedora 39           | PASS           |
+---------------------+----------------+
| Fedora 39 (Clang)   | PASS           |
+---------------------+----------------+
| openSUSE Leap 15    | PASS           |
+---------------------+----------------+
| Fedora 40           | PASS           |
+---------------------+----------------+
| Fedora 40 (Clang)   | PEND           |
+---------------------+----------------+
| RHEL9               | PASS           |
+---------------------+----------------+
| RHEL8               | PASS           |
+---------------------+----------------+
| Ubuntu 20.04        | PEND           |
+---------------------+----------------+
| Ubuntu 22.04        | PEND           |
+---------------------+----------------+
| Ubuntu 24.04        | PEND           |
+---------------------+----------------+


Windows Server 2019
	Kernel: 10.0.17763
	Compiler: clang 14.0 and gcc 8.1.0 (MinGW)

Windows Server 2022
	Kernel: 10.0.20348.2031
	Compiler: clang 15.0.7, gcc 8.1.0 (MinGW), and MSVC VS 17.9

CentOS Stream 9
	Kernel: 5.4.0-167-generic
	Compiler: gcc 11.4.1 20230605

Debian Bullseye
	Kernel: 5.4.0-167-generic
	Compiler: gcc 10.2.1-6

Debian 12
	Kernel: Container Host Kernel
	Compiler: gcc 12.2.0

Fedora 37
	Kernel: Depends on container host system
	Compiler: gcc 12.3.1

Fedora 38
	Kernel: Depends on container host
	Compiler: gcc 13.2.1

Fedora 38 (Clang)
	Kernel: Depends on container host
	Compiler: clang 16.0.6

Fedora 39
	Kernel: Depends on container host
	Compiler: gcc 13.2.1

Fedora 39 (Clang)
	Kernel: Depends on container host
	Compiler: clang 17.0.6

openSUSE Leap 15
	Kernel: 5.4.0-167-generic
	Compiler: gcc 7.5.0

Fedora 40
	Kernel: Depends on container host
	Compiler: gcc 14.1.1

Fedora 40 (Clang)
	Kernel: Depends on container host
	Compiler: clang 18.1.6

RHEL9
	Kernel: Depends on container host
	Compiler: gcc 11.4.1

RHEL8
	Kernel: 5.4.0-167-generic
	Compiler: gcc 8.5.0 20210514 (Red Hat 8.5.0-20)

Ubuntu 20.04
	Kernel: 5.4.0-167-generic
	Compiler: gcc 9.4.0-1ubuntu1~20.04.1

Ubuntu 22.04
	Kernel: 5.4.0-167-generic
	Compiler: gcc 11.4.0

Ubuntu 24.04
	Kernel: 5.4.0-167-generic
	Compiler: gcc 13.2.0

To view detailed results, visit:
https://lab.dpdk.org/results/dashboard/patchsets/30734/

UNH-IOL DPDK Community Lab

To manage your email subscriptions, visit: 
https://lab.dpdk.org/results/dashboard/preferences/subscriptions/