From mboxrd@z Thu Jan  1 00:00:00 1970
Return-Path: <test-report-bounces@dpdk.org>
Received: from mails.dpdk.org (mails.dpdk.org [217.70.189.124])
	by inbox.dpdk.org (Postfix) with ESMTP id 5246F45755
	for <public@inbox.dpdk.org>; Wed,  7 Aug 2024 01:07:23 +0200 (CEST)
Received: from mails.dpdk.org (localhost [127.0.0.1])
	by mails.dpdk.org (Postfix) with ESMTP id 480E24029C;
	Wed,  7 Aug 2024 01:07:23 +0200 (CEST)
Received: from mail-oo1-f99.google.com (mail-oo1-f99.google.com
 [209.85.161.99]) by mails.dpdk.org (Postfix) with ESMTP id 6F43D4028C
 for <test-report@dpdk.org>; Wed,  7 Aug 2024 01:07:22 +0200 (CEST)
Received: by mail-oo1-f99.google.com with SMTP id
 006d021491bc7-5d5d4d07babso630110eaf.3
 for <test-report@dpdk.org>; Tue, 06 Aug 2024 16:07:22 -0700 (PDT)
DKIM-Signature: v=1; a=rsa-sha256; c=relaxed/relaxed;
 d=iol.unh.edu; s=unh-iol; t=1722985641; x=1723590441; darn=dpdk.org;
 h=references:in-reply-to:cc:to:from:subject:message-id:date:from:to
 :cc:subject:date:message-id:reply-to;
 bh=g/I1+a+aTwQSxC1wEBFRaHC90Lrl1LZtW5viZnWvLEw=;
 b=Mm7KVuOIgKlWKFjb+8DSUzGbjqjhtumWA+P0gifHU8Z+O7hulHcjsAWUgjLR1y3fJ+
 3Xc5clkavaXWSnSg+S78YG8g2LdeE/ZhrOo81bUYSqlw0hExKSWJrU/hNLJE8/9nSY84
 9DgavbQvIq5IQnjCwUeOoocu6zqYli06wpoik=
X-Google-DKIM-Signature: v=1; a=rsa-sha256; c=relaxed/relaxed;
 d=1e100.net; s=20230601; t=1722985641; x=1723590441;
 h=references:in-reply-to:cc:to:from:subject:message-id:date
 :x-gm-message-state:from:to:cc:subject:date:message-id:reply-to;
 bh=g/I1+a+aTwQSxC1wEBFRaHC90Lrl1LZtW5viZnWvLEw=;
 b=ZtP1X+X7MOCPkSLlFpEm8TzZ+yscbzTkqNZDYCvkb6T8KGl1YM44QaSkP4gyY33fH/
 CG4+hzb2f0fVSLm8rRrE+Oyu5AeOp5pCvvpcC9v1tQNTylSzVoUK0fGMy/N37UTxlJZw
 szwMnB0dWlt4F+ovCSj8Z3zcZ66btQA1BnW2GYm/YsOvEcjDTrx2jyYIUZ0/iNCPmvLi
 mP3bZUcFyQP9Zv0GUaMmMQinIzgOxB3dBAIlapDYV5rP9U2GXqa52rZtgcraWsHW1dSW
 yexYvuExiZHzr3WhckU5bJLtbtT3YQP8vXc8tIJpzpeZQQW3vHYN/wkYBhE8pC+Q9aMQ
 aQtQ==
X-Gm-Message-State: AOJu0YxXse9takIqt6s/bHZfpcDMTeaaXhqsGg0jiADfwiSzKUkLvYN+
 BpP9CjzdSxifxW2xtsIDl70gqdkf1E15S4pgEO5qUvSzxlC5T+D1WQJ6piP5x0g9ndEKN3DT65w
 MhHEQx2kPIb3hihonVkLukal7ta3d321fZCSNe4w/0sEGk/ll8qc9WTcO
X-Google-Smtp-Source: AGHT+IG29Q2X9TZtwflIQYtoorVSnAY7F4/NA0IfKQGzr7GQLwkJcCYAlyJxsfQ3+xb/TP/GBt4pliXMHFRg
X-Received: by 2002:a05:6358:99a0:b0:1aa:9fdd:af89 with SMTP id
 e5c5f4694b2df-1af3bb584dfmr1957582755d.20.1722985641568; 
 Tue, 06 Aug 2024 16:07:21 -0700 (PDT)
Received: from postal.iol.unh.edu (postal.iol.unh.edu.
 [2606:4100:3880:1234::84]) by smtp-relay.gmail.com with ESMTPS id
 00721157ae682-68a12ff63b8sm12645227b3.32.2024.08.06.16.07.21
 (version=TLS1_2 cipher=ECDHE-ECDSA-AES128-GCM-SHA256 bits=128/128);
 Tue, 06 Aug 2024 16:07:21 -0700 (PDT)
X-Relaying-Domain: iol.unh.edu
Date: Tue, 06 Aug 2024 16:07:21 -0700 (PDT)
Message-ID: <66b2aca9.810a0220.323704.dc9cSMTPIN_ADDED_MISSING@mx.google.com>
Received: from [172.21.0.6] (unknown [172.18.0.240])
 by postal.iol.unh.edu (Postfix) with ESMTP id 3CF66605C351;
 Tue,  6 Aug 2024 19:07:21 -0400 (EDT)
Subject: |PENDING| pw142959-142963 [PATCH] [v15,5/5] dts: add API doc generat
From: dpdklab@iol.unh.edu
To: Test Report <test-report@dpdk.org>
Cc: dpdk-test-reports@iol.unh.edu
In-Reply-To: <20240806151937.391917-6-juraj.linkes@pantheon.tech>
References: <20240806151937.391917-6-juraj.linkes@pantheon.tech>
Content-Type: text/plain
X-BeenThere: test-report@dpdk.org
X-Mailman-Version: 2.1.29
Precedence: list
List-Id: automatic DPDK test reports <test-report.dpdk.org>
List-Unsubscribe: <https://mails.dpdk.org/options/test-report>,
 <mailto:test-report-request@dpdk.org?subject=unsubscribe>
List-Archive: <http://mails.dpdk.org/archives/test-report/>
List-Post: <mailto:test-report@dpdk.org>
List-Help: <mailto:test-report-request@dpdk.org?subject=help>
List-Subscribe: <https://mails.dpdk.org/listinfo/test-report>,
 <mailto:test-report-request@dpdk.org?subject=subscribe>
Errors-To: test-report-bounces@dpdk.org

Test-Label: iol-unit-amd64-testing
Test-Status: PENDING
http://dpdk.org/patch/142963

_Testing pending_

Submitter: Juraj Linkes <juraj.linkes@pantheon.tech>
Date: Tuesday, August 06 2024 15:19:37 
DPDK git baseline: Repo:dpdk
  Branch: master
  CommitID:b3485f4293997d35b6daecc3437bb0c183a51fb3

142959-142963 --> testing pending

Upstream job id: Generic-Unit-Test-DPDK#249406

Test environment and result as below:

+---------------------+----------------+
|     Environment     | dpdk_unit_test |
+=====================+================+
| Windows Server 2019 | PASS           |
+---------------------+----------------+
| Windows Server 2022 | PASS           |
+---------------------+----------------+
| CentOS Stream 9     | PASS           |
+---------------------+----------------+
| Debian Bullseye     | PASS           |
+---------------------+----------------+
| Debian 12           | PASS           |
+---------------------+----------------+
| Fedora 37           | PASS           |
+---------------------+----------------+
| Fedora 38           | PEND           |
+---------------------+----------------+
| Fedora 38 (Clang)   | PEND           |
+---------------------+----------------+
| Fedora 39           | PEND           |
+---------------------+----------------+
| Fedora 40 (Clang)   | PEND           |
+---------------------+----------------+
| Fedora 40           | PEND           |
+---------------------+----------------+
| Fedora 39 (Clang)   | PEND           |
+---------------------+----------------+
| openSUSE Leap 15    | PEND           |
+---------------------+----------------+
| RHEL8               | PEND           |
+---------------------+----------------+
| RHEL9               | PEND           |
+---------------------+----------------+
| Ubuntu 20.04        | PEND           |
+---------------------+----------------+
| Ubuntu 22.04        | PEND           |
+---------------------+----------------+
| Ubuntu 24.04        | PEND           |
+---------------------+----------------+


Windows Server 2019
	Kernel: 10.0.17763
	Compiler: clang 14.0 and gcc 8.1.0 (MinGW)

Windows Server 2022
	Kernel: 10.0.20348.2031
	Compiler: clang 15.0.7, gcc 8.1.0 (MinGW), and MSVC VS 17.9

CentOS Stream 9
	Kernel: 5.4.0-167-generic
	Compiler: gcc 11.4.1 20230605

Debian Bullseye
	Kernel: 5.4.0-167-generic
	Compiler: gcc 10.2.1-6

Debian 12
	Kernel: Container Host Kernel
	Compiler: gcc 12.2.0

Fedora 37
	Kernel: Depends on container host system
	Compiler: gcc 12.3.1

Fedora 38
	Kernel: Depends on container host
	Compiler: gcc 13.2.1

Fedora 38 (Clang)
	Kernel: Depends on container host
	Compiler: clang 16.0.6

Fedora 39
	Kernel: Depends on container host
	Compiler: gcc 13.2.1

Fedora 40 (Clang)
	Kernel: Depends on container host
	Compiler: clang 18.1.6

Fedora 40
	Kernel: Depends on container host
	Compiler: gcc 14.1.1

Fedora 39 (Clang)
	Kernel: Depends on container host
	Compiler: clang 17.0.6

openSUSE Leap 15
	Kernel: 5.4.0-167-generic
	Compiler: gcc 7.5.0

RHEL8
	Kernel: 5.4.0-167-generic
	Compiler: gcc 8.5.0 20210514 (Red Hat 8.5.0-20)

RHEL9
	Kernel: Depends on container host
	Compiler: gcc 11.4.1

Ubuntu 20.04
	Kernel: 5.4.0-167-generic
	Compiler: gcc 9.4.0-1ubuntu1~20.04.1

Ubuntu 22.04
	Kernel: 5.4.0-167-generic
	Compiler: gcc 11.4.0

Ubuntu 24.04
	Kernel: 5.4.0-167-generic
	Compiler: gcc 13.2.0

To view detailed results, visit:
https://lab.dpdk.org/results/dashboard/patchsets/30733/

UNH-IOL DPDK Community Lab

To manage your email subscriptions, visit: 
https://lab.dpdk.org/results/dashboard/preferences/subscriptions/