From mboxrd@z Thu Jan  1 00:00:00 1970
Return-Path: <test-report-bounces@dpdk.org>
Received: from mails.dpdk.org (mails.dpdk.org [217.70.189.124])
	by inbox.dpdk.org (Postfix) with ESMTP id C2B0A45754
	for <public@inbox.dpdk.org>; Wed,  7 Aug 2024 07:07:28 +0200 (CEST)
Received: from mails.dpdk.org (localhost [127.0.0.1])
	by mails.dpdk.org (Postfix) with ESMTP id 99B734029C;
	Wed,  7 Aug 2024 07:07:28 +0200 (CEST)
Received: from mail-oi1-f225.google.com (mail-oi1-f225.google.com
 [209.85.167.225])
 by mails.dpdk.org (Postfix) with ESMTP id 167FB4028C
 for <test-report@dpdk.org>; Wed,  7 Aug 2024 07:07:27 +0200 (CEST)
Received: by mail-oi1-f225.google.com with SMTP id
 5614622812f47-3db12a2f530so794520b6e.1
 for <test-report@dpdk.org>; Tue, 06 Aug 2024 22:07:27 -0700 (PDT)
DKIM-Signature: v=1; a=rsa-sha256; c=relaxed/relaxed;
 d=iol.unh.edu; s=unh-iol; t=1723007246; x=1723612046; darn=dpdk.org;
 h=references:in-reply-to:cc:to:from:subject:message-id:date:from:to
 :cc:subject:date:message-id:reply-to;
 bh=WZb0rPnmOnlV6xm2/6L8MsAGJpDNMtCsecihs24HXzA=;
 b=PVikXDTqjNFxdb7w67CCpsTZiDEHpI1DJn2eWFHISqG1aV+KGprTx1rKfQ0bGvJYIF
 rMgLvBV2Zg+MRM5giRHMJHaKSvdXcGmswMXQ3InJFiC9PY9MNYRHEy9reHr8OUtW+W+l
 ogzWq1ohPMp6YplHw6BIQ2FzJ9a/ZKBm2mOUM=
X-Google-DKIM-Signature: v=1; a=rsa-sha256; c=relaxed/relaxed;
 d=1e100.net; s=20230601; t=1723007246; x=1723612046;
 h=references:in-reply-to:cc:to:from:subject:message-id:date
 :x-gm-message-state:from:to:cc:subject:date:message-id:reply-to;
 bh=WZb0rPnmOnlV6xm2/6L8MsAGJpDNMtCsecihs24HXzA=;
 b=ZAC57wpfArRW1vMaQeIYLS/ku1pOtvWiJ1AcwEWKWiqp/Fjtn+WYUH0ouj6iqy9LjT
 KR3Pp2aXW2Gr0NTb/nacIcPRXETu5Ip/AqoNcMIkYQP56cLsOTL7+nxNldk1CESn3Ltv
 cbvJZ3LoFZWL9oSjnX47fmIX1K0+P3xjzMFbSIjXLwBNmteo2Y1Rzh4zLC9kEvnTdPuw
 FPIxYImfR9zbE5MQdIEPRmcJZSbE3TxNNKfGWq9NJywemGPlD/5hCfOXXF2I+OhHqrm8
 /coM41qttgGbYnSHbD0LfDZAONNcewskiz54Yg+eilkkZnnzcmxcBCUP01Llj8fMy7Ek
 IMFw==
X-Gm-Message-State: AOJu0YxvyOCKGxMTdIdKWBNm92djuR/a14MQTWWfrt87k+/ZspwOv3sQ
 H96srDnpmzHLDOwRY0kGXM69ccEF6ustFGT2nliE9SY6ddrUSdJy+9Z7doxi3JogR28ImKyzrzf
 bybHtpJtu5ne3seWITs+Eu5u4rBvPh/XttgKaWyuXAg8d67AAyZyB3Jlr
X-Google-Smtp-Source: AGHT+IGxVo7SsypT02gkP9gmnRyCEG5Uzabl1jcCo/4EvjpIlSd2OWV+q5sN5HNcY8MzL24w3u6Jcy15HaGJ
X-Received: by 2002:a05:6870:fb8d:b0:260:f5c6:e9ec with SMTP id
 586e51a60fabf-26891d22d97mr20926014fac.17.1723007246157; 
 Tue, 06 Aug 2024 22:07:26 -0700 (PDT)
Received: from postal.iol.unh.edu (postal.iol.unh.edu.
 [2606:4100:3880:1234::84]) by smtp-relay.gmail.com with ESMTPS id
 586e51a60fabf-2689a2f5b7fsm926978fac.20.2024.08.06.22.07.26
 (version=TLS1_2 cipher=ECDHE-ECDSA-AES128-GCM-SHA256 bits=128/128);
 Tue, 06 Aug 2024 22:07:26 -0700 (PDT)
X-Relaying-Domain: iol.unh.edu
Date: Tue, 06 Aug 2024 22:07:26 -0700 (PDT)
Message-ID: <66b3010e.050a0220.ba0aa.00ceSMTPIN_ADDED_MISSING@mx.google.com>
Received: from [172.17.0.4] (unknown [172.18.0.217])
 by postal.iol.unh.edu (Postfix) with ESMTP id C00E3605C351;
 Wed,  7 Aug 2024 01:07:25 -0400 (EDT)
Subject: |SUCCESS| pw142930-142936 [PATCH] [v2,7/7] crypto/dpaa2_sec: rework 
From: dpdklab@iol.unh.edu
To: Test Report <test-report@dpdk.org>
Cc: dpdk-test-reports@iol.unh.edu
In-Reply-To: <20240806102732.3225536-8-g.singh@nxp.com>
References: <20240806102732.3225536-8-g.singh@nxp.com>
Content-Type: text/plain
X-BeenThere: test-report@dpdk.org
X-Mailman-Version: 2.1.29
Precedence: list
List-Id: automatic DPDK test reports <test-report.dpdk.org>
List-Unsubscribe: <https://mails.dpdk.org/options/test-report>,
 <mailto:test-report-request@dpdk.org?subject=unsubscribe>
List-Archive: <http://mails.dpdk.org/archives/test-report/>
List-Post: <mailto:test-report@dpdk.org>
List-Help: <mailto:test-report-request@dpdk.org?subject=help>
List-Subscribe: <https://mails.dpdk.org/listinfo/test-report>,
 <mailto:test-report-request@dpdk.org?subject=subscribe>
Errors-To: test-report-bounces@dpdk.org

Test-Label: iol-sample-apps-testing
Test-Status: SUCCESS
http://dpdk.org/patch/142936

_Testing PASS_

Submitter: Gagandeep Singh <g.singh@nxp.com>
Date: Tuesday, August 06 2024 10:27:32 
DPDK git baseline: Repo:dpdk
  Branch: master
  CommitID:b3485f4293997d35b6daecc3437bb0c183a51fb3

142930-142936 --> testing pass

Upstream job id: Template-DTS-Pipeline#173335

Test environment and result as below:

+--------------------+----------------------+----------------------+
|    Environment     | compressdev_zlib_pmd | dpdk_fips_validation |
+====================+======================+======================+
| Ubuntu 22.04       | PASS                 | SKIPPED              |
+--------------------+----------------------+----------------------+
| Ubuntu 22.04 (ARM) | PASS                 | SKIPPED              |
+--------------------+----------------------+----------------------+
| Ubuntu 20.04       | SKIPPED              | PASS                 |
+--------------------+----------------------+----------------------+


Ubuntu 22.04
	Kernel: 5.15.0-100-generic
	Compiler: gcc gcc (Ubuntu 11.4.0-1ubuntu1~22.04) 11.4.0

Ubuntu 22.04 (ARM)
	Kernel: 5.15.0-97-generic
	Compiler: gcc gcc (Ubuntu 11.4.0-1ubuntu1~22.04) 11.4.0

Ubuntu 20.04
	Kernel: 5.4.0-167-generic
	Compiler: gcc 9.4.0-1ubuntu1~20.04.1

To view detailed results, visit:
https://lab.dpdk.org/results/dashboard/patchsets/30725/

UNH-IOL DPDK Community Lab

To manage your email subscriptions, visit: 
https://lab.dpdk.org/results/dashboard/preferences/subscriptions/