From mboxrd@z Thu Jan  1 00:00:00 1970
Return-Path: <test-report-bounces@dpdk.org>
Received: from mails.dpdk.org (mails.dpdk.org [217.70.189.124])
	by inbox.dpdk.org (Postfix) with ESMTP id 8067C45760
	for <public@inbox.dpdk.org>; Wed,  7 Aug 2024 21:54:41 +0200 (CEST)
Received: from mails.dpdk.org (localhost [127.0.0.1])
	by mails.dpdk.org (Postfix) with ESMTP id 7CC7F40DFD;
	Wed,  7 Aug 2024 21:54:41 +0200 (CEST)
Received: from mail-yw1-f228.google.com (mail-yw1-f228.google.com
 [209.85.128.228])
 by mails.dpdk.org (Postfix) with ESMTP id DCE37402AE
 for <test-report@dpdk.org>; Wed,  7 Aug 2024 21:54:39 +0200 (CEST)
Received: by mail-yw1-f228.google.com with SMTP id
 00721157ae682-651da7c1531so2217337b3.0
 for <test-report@dpdk.org>; Wed, 07 Aug 2024 12:54:39 -0700 (PDT)
DKIM-Signature: v=1; a=rsa-sha256; c=relaxed/relaxed;
 d=iol.unh.edu; s=unh-iol; t=1723060479; x=1723665279; darn=dpdk.org;
 h=references:in-reply-to:cc:to:from:subject:message-id:date:from:to
 :cc:subject:date:message-id:reply-to;
 bh=9MBtyyEMTcZe6kkDOlzDzAIp5OVfbbfVe5aTr9sjEhQ=;
 b=XKijNkoMeD2ZtlwL4cRVfboGANmdoazdpn+YAEREE1jiX8nmYsnQW8QsAYg9z1eIVO
 zEwv674q+e0Z24JDIbKr5m/plm4Ew+KseVdlOw7tI7TxsEWOPPpk4x8pQM31NY3SYR31
 +LDBGRPmT9LF3cqx9li5BLABjFycY/zbJW87I=
X-Google-DKIM-Signature: v=1; a=rsa-sha256; c=relaxed/relaxed;
 d=1e100.net; s=20230601; t=1723060479; x=1723665279;
 h=references:in-reply-to:cc:to:from:subject:message-id:date
 :x-gm-message-state:from:to:cc:subject:date:message-id:reply-to;
 bh=9MBtyyEMTcZe6kkDOlzDzAIp5OVfbbfVe5aTr9sjEhQ=;
 b=KVsawpksXFRpf7FpawH7RyGjcZb0Kk4Mmu/etayHKJ46EYhonsoBEa19a6rmqCNPBT
 PwdxocSfxIcURu5shJIdeKC8a+yvaIoSieEH1Kqp/IWxKX9LgvZ52aV2wbJ+110CVHMt
 IvEUCu6t4C6fIxRDU2STSD3J+ptosmqcYG9rIod8vHQ4WMN1++N4Lr+GcENTblsfQNTB
 1OkxrViAXGnxnCMxK7qLpl/xEiP9QcxNTg7gs1H1jSiKAGImCkq1zEWB8JdhDk4Nquh7
 y5q74dyoHCJNAzcWfZMrKaan9G3WIjxie47ISctw7SLk7hpkYKM9VFD4gDGZBdxXCvFd
 4PAw==
X-Gm-Message-State: AOJu0Yw5L0zhvc+45cr5OG/79WPnt6TjsP0yLEFY1rbTs0EEuJOnywtF
 tCdz6GM9BhCmu4IrlH/RMKFl7yk+/5waXRIc/82WBfaAKKewvfTZ+S+Rtm1Wvlauo6vYgtJojqo
 9ab2oCT9OUttJSAy3VJJdBgCsBVn2TcsIPViY+Hye
X-Google-Smtp-Source: AGHT+IG176mVVJYow1Z/A52odl6WgPOVM/u+Rsq7LHGiq27pP0eKWglJJ/rSBFr/rkdJBNq+Cysa9SNID7r8
X-Received: by 2002:a81:9c54:0:b0:62f:b04c:2442 with SMTP id
 00721157ae682-6895f9e85f4mr214783297b3.7.1723060479345; 
 Wed, 07 Aug 2024 12:54:39 -0700 (PDT)
Received: from postal.iol.unh.edu (postal.iol.unh.edu. [132.177.123.84])
 by smtp-relay.gmail.com with ESMTPS id
 00721157ae682-68a13b8f707sm11149417b3.42.2024.08.07.12.54.39
 (version=TLS1_2 cipher=ECDHE-ECDSA-AES128-GCM-SHA256 bits=128/128);
 Wed, 07 Aug 2024 12:54:39 -0700 (PDT)
X-Relaying-Domain: iol.unh.edu
Date: Wed, 07 Aug 2024 12:54:39 -0700 (PDT)
Message-ID: <66b3d0ff.810a0220.6bf5d.4437SMTPIN_ADDED_MISSING@mx.google.com>
Received: from [172.21.0.6] (unknown [172.18.0.240])
 by postal.iol.unh.edu (Postfix) with ESMTP id 027A2605C380;
 Wed,  7 Aug 2024 15:54:39 -0400 (EDT)
Subject: |PENDING| pw143003-143004 [PATCH] [v6,2/2] dts: dynamic config test 
From: dpdklab@iol.unh.edu
To: Test Report <test-report@dpdk.org>
Cc: dpdk-test-reports@iol.unh.edu
In-Reply-To: <20240807191818.15978-3-dmarx@iol.unh.edu>
References: <20240807191818.15978-3-dmarx@iol.unh.edu>
Content-Type: text/plain
X-BeenThere: test-report@dpdk.org
X-Mailman-Version: 2.1.29
Precedence: list
List-Id: automatic DPDK test reports <test-report.dpdk.org>
List-Unsubscribe: <https://mails.dpdk.org/options/test-report>,
 <mailto:test-report-request@dpdk.org?subject=unsubscribe>
List-Archive: <http://mails.dpdk.org/archives/test-report/>
List-Post: <mailto:test-report@dpdk.org>
List-Help: <mailto:test-report-request@dpdk.org?subject=help>
List-Subscribe: <https://mails.dpdk.org/listinfo/test-report>,
 <mailto:test-report-request@dpdk.org?subject=subscribe>
Errors-To: test-report-bounces@dpdk.org

Test-Label: iol-abi-testing
Test-Status: PENDING
http://dpdk.org/patch/143004

_Testing pending_

Submitter: Dean Marx <dmarx@iol.unh.edu>
Date: Wednesday, August 07 2024 19:18:18 
DPDK git baseline: Repo:dpdk
  Branch: master
  CommitID:b3485f4293997d35b6daecc3437bb0c183a51fb3

143003-143004 --> testing pending

Upstream job id: Generic-DPDK-Compile-ABI#102015

Test environment and result as below:

+-------------------+----------+
|    Environment    | abi_test |
+===================+==========+
| Debian Bullseye   | PASS     |
+-------------------+----------+
| CentOS Stream 9   | PASS     |
+-------------------+----------+
| Debian 12         | PASS     |
+-------------------+----------+
| Fedora 38 (Clang) | PEND     |
+-------------------+----------+
| Fedora 37         | PASS     |
+-------------------+----------+
| Fedora 39         | PEND     |
+-------------------+----------+
| Fedora 39 (Clang) | PEND     |
+-------------------+----------+
| openSUSE Leap 15  | PEND     |
+-------------------+----------+
| Fedora 40 (Clang) | PEND     |
+-------------------+----------+
| Fedora 38         | PEND     |
+-------------------+----------+
| Fedora 40         | PEND     |
+-------------------+----------+
| Ubuntu 24.04      | PEND     |
+-------------------+----------+
| Ubuntu 22.04      | PEND     |
+-------------------+----------+
| RHEL9             | PEND     |
+-------------------+----------+
| RHEL8             | PEND     |
+-------------------+----------+


Debian Bullseye
	Kernel: 5.4.0-167-generic
	Compiler: gcc 10.2.1-6

CentOS Stream 9
	Kernel: 5.4.0-167-generic
	Compiler: gcc 11.4.1 20230605

Debian 12
	Kernel: Container Host Kernel
	Compiler: gcc 12.2.0

Fedora 38 (Clang)
	Kernel: Depends on container host
	Compiler: clang 16.0.6

Fedora 37
	Kernel: Depends on container host system
	Compiler: gcc 12.3.1

Fedora 39
	Kernel: Depends on container host
	Compiler: gcc 13.2.1

Fedora 39 (Clang)
	Kernel: Depends on container host
	Compiler: clang 17.0.6

openSUSE Leap 15
	Kernel: 5.4.0-167-generic
	Compiler: gcc 7.5.0

Fedora 40 (Clang)
	Kernel: Depends on container host
	Compiler: clang 18.1.6

Fedora 38
	Kernel: Depends on container host
	Compiler: gcc 13.2.1

Fedora 40
	Kernel: Depends on container host
	Compiler: gcc 14.1.1

Ubuntu 24.04
	Kernel: 5.4.0-167-generic
	Compiler: gcc 13.2.0

Ubuntu 22.04
	Kernel: 5.4.0-167-generic
	Compiler: gcc 11.4.0

RHEL9
	Kernel: Depends on container host
	Compiler: gcc 11.4.1

RHEL8
	Kernel: 5.4.0-167-generic
	Compiler: gcc 8.5.0 20210514 (Red Hat 8.5.0-20)

To view detailed results, visit:
https://lab.dpdk.org/results/dashboard/patchsets/30740/

UNH-IOL DPDK Community Lab

To manage your email subscriptions, visit: 
https://lab.dpdk.org/results/dashboard/preferences/subscriptions/