From mboxrd@z Thu Jan  1 00:00:00 1970
Return-Path: <test-report-bounces@dpdk.org>
Received: from mails.dpdk.org (mails.dpdk.org [217.70.189.124])
	by inbox.dpdk.org (Postfix) with ESMTP id 419BB45761
	for <public@inbox.dpdk.org>; Wed,  7 Aug 2024 22:22:51 +0200 (CEST)
Received: from mails.dpdk.org (localhost [127.0.0.1])
	by mails.dpdk.org (Postfix) with ESMTP id 3D73040DFD;
	Wed,  7 Aug 2024 22:22:51 +0200 (CEST)
Received: from mail-pg1-f226.google.com (mail-pg1-f226.google.com
 [209.85.215.226])
 by mails.dpdk.org (Postfix) with ESMTP id EF243402AE
 for <test-report@dpdk.org>; Wed,  7 Aug 2024 22:22:49 +0200 (CEST)
Received: by mail-pg1-f226.google.com with SMTP id
 41be03b00d2f7-7a103ac7be3so176433a12.3
 for <test-report@dpdk.org>; Wed, 07 Aug 2024 13:22:49 -0700 (PDT)
DKIM-Signature: v=1; a=rsa-sha256; c=relaxed/relaxed;
 d=iol.unh.edu; s=unh-iol; t=1723062169; x=1723666969; darn=dpdk.org;
 h=references:in-reply-to:cc:to:from:subject:message-id:date:from:to
 :cc:subject:date:message-id:reply-to;
 bh=j3fKq7xWq+UP4y9rwbzMGQRj5wrAj1XjFxnWMEC0bpY=;
 b=M8+sK1Tsy59p4cnU+VBlv3SLWUERAHanW/d8k4M4Q67K/XnuAXamXrdx/zzJWj3uUo
 RO83n1rq95hJfTERH3IjvckCZJmA+HmhDlk6LVLrMpMcYnABgHpTkU1Vpj0prEA9EDGp
 ooOgV27t2lOGn7zuQS42LS93uHIK3rVPPaCcM=
X-Google-DKIM-Signature: v=1; a=rsa-sha256; c=relaxed/relaxed;
 d=1e100.net; s=20230601; t=1723062169; x=1723666969;
 h=references:in-reply-to:cc:to:from:subject:message-id:date
 :x-gm-message-state:from:to:cc:subject:date:message-id:reply-to;
 bh=j3fKq7xWq+UP4y9rwbzMGQRj5wrAj1XjFxnWMEC0bpY=;
 b=E9Rd7NQD99le2p+RHVwpt/sczQEEjyBSjR/WW6H/eQn78ObOBek/s2foUxm+5Ym5DW
 7BwXDRhTB3XxBGhZZlTE1neVDx7+X7IC7s9YLIHnBVdRPLTyvQ+reqyYjnco9+oyHHED
 X2BH1WkIsHCdvbyfxto2uuAPfudfKkZp9k3hpx6lZ22LUe6LzY02OsYXQot0mixYHBAv
 p8vj7WRasABn9wElUJ+tlLOPMaQypSoup7wD4zAhXU6EA6WsQLSQXVBtcM8SZ0kUhqTb
 DeBqtBhfEThaofTneSkUjtoEXCikNrlmnlf+xV9DUZK6is+j7Soy/W2wX9774BHHIDvA
 COfA==
X-Gm-Message-State: AOJu0YzfgVayCHow5Q3G6IxpFhu5K8CRbPAE6hlNAnnfEn3PvJAYu+e6
 V9uhCMS/ydtUZSiAFTT2r6Qq9QOoI460UKKW1axse4x86sxOTQ2V7IWbhl/pEOI2xIf6XBuYr7N
 EpsMV4fxL5H69HCzQ0/wRwCk9eGQtOE1k5VwPR/hL
X-Google-Smtp-Source: AGHT+IEiNKMWwgkkzTjqRodB/4Auo9VHxG1udlvhZL4jbv4pR7UYEkAzIKv3XXrbJ++3CM/CrXZNop9HAOuq
X-Received: by 2002:a05:6a20:a7a3:b0:1c6:b0cc:c50f with SMTP id
 adf61e73a8af0-1c6b0ccc652mr10200668637.25.1723062169033; 
 Wed, 07 Aug 2024 13:22:49 -0700 (PDT)
Received: from postal.iol.unh.edu (postal.iol.unh.edu. [132.177.123.84])
 by smtp-relay.gmail.com with ESMTPS id
 d2e1a72fcca58-7109d5df360sm720720b3a.17.2024.08.07.13.22.48
 (version=TLS1_2 cipher=ECDHE-ECDSA-AES128-GCM-SHA256 bits=128/128);
 Wed, 07 Aug 2024 13:22:49 -0700 (PDT)
X-Relaying-Domain: iol.unh.edu
Date: Wed, 07 Aug 2024 13:22:49 -0700 (PDT)
Message-ID: <66b3d799.050a0220.2b42fd.4627SMTPIN_ADDED_MISSING@mx.google.com>
Received: from [172.21.0.8] (unknown [172.18.0.240])
 by postal.iol.unh.edu (Postfix) with ESMTP id 147F3605C380;
 Wed,  7 Aug 2024 16:22:48 -0400 (EDT)
Subject: |PENDING| pw143003-143004 [PATCH] [v6,2/2] dts: dynamic config test 
From: dpdklab@iol.unh.edu
To: Test Report <test-report@dpdk.org>
Cc: dpdk-test-reports@iol.unh.edu
In-Reply-To: <20240807191818.15978-3-dmarx@iol.unh.edu>
References: <20240807191818.15978-3-dmarx@iol.unh.edu>
Content-Type: text/plain
X-BeenThere: test-report@dpdk.org
X-Mailman-Version: 2.1.29
Precedence: list
List-Id: automatic DPDK test reports <test-report.dpdk.org>
List-Unsubscribe: <https://mails.dpdk.org/options/test-report>,
 <mailto:test-report-request@dpdk.org?subject=unsubscribe>
List-Archive: <http://mails.dpdk.org/archives/test-report/>
List-Post: <mailto:test-report@dpdk.org>
List-Help: <mailto:test-report-request@dpdk.org?subject=help>
List-Subscribe: <https://mails.dpdk.org/listinfo/test-report>,
 <mailto:test-report-request@dpdk.org?subject=subscribe>
Errors-To: test-report-bounces@dpdk.org

Test-Label: iol-unit-arm64-testing
Test-Status: PENDING
http://dpdk.org/patch/143004

_Testing pending_

Submitter: Dean Marx <dmarx@iol.unh.edu>
Date: Wednesday, August 07 2024 19:18:18 
DPDK git baseline: Repo:dpdk
  Branch: master
  CommitID:b3485f4293997d35b6daecc3437bb0c183a51fb3

143003-143004 --> testing pending

Upstream job id: Generic-Unit-Test-DPDK#249574

Test environment and result as below:

+--------------------------+----------------+
|       Environment        | dpdk_unit_test |
+==========================+================+
| CentOS Stream 9 (ARM)    | PASS           |
+--------------------------+----------------+
| Fedora 37 (ARM)          | PASS           |
+--------------------------+----------------+
| Debian 12 (arm)          | PEND           |
+--------------------------+----------------+
| Debian 11 (Buster) (ARM) | PASS           |
+--------------------------+----------------+
| Fedora 39 (ARM)          | PEND           |
+--------------------------+----------------+
| Fedora 39 (ARM Clang)    | PEND           |
+--------------------------+----------------+
| Fedora 38 (ARM)          | PEND           |
+--------------------------+----------------+
| Fedora 40 (ARM)          | PEND           |
+--------------------------+----------------+
| Fedora 38 (ARM Clang)    | PEND           |
+--------------------------+----------------+
| Fedora 40 (ARM Clang)    | PEND           |
+--------------------------+----------------+
| RHEL9 (ARM)              | PEND           |
+--------------------------+----------------+


CentOS Stream 9 (ARM)
	Kernel: Container Host Kernel
	Compiler: gcc 11.4.1

Fedora 37 (ARM)
	Kernel: Depends on container host
	Compiler: gcc 12.3.1

Debian 12 (arm)
	Kernel: Container Host Kernel
	Compiler: gcc 12.2.0

Debian 11 (Buster) (ARM)
	Kernel: Container Host Kernel
	Compiler: gcc 10.2.1

Fedora 39 (ARM)
	Kernel: Depends on container host
	Compiler: gcc 13.2.1

Fedora 39 (ARM Clang)
	Kernel: Depends on container host
	Compiler: clang 17.0.6

Fedora 38 (ARM)
	Kernel: Depends on container host
	Compiler: gcc 13.2.1

Fedora 40 (ARM)
	Kernel: Depends on container host
	Compiler: gcc 14.1.1

Fedora 38 (ARM Clang)
	Kernel: Depends on container host
	Compiler: clang 16.0.6

Fedora 40 (ARM Clang)
	Kernel: Depends on container host
	Compiler: clang 18.1.6

RHEL9 (ARM)
	Kernel: Depends on container host
	Compiler: gcc 11.4.1

To view detailed results, visit:
https://lab.dpdk.org/results/dashboard/patchsets/30740/

UNH-IOL DPDK Community Lab

To manage your email subscriptions, visit: 
https://lab.dpdk.org/results/dashboard/preferences/subscriptions/