From mboxrd@z Thu Jan  1 00:00:00 1970
Return-Path: <test-report-bounces@dpdk.org>
Received: from mails.dpdk.org (mails.dpdk.org [217.70.189.124])
	by inbox.dpdk.org (Postfix) with ESMTP id AE49445761
	for <public@inbox.dpdk.org>; Wed,  7 Aug 2024 22:34:41 +0200 (CEST)
Received: from mails.dpdk.org (localhost [127.0.0.1])
	by mails.dpdk.org (Postfix) with ESMTP id AAC2640DFD;
	Wed,  7 Aug 2024 22:34:41 +0200 (CEST)
Received: from mail-yw1-f228.google.com (mail-yw1-f228.google.com
 [209.85.128.228])
 by mails.dpdk.org (Postfix) with ESMTP id C2A7B402AE
 for <test-report@dpdk.org>; Wed,  7 Aug 2024 22:34:39 +0200 (CEST)
Received: by mail-yw1-f228.google.com with SMTP id
 00721157ae682-65f7bd30546so2119277b3.1
 for <test-report@dpdk.org>; Wed, 07 Aug 2024 13:34:39 -0700 (PDT)
DKIM-Signature: v=1; a=rsa-sha256; c=relaxed/relaxed;
 d=iol.unh.edu; s=unh-iol; t=1723062879; x=1723667679; darn=dpdk.org;
 h=references:in-reply-to:cc:to:from:subject:message-id:date:from:to
 :cc:subject:date:message-id:reply-to;
 bh=WSrSBYLZtwRGMm2fUCYqOTNNuj85KcLlMbr3F4glytI=;
 b=Ji4kOKJkSMAHoiaAqkiKq80eGUS9VqeCP0uIwBUu5ojJZ6m+vOtmQADJ0Qv6GxjfHU
 Z46qhQu2FAsOD72EwrHAL024V1z8xr6Qgs0lP3y+WUFz/0QRfhNNZKma9ITDcZDVFb44
 bhme81KqjXmaiwMJDTbajinEKVzeocxAe1ZaQ=
X-Google-DKIM-Signature: v=1; a=rsa-sha256; c=relaxed/relaxed;
 d=1e100.net; s=20230601; t=1723062879; x=1723667679;
 h=references:in-reply-to:cc:to:from:subject:message-id:date
 :x-gm-message-state:from:to:cc:subject:date:message-id:reply-to;
 bh=WSrSBYLZtwRGMm2fUCYqOTNNuj85KcLlMbr3F4glytI=;
 b=mcdn2ZCltpEUiCMSq+kCifNgq8bvP9/U2QLeXpyxVxSOYH603caIy85lT0yeaV5bzr
 2D31xilWI1LMPjbe+C0PndZqExHcONxeGk06thaqrzrJ7uaQh3RVUVMBZ2AyGTl0GoRj
 VN+kPCCD+RH4Pi1NYFbZYjkIUe3/e5cjzFgUEp/NsyQc+RlelhRoOC/m0rEa99GmgCt9
 ZdQj1XxEc2bUUoFHSxPWjsjt5V9Va+G+ivJjn6X+D0yr74LdKEhCM0b/tcetDP0Z2xnB
 kvh3gASwZTWn42NmHbB4oVEHaL/aydEO+sspmLm4hL/wrN4ZiQGjwhFrZQB1mqZeaVUL
 CQQg==
X-Gm-Message-State: AOJu0Yy8+NWjztCdEY/nZBxfg52+lbyjliR3yTTnPgjhpW/izxZhZm5H
 gDc2lxV+d8QNXBN5+sJUypfDIAzjc/qWxLhkMb39JcgYf7vVCRdZ/oWnnIfejB6c0GCWN4ElHVo
 o8/C4vFZ83uqqs3HVKg9gMfv5qEqaMdgtj/KYJ1Ir
X-Google-Smtp-Source: AGHT+IH9xcS84Il0fw9V6zqMcwRrYluKthXf2INgt8HnXPv679G13fuaCE4Y+r1atBKe/H54T89O12YmSyVQ
X-Received: by 2002:a0d:fa42:0:b0:615:2fa1:c55d with SMTP id
 00721157ae682-699130cfb4cmr29184007b3.19.1723062879122; 
 Wed, 07 Aug 2024 13:34:39 -0700 (PDT)
Received: from postal.iol.unh.edu (postal.iol.unh.edu. [132.177.123.84])
 by smtp-relay.gmail.com with ESMTPS id
 00721157ae682-68a15e4064asm15028747b3.48.2024.08.07.13.34.39
 (version=TLS1_2 cipher=ECDHE-ECDSA-AES128-GCM-SHA256 bits=128/128);
 Wed, 07 Aug 2024 13:34:39 -0700 (PDT)
X-Relaying-Domain: iol.unh.edu
Date: Wed, 07 Aug 2024 13:34:39 -0700 (PDT)
Message-ID: <66b3da5f.0d0a0220.349283.535cSMTPIN_ADDED_MISSING@mx.google.com>
Received: from [172.21.0.8] (unknown [172.18.0.240])
 by postal.iol.unh.edu (Postfix) with ESMTP id C0FCE605C380;
 Wed,  7 Aug 2024 16:34:38 -0400 (EDT)
Subject: |SUCCESS| pw143003-143004 [PATCH] [v6,2/2] dts: dynamic config test 
From: dpdklab@iol.unh.edu
To: Test Report <test-report@dpdk.org>
Cc: dpdk-test-reports@iol.unh.edu
In-Reply-To: <20240807191818.15978-3-dmarx@iol.unh.edu>
References: <20240807191818.15978-3-dmarx@iol.unh.edu>
Content-Type: text/plain
X-BeenThere: test-report@dpdk.org
X-Mailman-Version: 2.1.29
Precedence: list
List-Id: automatic DPDK test reports <test-report.dpdk.org>
List-Unsubscribe: <https://mails.dpdk.org/options/test-report>,
 <mailto:test-report-request@dpdk.org?subject=unsubscribe>
List-Archive: <http://mails.dpdk.org/archives/test-report/>
List-Post: <mailto:test-report@dpdk.org>
List-Help: <mailto:test-report-request@dpdk.org?subject=help>
List-Subscribe: <https://mails.dpdk.org/listinfo/test-report>,
 <mailto:test-report-request@dpdk.org?subject=subscribe>
Errors-To: test-report-bounces@dpdk.org

Test-Label: iol-abi-testing
Test-Status: SUCCESS
http://dpdk.org/patch/143004

_Testing PASS_

Submitter: Dean Marx <dmarx@iol.unh.edu>
Date: Wednesday, August 07 2024 19:18:18 
DPDK git baseline: Repo:dpdk
  Branch: master
  CommitID:b3485f4293997d35b6daecc3437bb0c183a51fb3

143003-143004 --> testing pass

Upstream job id: Generic-DPDK-Compile-ABI#102021

Test environment and result as below:

+-------------------+----------+
|    Environment    | abi_test |
+===================+==========+
| Debian Bullseye   | PASS     |
+-------------------+----------+
| CentOS Stream 9   | PASS     |
+-------------------+----------+
| Debian 12         | PASS     |
+-------------------+----------+
| Fedora 38 (Clang) | PASS     |
+-------------------+----------+
| Fedora 37         | PASS     |
+-------------------+----------+
| Fedora 39         | PASS     |
+-------------------+----------+
| Fedora 39 (Clang) | PASS     |
+-------------------+----------+
| openSUSE Leap 15  | PASS     |
+-------------------+----------+
| Fedora 40 (Clang) | PASS     |
+-------------------+----------+
| Fedora 38         | PASS     |
+-------------------+----------+
| Fedora 40         | PASS     |
+-------------------+----------+
| Ubuntu 24.04      | PASS     |
+-------------------+----------+
| Ubuntu 22.04      | PASS     |
+-------------------+----------+
| RHEL9             | PASS     |
+-------------------+----------+
| RHEL8             | PASS     |
+-------------------+----------+


Debian Bullseye
	Kernel: 5.4.0-167-generic
	Compiler: gcc 10.2.1-6

CentOS Stream 9
	Kernel: 5.4.0-167-generic
	Compiler: gcc 11.4.1 20230605

Debian 12
	Kernel: Container Host Kernel
	Compiler: gcc 12.2.0

Fedora 38 (Clang)
	Kernel: Depends on container host
	Compiler: clang 16.0.6

Fedora 37
	Kernel: Depends on container host system
	Compiler: gcc 12.3.1

Fedora 39
	Kernel: Depends on container host
	Compiler: gcc 13.2.1

Fedora 39 (Clang)
	Kernel: Depends on container host
	Compiler: clang 17.0.6

openSUSE Leap 15
	Kernel: 5.4.0-167-generic
	Compiler: gcc 7.5.0

Fedora 40 (Clang)
	Kernel: Depends on container host
	Compiler: clang 18.1.6

Fedora 38
	Kernel: Depends on container host
	Compiler: gcc 13.2.1

Fedora 40
	Kernel: Depends on container host
	Compiler: gcc 14.1.1

Ubuntu 24.04
	Kernel: 5.4.0-167-generic
	Compiler: gcc 13.2.0

Ubuntu 22.04
	Kernel: 5.4.0-167-generic
	Compiler: gcc 11.4.0

RHEL9
	Kernel: Depends on container host
	Compiler: gcc 11.4.1

RHEL8
	Kernel: 5.4.0-167-generic
	Compiler: gcc 8.5.0 20210514 (Red Hat 8.5.0-20)

To view detailed results, visit:
https://lab.dpdk.org/results/dashboard/patchsets/30740/

UNH-IOL DPDK Community Lab

To manage your email subscriptions, visit: 
https://lab.dpdk.org/results/dashboard/preferences/subscriptions/