From mboxrd@z Thu Jan  1 00:00:00 1970
Return-Path: <test-report-bounces@dpdk.org>
Received: from mails.dpdk.org (mails.dpdk.org [217.70.189.124])
	by inbox.dpdk.org (Postfix) with ESMTP id 7BCD345761
	for <public@inbox.dpdk.org>; Wed,  7 Aug 2024 23:00:57 +0200 (CEST)
Received: from mails.dpdk.org (localhost [127.0.0.1])
	by mails.dpdk.org (Postfix) with ESMTP id 6145F40E01;
	Wed,  7 Aug 2024 23:00:57 +0200 (CEST)
Received: from mail-io1-f98.google.com (mail-io1-f98.google.com
 [209.85.166.98]) by mails.dpdk.org (Postfix) with ESMTP id B25D840DFD
 for <test-report@dpdk.org>; Wed,  7 Aug 2024 23:00:55 +0200 (CEST)
Received: by mail-io1-f98.google.com with SMTP id
 ca18e2360f4ac-81fad534a04so11971439f.1
 for <test-report@dpdk.org>; Wed, 07 Aug 2024 14:00:55 -0700 (PDT)
DKIM-Signature: v=1; a=rsa-sha256; c=relaxed/relaxed;
 d=iol.unh.edu; s=unh-iol; t=1723064455; x=1723669255; darn=dpdk.org;
 h=references:in-reply-to:cc:to:from:subject:message-id:date:from:to
 :cc:subject:date:message-id:reply-to;
 bh=7/7kW8Nb+Y8MvliNrM2mA3/4v1MK7Xs1fh8jT6qRd28=;
 b=RPyCaglNsDs4QCGuWPeW4Bi86NPfib3D7rytQXIs0K7DwqcAER9GbYxdE4XxocOzk3
 WBoywfKXQDUqEsETYhh5P3F/LnO9yKGOn8iQIyMmXFd6/X9BzZmDSbY5mvXNeDzV+I+p
 mZ/g7NX+DcKt8bbDUPXk7LbwlDvUBuDd1Jc4s=
X-Google-DKIM-Signature: v=1; a=rsa-sha256; c=relaxed/relaxed;
 d=1e100.net; s=20230601; t=1723064455; x=1723669255;
 h=references:in-reply-to:cc:to:from:subject:message-id:date
 :x-gm-message-state:from:to:cc:subject:date:message-id:reply-to;
 bh=7/7kW8Nb+Y8MvliNrM2mA3/4v1MK7Xs1fh8jT6qRd28=;
 b=rVDs9spGilGvlEPdq2NizOHD0usn4NUU2+dCPpp1QYE7HivSFcuhJNwaQCJDnjwyWr
 UcfdfkjutY9Yt1cmUWihla44y1M8n3aW07dzWKzSBXAF6h4udviPQke9d7kSY8Dh6A3W
 /J/g4xQN8+wQPgkFr1hbXjyalqalXmT7fxway0oB3nZJYj0Cd0/eR9m3jyvSGaxA2+I4
 +00V9KTq1cIzUxQj6Ya1moocND6FPk6AK0SXmYyotkJlK4agA15eBu0yJtlDfAExY9C2
 gAvDgqiLpvjRNf/DP4fP5okCUe+bp+05sEDoO96AvgP1CpSbhIRJekETafNsrOAV9NJm
 6+gQ==
X-Gm-Message-State: AOJu0Ywsm9gixHNPJkWLl4Zk/JQE0geL8oQQq0jrXWqH3V/9XFp94lOL
 BOk+tmj+iVJlvGWdzcL/Rp9LuACvDfsLJ1NlvPk+JGyBW5rDEX4qy7nv8r87hRJjehJcLKRsnv1
 TjjaRtZS9i+82X4bIFFkdtKfYta7+fYXKTO3LoVI+
X-Google-Smtp-Source: AGHT+IF9haf5QCvdcf5DNmZ/CeFVchifYaR4T3CtrR6Rum7GYTnbNn4S/IvacRaa8Um6XXzs7vhHbAwCryey
X-Received: by 2002:a05:6602:2c95:b0:805:3d47:19d6 with SMTP id
 ca18e2360f4ac-81fd435c5bfmr2773725039f.6.1723064455026; 
 Wed, 07 Aug 2024 14:00:55 -0700 (PDT)
Received: from postal.iol.unh.edu (postal.iol.unh.edu. [132.177.123.84])
 by smtp-relay.gmail.com with ESMTPS id
 ca18e2360f4ac-81fd4d25c16sm41053839f.9.2024.08.07.14.00.54
 (version=TLS1_2 cipher=ECDHE-ECDSA-AES128-GCM-SHA256 bits=128/128);
 Wed, 07 Aug 2024 14:00:55 -0700 (PDT)
X-Relaying-Domain: iol.unh.edu
Date: Wed, 07 Aug 2024 14:00:55 -0700 (PDT)
Message-ID: <66b3e087.050a0220.3b4a71.ef94SMTPIN_ADDED_MISSING@mx.google.com>
Received: from [172.17.0.3] (unknown [172.18.0.217])
 by postal.iol.unh.edu (Postfix) with ESMTP id 7C451605C380;
 Wed,  7 Aug 2024 17:00:54 -0400 (EDT)
Subject: |SUCCESS| pw143003-143004 [PATCH] [v6,2/2] dts: dynamic config test 
From: dpdklab@iol.unh.edu
To: Test Report <test-report@dpdk.org>
Cc: dpdk-test-reports@iol.unh.edu
In-Reply-To: <20240807191818.15978-3-dmarx@iol.unh.edu>
References: <20240807191818.15978-3-dmarx@iol.unh.edu>
Content-Type: text/plain
X-BeenThere: test-report@dpdk.org
X-Mailman-Version: 2.1.29
Precedence: list
List-Id: automatic DPDK test reports <test-report.dpdk.org>
List-Unsubscribe: <https://mails.dpdk.org/options/test-report>,
 <mailto:test-report-request@dpdk.org?subject=unsubscribe>
List-Archive: <http://mails.dpdk.org/archives/test-report/>
List-Post: <mailto:test-report@dpdk.org>
List-Help: <mailto:test-report-request@dpdk.org?subject=help>
List-Subscribe: <https://mails.dpdk.org/listinfo/test-report>,
 <mailto:test-report-request@dpdk.org?subject=subscribe>
Errors-To: test-report-bounces@dpdk.org

Test-Label: iol-unit-amd64-testing
Test-Status: SUCCESS
http://dpdk.org/patch/143004

_Testing PASS_

Submitter: Dean Marx <dmarx@iol.unh.edu>
Date: Wednesday, August 07 2024 19:18:18 
DPDK git baseline: Repo:dpdk
  Branch: master
  CommitID:b3485f4293997d35b6daecc3437bb0c183a51fb3

143003-143004 --> testing pass

Upstream job id: Generic-Unit-Test-DPDK#249595

Test environment and result as below:

+---------------------+----------------+
|     Environment     | dpdk_unit_test |
+=====================+================+
| Windows Server 2022 | PASS           |
+---------------------+----------------+
| Windows Server 2019 | PASS           |
+---------------------+----------------+
| CentOS Stream 9     | PASS           |
+---------------------+----------------+
| Debian Bullseye     | PASS           |
+---------------------+----------------+
| Debian 12           | PASS           |
+---------------------+----------------+
| Fedora 37           | PASS           |
+---------------------+----------------+
| Fedora 39 (Clang)   | PASS           |
+---------------------+----------------+
| Fedora 38           | PASS           |
+---------------------+----------------+
| Fedora 40           | PASS           |
+---------------------+----------------+
| Fedora 39           | PASS           |
+---------------------+----------------+
| Fedora 38 (Clang)   | PASS           |
+---------------------+----------------+
| openSUSE Leap 15    | PASS           |
+---------------------+----------------+
| RHEL8               | PASS           |
+---------------------+----------------+
| Fedora 40 (Clang)   | PASS           |
+---------------------+----------------+
| RHEL9               | PASS           |
+---------------------+----------------+
| Ubuntu 22.04        | PASS           |
+---------------------+----------------+
| Ubuntu 20.04        | PASS           |
+---------------------+----------------+
| Ubuntu 24.04        | PASS           |
+---------------------+----------------+


Windows Server 2022
	Kernel: 10.0.20348.2031
	Compiler: clang 15.0.7, gcc 8.1.0 (MinGW), and MSVC VS 17.9

Windows Server 2019
	Kernel: 10.0.17763
	Compiler: clang 14.0 and gcc 8.1.0 (MinGW)

CentOS Stream 9
	Kernel: 5.4.0-167-generic
	Compiler: gcc 11.4.1 20230605

Debian Bullseye
	Kernel: 5.4.0-167-generic
	Compiler: gcc 10.2.1-6

Debian 12
	Kernel: Container Host Kernel
	Compiler: gcc 12.2.0

Fedora 37
	Kernel: Depends on container host system
	Compiler: gcc 12.3.1

Fedora 39 (Clang)
	Kernel: Depends on container host
	Compiler: clang 17.0.6

Fedora 38
	Kernel: Depends on container host
	Compiler: gcc 13.2.1

Fedora 40
	Kernel: Depends on container host
	Compiler: gcc 14.1.1

Fedora 39
	Kernel: Depends on container host
	Compiler: gcc 13.2.1

Fedora 38 (Clang)
	Kernel: Depends on container host
	Compiler: clang 16.0.6

openSUSE Leap 15
	Kernel: 5.4.0-167-generic
	Compiler: gcc 7.5.0

RHEL8
	Kernel: 5.4.0-167-generic
	Compiler: gcc 8.5.0 20210514 (Red Hat 8.5.0-20)

Fedora 40 (Clang)
	Kernel: Depends on container host
	Compiler: clang 18.1.6

RHEL9
	Kernel: Depends on container host
	Compiler: gcc 11.4.1

Ubuntu 22.04
	Kernel: 5.4.0-167-generic
	Compiler: gcc 11.4.0

Ubuntu 20.04
	Kernel: 5.4.0-167-generic
	Compiler: gcc 9.4.0-1ubuntu1~20.04.1

Ubuntu 24.04
	Kernel: 5.4.0-167-generic
	Compiler: gcc 13.2.0

To view detailed results, visit:
https://lab.dpdk.org/results/dashboard/patchsets/30740/

UNH-IOL DPDK Community Lab

To manage your email subscriptions, visit: 
https://lab.dpdk.org/results/dashboard/preferences/subscriptions/