From mboxrd@z Thu Jan  1 00:00:00 1970
Return-Path: <test-report-bounces@dpdk.org>
Received: from mails.dpdk.org (mails.dpdk.org [217.70.189.124])
	by inbox.dpdk.org (Postfix) with ESMTP id 1C82845767
	for <public@inbox.dpdk.org>; Thu,  8 Aug 2024 08:27:21 +0200 (CEST)
Received: from mails.dpdk.org (localhost [127.0.0.1])
	by mails.dpdk.org (Postfix) with ESMTP id 11D7F40EDD;
	Thu,  8 Aug 2024 08:27:21 +0200 (CEST)
Received: from mail-pl1-f225.google.com (mail-pl1-f225.google.com
 [209.85.214.225])
 by mails.dpdk.org (Postfix) with ESMTP id F0A6B40A80
 for <test-report@dpdk.org>; Thu,  8 Aug 2024 08:27:14 +0200 (CEST)
Received: by mail-pl1-f225.google.com with SMTP id
 d9443c01a7336-1fd69e44596so4437555ad.1
 for <test-report@dpdk.org>; Wed, 07 Aug 2024 23:27:14 -0700 (PDT)
DKIM-Signature: v=1; a=rsa-sha256; c=relaxed/relaxed;
 d=iol.unh.edu; s=unh-iol; t=1723098434; x=1723703234; darn=dpdk.org;
 h=references:in-reply-to:cc:to:from:subject:message-id:date:from:to
 :cc:subject:date:message-id:reply-to;
 bh=CRt1lu1/C9NvRgH5RHephRfbW2YxQurqsq51lXarhi0=;
 b=Cv6JPPmLWI4VpauLrERssLMEYAcZ4E0ZZHxneoKKrG6Ha36Xst4FEUpF+bh60CHs0n
 wsj0PZJYikJz+ndfB4IxOuEVdaYJk0w4UZJADZdqmhlKWZzOfRC8KojvTdrcu37BCBsb
 Dw2ynOof9YseNww0oFx69vi/hvqNbF87GIxN0=
X-Google-DKIM-Signature: v=1; a=rsa-sha256; c=relaxed/relaxed;
 d=1e100.net; s=20230601; t=1723098434; x=1723703234;
 h=references:in-reply-to:cc:to:from:subject:message-id:date
 :x-gm-message-state:from:to:cc:subject:date:message-id:reply-to;
 bh=CRt1lu1/C9NvRgH5RHephRfbW2YxQurqsq51lXarhi0=;
 b=UDad5ieyVOzMBLNB5Yby0PcWD8RvCSTmE2b5q6LDHypFx+ikdpWO4Vh6vJEqkcIwl5
 kAbUqOGPH1c02QvlGP2xnRY5SVwO9nLEENGFL5aRy2L73VOo4v6HMswPj3x159gSRAtl
 lXs2NBSNqBZUgZcQjNTkBiFRfOmTEBFKcWrrAzUQ/ElD9NqDkHwRWgIWJMCRqzlUhOwT
 yKxySW7RBGAA5h+XTVx8L/MDlxQDeNkZH7ITsdd9NSMINuSjEwWF0DrY50xPQIbAEdBh
 78BMsY+9f18Df2BXf88NmHg9uThlp6dV8daJeKYSRUE+94P4NLUZqJx3YJE9ETCZIpCx
 uldA==
X-Gm-Message-State: AOJu0Yx/r0bRtF+8bLY2iwQcTzPp2ozwHkjEoZCSMcVGfddXnFNN1UYT
 wHLOuGW+cHmbNJ21dUw1RugjMew9YGomJOuxXqnZPpFx5v8dZC6muMT5Hfx7Zad63OZGD7fJRqt
 2eDdi8QY9y4ssn/yfX61V/Un+0bpohs1v8Xeb9jDw
X-Google-Smtp-Source: AGHT+IFAXsFgIe+0A0e9zJm0a4osTGp0KC6XbHU3iTDlTiYKXsmptDcPG4EsmrUstPgXxFwomVPtB5Ul92dv
X-Received: by 2002:a17:902:fc4e:b0:1fc:494b:3ee8 with SMTP id
 d9443c01a7336-20096cf3a80mr8512525ad.11.1723098433907; 
 Wed, 07 Aug 2024 23:27:13 -0700 (PDT)
Received: from postal.iol.unh.edu (postal.iol.unh.edu. [132.177.123.84])
 by smtp-relay.gmail.com with ESMTPS id
 d9443c01a7336-1ff58f5a557sm10179295ad.51.2024.08.07.23.27.13
 (version=TLS1_2 cipher=ECDHE-ECDSA-AES128-GCM-SHA256 bits=128/128);
 Wed, 07 Aug 2024 23:27:13 -0700 (PDT)
X-Relaying-Domain: iol.unh.edu
Date: Wed, 07 Aug 2024 23:27:13 -0700 (PDT)
Message-ID: <66b46541.170a0220.20edf4.353aSMTPIN_ADDED_MISSING@mx.google.com>
Received: from [172.21.0.9] (unknown [172.18.0.240])
 by postal.iol.unh.edu (Postfix) with ESMTP id 1D524605C380;
 Thu,  8 Aug 2024 02:27:13 -0400 (EDT)
Subject: |PENDING| pw143011-143013 [PATCH] [3/3] net/enic: allow multicast in
From: dpdklab@iol.unh.edu
To: Test Report <test-report@dpdk.org>
Cc: dpdk-test-reports@iol.unh.edu
In-Reply-To: <20240808041838.31367-4-hyonkim@cisco.com>
References: <20240808041838.31367-4-hyonkim@cisco.com>
Content-Type: text/plain
X-BeenThere: test-report@dpdk.org
X-Mailman-Version: 2.1.29
Precedence: list
List-Id: automatic DPDK test reports <test-report.dpdk.org>
List-Unsubscribe: <https://mails.dpdk.org/options/test-report>,
 <mailto:test-report-request@dpdk.org?subject=unsubscribe>
List-Archive: <http://mails.dpdk.org/archives/test-report/>
List-Post: <mailto:test-report@dpdk.org>
List-Help: <mailto:test-report-request@dpdk.org?subject=help>
List-Subscribe: <https://mails.dpdk.org/listinfo/test-report>,
 <mailto:test-report-request@dpdk.org?subject=subscribe>
Errors-To: test-report-bounces@dpdk.org

Test-Label: iol-abi-testing
Test-Status: PENDING
http://dpdk.org/patch/143013

_Testing pending_

Submitter: Hyong Youb Kim <hyonkim@cisco.com>
Date: Thursday, August 08 2024 04:18:38 
DPDK git baseline: Repo:dpdk
  Branch: master
  CommitID:2155f1f2054aa06f0b58e9ade9babf1f0a97a410

143011-143013 --> testing pending

Upstream job id: Generic-DPDK-Compile-ABI#102035

Test environment and result as below:

+-------------------+----------+
|    Environment    | abi_test |
+===================+==========+
| CentOS Stream 9   | PASS     |
+-------------------+----------+
| Debian Bullseye   | PASS     |
+-------------------+----------+
| Debian 12         | PASS     |
+-------------------+----------+
| Fedora 37         | PASS     |
+-------------------+----------+
| Fedora 38 (Clang) | PASS     |
+-------------------+----------+
| Fedora 38         | PASS     |
+-------------------+----------+
| Fedora 39 (Clang) | PASS     |
+-------------------+----------+
| Fedora 39         | PEND     |
+-------------------+----------+
| Fedora 40 (Clang) | PASS     |
+-------------------+----------+
| Ubuntu 22.04      | PASS     |
+-------------------+----------+
| openSUSE Leap 15  | PASS     |
+-------------------+----------+
| Fedora 40         | PASS     |
+-------------------+----------+
| RHEL9             | PEND     |
+-------------------+----------+
| RHEL8             | PEND     |
+-------------------+----------+
| Ubuntu 24.04      | PEND     |
+-------------------+----------+


CentOS Stream 9
	Kernel: 5.4.0-167-generic
	Compiler: gcc 11.4.1 20230605

Debian Bullseye
	Kernel: 5.4.0-167-generic
	Compiler: gcc 10.2.1-6

Debian 12
	Kernel: Container Host Kernel
	Compiler: gcc 12.2.0

Fedora 37
	Kernel: Depends on container host system
	Compiler: gcc 12.3.1

Fedora 38 (Clang)
	Kernel: Depends on container host
	Compiler: clang 16.0.6

Fedora 38
	Kernel: Depends on container host
	Compiler: gcc 13.2.1

Fedora 39 (Clang)
	Kernel: Depends on container host
	Compiler: clang 17.0.6

Fedora 39
	Kernel: Depends on container host
	Compiler: gcc 13.2.1

Fedora 40 (Clang)
	Kernel: Depends on container host
	Compiler: clang 18.1.6

Ubuntu 22.04
	Kernel: 5.4.0-167-generic
	Compiler: gcc 11.4.0

openSUSE Leap 15
	Kernel: 5.4.0-167-generic
	Compiler: gcc 7.5.0

Fedora 40
	Kernel: Depends on container host
	Compiler: gcc 14.1.1

RHEL9
	Kernel: Depends on container host
	Compiler: gcc 11.4.1

RHEL8
	Kernel: 5.4.0-167-generic
	Compiler: gcc 8.5.0 20210514 (Red Hat 8.5.0-20)

Ubuntu 24.04
	Kernel: 5.4.0-167-generic
	Compiler: gcc 13.2.0

To view detailed results, visit:
https://lab.dpdk.org/results/dashboard/patchsets/30744/

UNH-IOL DPDK Community Lab

To manage your email subscriptions, visit: 
https://lab.dpdk.org/results/dashboard/preferences/subscriptions/