From mboxrd@z Thu Jan  1 00:00:00 1970
Return-Path: <test-report-bounces@dpdk.org>
Received: from mails.dpdk.org (mails.dpdk.org [217.70.189.124])
	by inbox.dpdk.org (Postfix) with ESMTP id AE15545767
	for <public@inbox.dpdk.org>; Thu,  8 Aug 2024 08:40:44 +0200 (CEST)
Received: from mails.dpdk.org (localhost [127.0.0.1])
	by mails.dpdk.org (Postfix) with ESMTP id 9417B40EDD;
	Thu,  8 Aug 2024 08:40:44 +0200 (CEST)
Received: from mail-pf1-f225.google.com (mail-pf1-f225.google.com
 [209.85.210.225])
 by mails.dpdk.org (Postfix) with ESMTP id 305E040A80
 for <test-report@dpdk.org>; Thu,  8 Aug 2024 08:40:44 +0200 (CEST)
Received: by mail-pf1-f225.google.com with SMTP id
 d2e1a72fcca58-7106cf5771bso560210b3a.2
 for <test-report@dpdk.org>; Wed, 07 Aug 2024 23:40:44 -0700 (PDT)
DKIM-Signature: v=1; a=rsa-sha256; c=relaxed/relaxed;
 d=iol.unh.edu; s=unh-iol; t=1723099243; x=1723704043; darn=dpdk.org;
 h=references:in-reply-to:cc:to:from:subject:message-id:date:from:to
 :cc:subject:date:message-id:reply-to;
 bh=2eiq15mr6rPi87EgQlfCP+HL/Yhzu1cGCpIJU/hSZfk=;
 b=HN1Yp4soJLk1pgB3q/+ejUDqa0Uw43tB6vKey5EZVYr6IMhEn1IcWiyOyF3XlEs2Ck
 WstyGkO2IPlaWZqrPi8nB4zCFsBjhB5AR/m7yaG0GFqAQ0OX03FahEanpn1CxDk942M1
 4RazvtMFOlCswvkhyeQkNNJZauXVKVyN41nII=
X-Google-DKIM-Signature: v=1; a=rsa-sha256; c=relaxed/relaxed;
 d=1e100.net; s=20230601; t=1723099243; x=1723704043;
 h=references:in-reply-to:cc:to:from:subject:message-id:date
 :x-gm-message-state:from:to:cc:subject:date:message-id:reply-to;
 bh=2eiq15mr6rPi87EgQlfCP+HL/Yhzu1cGCpIJU/hSZfk=;
 b=ijAsLFVhPNEh6QfCMMX5aPF7VKtqJ3LTyqpmiIXe6qz7JhJFw0WdTuHC2LJ+ke+t9Q
 DKfntlr2tYkT9B4gw2Umgwl3E3mPEdCvUZ5rvSQcKgp/ix91SCBuwUdE0FOF43i3PQMH
 Xh6soDxcpaJozGXsAubvMWzPFotrNy/z5SpHSjecQR3NpPzEOHtrspTKvknKDVupxaMm
 mz3ihaci2YqIfi8Ao2860t4jteQLIo5S9jT/3QP3cyLhZhyzT0YWXMynv9hod8kMOQG2
 JGT3zwUkO+LkCBEB73QChxtBkIdlR3vd2jUulNdlzRVnn7QvsJueyh/CcqTpM2f15sxT
 FVmw==
X-Gm-Message-State: AOJu0Yw6RdbfdjJH3VjwnJv7Ign1sil/2qlitlUzdZXkfsS7Ec/Z7Ayu
 5WGe6O6PjDSRKFba0r51GtoWQXA2yYrQ2/rqr5en5ScCpxVUaIMkKep+UJdI8UfPR0rCILxE6oP
 xf6X0fd2jMaoF2lA4QxSO3lStRQiCxXc5EHZbuxWZ
X-Google-Smtp-Source: AGHT+IGo4mN5RKeNzzNaQ+PjhZHP6xmh0X0cNvX2IqGH1AObVY+uONa+96VaZk/J9/jRfwJfRMBI9n54OCeE
X-Received: by 2002:a05:6a21:99a1:b0:1c6:ed87:6f0 with SMTP id
 adf61e73a8af0-1c6fcee7bf6mr1191315637.18.1723099243283; 
 Wed, 07 Aug 2024 23:40:43 -0700 (PDT)
Received: from postal.iol.unh.edu (postal.iol.unh.edu. [132.177.123.84])
 by smtp-relay.gmail.com with ESMTPS id
 d9443c01a7336-1ff628601e0sm9732105ad.131.2024.08.07.23.40.43
 (version=TLS1_2 cipher=ECDHE-ECDSA-AES128-GCM-SHA256 bits=128/128);
 Wed, 07 Aug 2024 23:40:43 -0700 (PDT)
X-Relaying-Domain: iol.unh.edu
Date: Wed, 07 Aug 2024 23:40:43 -0700 (PDT)
Message-ID: <66b4686b.170a0220.38f82a.d92dSMTPIN_ADDED_MISSING@mx.google.com>
Received: from [172.21.0.6] (unknown [172.18.0.240])
 by postal.iol.unh.edu (Postfix) with ESMTP id 52DE9605C380;
 Thu,  8 Aug 2024 02:40:42 -0400 (EDT)
Subject: |PENDING| pw143011-143013 [PATCH] [3/3] net/enic: allow multicast in
From: dpdklab@iol.unh.edu
To: Test Report <test-report@dpdk.org>
Cc: dpdk-test-reports@iol.unh.edu
In-Reply-To: <20240808041838.31367-4-hyonkim@cisco.com>
References: <20240808041838.31367-4-hyonkim@cisco.com>
Content-Type: text/plain
X-BeenThere: test-report@dpdk.org
X-Mailman-Version: 2.1.29
Precedence: list
List-Id: automatic DPDK test reports <test-report.dpdk.org>
List-Unsubscribe: <https://mails.dpdk.org/options/test-report>,
 <mailto:test-report-request@dpdk.org?subject=unsubscribe>
List-Archive: <http://mails.dpdk.org/archives/test-report/>
List-Post: <mailto:test-report@dpdk.org>
List-Help: <mailto:test-report-request@dpdk.org?subject=help>
List-Subscribe: <https://mails.dpdk.org/listinfo/test-report>,
 <mailto:test-report-request@dpdk.org?subject=subscribe>
Errors-To: test-report-bounces@dpdk.org

Test-Label: iol-abi-testing
Test-Status: PENDING
http://dpdk.org/patch/143013

_Testing pending_

Submitter: Hyong Youb Kim <hyonkim@cisco.com>
Date: Thursday, August 08 2024 04:18:38 
DPDK git baseline: Repo:dpdk
  Branch: master
  CommitID:2155f1f2054aa06f0b58e9ade9babf1f0a97a410

143011-143013 --> testing pending

Upstream job id: Generic-DPDK-Compile-ABI#102034

Test environment and result as below:

+-------------------+----------+
|    Environment    | abi_test |
+===================+==========+
| CentOS Stream 9   | PASS     |
+-------------------+----------+
| Debian Bullseye   | PASS     |
+-------------------+----------+
| Debian 12         | PASS     |
+-------------------+----------+
| Fedora 37         | PASS     |
+-------------------+----------+
| Fedora 38 (Clang) | PASS     |
+-------------------+----------+
| Fedora 38         | PASS     |
+-------------------+----------+
| Fedora 39 (Clang) | PASS     |
+-------------------+----------+
| Fedora 39         | PASS     |
+-------------------+----------+
| Fedora 40 (Clang) | PASS     |
+-------------------+----------+
| Ubuntu 22.04      | PASS     |
+-------------------+----------+
| openSUSE Leap 15  | PASS     |
+-------------------+----------+
| Fedora 40         | PASS     |
+-------------------+----------+
| RHEL9             | PEND     |
+-------------------+----------+
| RHEL8             | PASS     |
+-------------------+----------+
| Ubuntu 24.04      | PEND     |
+-------------------+----------+


CentOS Stream 9
	Kernel: 5.4.0-167-generic
	Compiler: gcc 11.4.1 20230605

Debian Bullseye
	Kernel: 5.4.0-167-generic
	Compiler: gcc 10.2.1-6

Debian 12
	Kernel: Container Host Kernel
	Compiler: gcc 12.2.0

Fedora 37
	Kernel: Depends on container host system
	Compiler: gcc 12.3.1

Fedora 38 (Clang)
	Kernel: Depends on container host
	Compiler: clang 16.0.6

Fedora 38
	Kernel: Depends on container host
	Compiler: gcc 13.2.1

Fedora 39 (Clang)
	Kernel: Depends on container host
	Compiler: clang 17.0.6

Fedora 39
	Kernel: Depends on container host
	Compiler: gcc 13.2.1

Fedora 40 (Clang)
	Kernel: Depends on container host
	Compiler: clang 18.1.6

Ubuntu 22.04
	Kernel: 5.4.0-167-generic
	Compiler: gcc 11.4.0

openSUSE Leap 15
	Kernel: 5.4.0-167-generic
	Compiler: gcc 7.5.0

Fedora 40
	Kernel: Depends on container host
	Compiler: gcc 14.1.1

RHEL9
	Kernel: Depends on container host
	Compiler: gcc 11.4.1

RHEL8
	Kernel: 5.4.0-167-generic
	Compiler: gcc 8.5.0 20210514 (Red Hat 8.5.0-20)

Ubuntu 24.04
	Kernel: 5.4.0-167-generic
	Compiler: gcc 13.2.0

To view detailed results, visit:
https://lab.dpdk.org/results/dashboard/patchsets/30744/

UNH-IOL DPDK Community Lab

To manage your email subscriptions, visit: 
https://lab.dpdk.org/results/dashboard/preferences/subscriptions/