From mboxrd@z Thu Jan  1 00:00:00 1970
Return-Path: <test-report-bounces@dpdk.org>
Received: from mails.dpdk.org (mails.dpdk.org [217.70.189.124])
	by inbox.dpdk.org (Postfix) with ESMTP id 6C57945767
	for <public@inbox.dpdk.org>; Thu,  8 Aug 2024 08:52:08 +0200 (CEST)
Received: from mails.dpdk.org (localhost [127.0.0.1])
	by mails.dpdk.org (Postfix) with ESMTP id 68C7240A80;
	Thu,  8 Aug 2024 08:52:08 +0200 (CEST)
Received: from mail-il1-f225.google.com (mail-il1-f225.google.com
 [209.85.166.225])
 by mails.dpdk.org (Postfix) with ESMTP id EFEAA40696
 for <test-report@dpdk.org>; Thu,  8 Aug 2024 08:52:06 +0200 (CEST)
Received: by mail-il1-f225.google.com with SMTP id
 e9e14a558f8ab-3737dc4a669so2655585ab.0
 for <test-report@dpdk.org>; Wed, 07 Aug 2024 23:52:06 -0700 (PDT)
DKIM-Signature: v=1; a=rsa-sha256; c=relaxed/relaxed;
 d=iol.unh.edu; s=unh-iol; t=1723099926; x=1723704726; darn=dpdk.org;
 h=references:in-reply-to:cc:to:from:subject:message-id:date:from:to
 :cc:subject:date:message-id:reply-to;
 bh=b55mQOM2y57GXB/gidDgCbOiVEOnvDlpqdc5zIDb+dk=;
 b=Tf5bzYWRQk4sfW4wALX3iqJwKFRZoOuw7WZBYpdX3ZjzFslSfyQVp4V28DtshPeVUN
 /tFmOvMzUxHr1NS6KQ6UJPz8k4USGN3z2dWbUJTRrgWXjVluBRuZfXOwlth5Jgt9fVlk
 UixwgVH4EgsTH5nRARMcY2ctY63jALAa81axM=
X-Google-DKIM-Signature: v=1; a=rsa-sha256; c=relaxed/relaxed;
 d=1e100.net; s=20230601; t=1723099926; x=1723704726;
 h=references:in-reply-to:cc:to:from:subject:message-id:date
 :x-gm-message-state:from:to:cc:subject:date:message-id:reply-to;
 bh=b55mQOM2y57GXB/gidDgCbOiVEOnvDlpqdc5zIDb+dk=;
 b=cPYUdU64HETMueDw1/s0vSH5fXUP+TvyNl4YvP7DTfF2px9GS7sVaKqYkgxeBx/Kbx
 917aVIGJ0b1y4b/VHXjsSH29eVkOfUWtlO6fJRNteM7SD7ZtRsAi7NzXhZdhx1xPpqHg
 rbByEskmDWN8XAJ2uqSuylKpvyDFcVZLzln3DtIIOlhejc3kQe9LXGLlzjrrZKrBnUto
 WownTbHaJEZX0a4NWlr5RG0JUMb9CCR0T0gMNd6y3CD9yBSp6a4A/7gCRcRDiU+3zAaE
 JEOtIhP/umhXaH9jWybHkB+TQ8JWmR8Z29TvwCFRsbNNNf8Y9e7YnLzo5DEtXipOBPad
 pLBw==
X-Gm-Message-State: AOJu0YyKh3wij/dxPAdzpjHj57+9dvUUSbNqF1RqiJ+6CsoSx7h8LJGO
 YH8RcbJ1u+jfmSHsGbkJOcYvaWoMl3n2BzEF6MHqwLthlZJPqMWpFRV39HqxyQbRqlbOsrakJ29
 JmTVXH3G9ZgqBwSpQkDmoo2RQhAVDGGN5iba39ZhrXXNtYue1C1Wo/IWA
X-Google-Smtp-Source: AGHT+IFvl3aw/vSwMymjgJprI5IIwCVjz9QWHSaPsf+w1oW1Vc1eaOCi4HA2D8zv3BeQ/IZQoFZ2RMBw9wEe
X-Received: by 2002:a05:6e02:20cf:b0:39a:13e3:9176 with SMTP id
 e9e14a558f8ab-39b5eca9a81mr12401455ab.15.1723099926266; 
 Wed, 07 Aug 2024 23:52:06 -0700 (PDT)
Received: from postal.iol.unh.edu (postal.iol.unh.edu.
 [2606:4100:3880:1234::84]) by smtp-relay.gmail.com with ESMTPS id
 e9e14a558f8ab-39b4277185fsm7863645ab.52.2024.08.07.23.52.06
 (version=TLS1_2 cipher=ECDHE-ECDSA-AES128-GCM-SHA256 bits=128/128);
 Wed, 07 Aug 2024 23:52:06 -0700 (PDT)
X-Relaying-Domain: iol.unh.edu
Date: Wed, 07 Aug 2024 23:52:06 -0700 (PDT)
Message-ID: <66b46b16.050a0220.2a82c6.75f8SMTPIN_ADDED_MISSING@mx.google.com>
Received: from [172.21.0.7] (unknown [172.18.0.240])
 by postal.iol.unh.edu (Postfix) with ESMTP id BDE99605C380;
 Thu,  8 Aug 2024 02:52:05 -0400 (EDT)
Subject: |SUCCESS| pw143011-143013 [PATCH] [3/3] net/enic: allow multicast in
From: dpdklab@iol.unh.edu
To: Test Report <test-report@dpdk.org>
Cc: dpdk-test-reports@iol.unh.edu
In-Reply-To: <20240808041838.31367-4-hyonkim@cisco.com>
References: <20240808041838.31367-4-hyonkim@cisco.com>
Content-Type: text/plain
X-BeenThere: test-report@dpdk.org
X-Mailman-Version: 2.1.29
Precedence: list
List-Id: automatic DPDK test reports <test-report.dpdk.org>
List-Unsubscribe: <https://mails.dpdk.org/options/test-report>,
 <mailto:test-report-request@dpdk.org?subject=unsubscribe>
List-Archive: <http://mails.dpdk.org/archives/test-report/>
List-Post: <mailto:test-report@dpdk.org>
List-Help: <mailto:test-report-request@dpdk.org?subject=help>
List-Subscribe: <https://mails.dpdk.org/listinfo/test-report>,
 <mailto:test-report-request@dpdk.org?subject=subscribe>
Errors-To: test-report-bounces@dpdk.org

Test-Label: iol-abi-testing
Test-Status: SUCCESS
http://dpdk.org/patch/143013

_Testing PASS_

Submitter: Hyong Youb Kim <hyonkim@cisco.com>
Date: Thursday, August 08 2024 04:18:38 
DPDK git baseline: Repo:dpdk
  Branch: master
  CommitID:2155f1f2054aa06f0b58e9ade9babf1f0a97a410

143011-143013 --> testing pass

Upstream job id: Generic-DPDK-Compile-ABI#102039

Test environment and result as below:

+-------------------+----------+
|    Environment    | abi_test |
+===================+==========+
| CentOS Stream 9   | PASS     |
+-------------------+----------+
| Debian Bullseye   | PASS     |
+-------------------+----------+
| Debian 12         | PASS     |
+-------------------+----------+
| Fedora 37         | PASS     |
+-------------------+----------+
| Fedora 38 (Clang) | PASS     |
+-------------------+----------+
| Fedora 38         | PASS     |
+-------------------+----------+
| Fedora 39 (Clang) | PASS     |
+-------------------+----------+
| Fedora 39         | PASS     |
+-------------------+----------+
| Fedora 40 (Clang) | PASS     |
+-------------------+----------+
| Ubuntu 22.04      | PASS     |
+-------------------+----------+
| openSUSE Leap 15  | PASS     |
+-------------------+----------+
| Fedora 40         | PASS     |
+-------------------+----------+
| RHEL9             | PASS     |
+-------------------+----------+
| RHEL8             | PASS     |
+-------------------+----------+
| Ubuntu 24.04      | PASS     |
+-------------------+----------+


CentOS Stream 9
	Kernel: 5.4.0-167-generic
	Compiler: gcc 11.4.1 20230605

Debian Bullseye
	Kernel: 5.4.0-167-generic
	Compiler: gcc 10.2.1-6

Debian 12
	Kernel: Container Host Kernel
	Compiler: gcc 12.2.0

Fedora 37
	Kernel: Depends on container host system
	Compiler: gcc 12.3.1

Fedora 38 (Clang)
	Kernel: Depends on container host
	Compiler: clang 16.0.6

Fedora 38
	Kernel: Depends on container host
	Compiler: gcc 13.2.1

Fedora 39 (Clang)
	Kernel: Depends on container host
	Compiler: clang 17.0.6

Fedora 39
	Kernel: Depends on container host
	Compiler: gcc 13.2.1

Fedora 40 (Clang)
	Kernel: Depends on container host
	Compiler: clang 18.1.6

Ubuntu 22.04
	Kernel: 5.4.0-167-generic
	Compiler: gcc 11.4.0

openSUSE Leap 15
	Kernel: 5.4.0-167-generic
	Compiler: gcc 7.5.0

Fedora 40
	Kernel: Depends on container host
	Compiler: gcc 14.1.1

RHEL9
	Kernel: Depends on container host
	Compiler: gcc 11.4.1

RHEL8
	Kernel: 5.4.0-167-generic
	Compiler: gcc 8.5.0 20210514 (Red Hat 8.5.0-20)

Ubuntu 24.04
	Kernel: 5.4.0-167-generic
	Compiler: gcc 13.2.0

To view detailed results, visit:
https://lab.dpdk.org/results/dashboard/patchsets/30744/

UNH-IOL DPDK Community Lab

To manage your email subscriptions, visit: 
https://lab.dpdk.org/results/dashboard/preferences/subscriptions/