From mboxrd@z Thu Jan  1 00:00:00 1970
Return-Path: <test-report-bounces@dpdk.org>
Received: from mails.dpdk.org (mails.dpdk.org [217.70.189.124])
	by inbox.dpdk.org (Postfix) with ESMTP id 1423845767
	for <public@inbox.dpdk.org>; Thu,  8 Aug 2024 09:34:24 +0200 (CEST)
Received: from mails.dpdk.org (localhost [127.0.0.1])
	by mails.dpdk.org (Postfix) with ESMTP id 0EE2B40A80;
	Thu,  8 Aug 2024 09:34:24 +0200 (CEST)
Received: from mail-oa1-f99.google.com (mail-oa1-f99.google.com
 [209.85.160.99]) by mails.dpdk.org (Postfix) with ESMTP id 19AB540696
 for <test-report@dpdk.org>; Thu,  8 Aug 2024 09:34:22 +0200 (CEST)
Received: by mail-oa1-f99.google.com with SMTP id
 586e51a60fabf-26b5173e861so70625fac.3
 for <test-report@dpdk.org>; Thu, 08 Aug 2024 00:34:22 -0700 (PDT)
DKIM-Signature: v=1; a=rsa-sha256; c=relaxed/relaxed;
 d=iol.unh.edu; s=unh-iol; t=1723102461; x=1723707261; darn=dpdk.org;
 h=references:in-reply-to:cc:to:from:subject:message-id:date:from:to
 :cc:subject:date:message-id:reply-to;
 bh=DRm+qF8aSh07aJztUgNmoyMV4AZ1kejBBOzLJ4m9E7I=;
 b=RoBdszjtzVPqQpbtFKAV7DsIqTcsp43TSPAveqj4CZWV8cHXiYXYXLvkT0MCOzMyEi
 bPhm5JtM2h0v0yKr29wO8zaVnSnExg6UTLPFBdaAKvqovnxL9rBZ9f8B16c7+4+fy3ur
 zw++ZlB2OwXSTaMhSgtjdDiD/Wh+4/o+krz5Y=
X-Google-DKIM-Signature: v=1; a=rsa-sha256; c=relaxed/relaxed;
 d=1e100.net; s=20230601; t=1723102461; x=1723707261;
 h=references:in-reply-to:cc:to:from:subject:message-id:date
 :x-gm-message-state:from:to:cc:subject:date:message-id:reply-to;
 bh=DRm+qF8aSh07aJztUgNmoyMV4AZ1kejBBOzLJ4m9E7I=;
 b=FUWTMKNa6wRnwzi1AMZLR3On/tT4EB33n0u0ZJ0d5AmqCZJz5LpGvHS/cZS5aGYGPO
 OOSqea/keBecnD8ZAmikhN4wpFetZ5lq3HB6kJqAxntW9la4JpdTrpTp2mgZVlDxCCac
 4ewm0VzqtQFB1nEvtKIqeDNknwc6ufvzWbeZO996aKdAqIyfuiNHpTJ80gD6Ge9NefYg
 v3ejHpbK7Z02H1BGtMq2GykSLJjZUM8ReugxGu4YnMM3loC7WqgdF3vBeSbmhRdWqDpZ
 qT4dD2FzY9rsYyXDDhjrNrp0zfge/Gmu2P4O+o5ytXjKI3CrRUtbLXfHT6NcoDbzYR0z
 DmPw==
X-Gm-Message-State: AOJu0YxdH7ov3PLhMRo0Ag1RB2QQ4PCV3gTf10Py8SqM8+6tkWn4oleF
 sl07K8wEQCZ0JYJLkGkDolT4ox61ybzkh1Zcihxx8vR3aMUjltyar8P6hG9pzE8SDoXN+R1AnbK
 rsQYPrlEp5NQqMwPJCNzt6YkvKk8FYpL2GDTYQ5dp
X-Google-Smtp-Source: AGHT+IFvPkD+Njpzn/Z25X35kL/PDlA9JP+fUmLFlXATzUbeOObSPsn1RRuQ3rZjev/CpPzaaHersN0rCBhR
X-Received: by 2002:a05:6870:f70b:b0:260:f883:95f9 with SMTP id
 586e51a60fabf-2692b81601bmr1263774fac.42.1723102461363; 
 Thu, 08 Aug 2024 00:34:21 -0700 (PDT)
Received: from postal.iol.unh.edu (postal.iol.unh.edu. [132.177.123.84])
 by smtp-relay.gmail.com with ESMTPS id
 586e51a60fabf-2689a2f5b7fsm1078848fac.20.2024.08.08.00.34.21
 (version=TLS1_2 cipher=ECDHE-ECDSA-AES128-GCM-SHA256 bits=128/128);
 Thu, 08 Aug 2024 00:34:21 -0700 (PDT)
X-Relaying-Domain: iol.unh.edu
Date: Thu, 08 Aug 2024 00:34:21 -0700 (PDT)
Message-ID: <66b474fd.050a0220.ba0aa.7b9fSMTPIN_ADDED_MISSING@mx.google.com>
Received: from [172.21.0.6] (unknown [172.18.0.240])
 by postal.iol.unh.edu (Postfix) with ESMTP id D55B6605C380;
 Thu,  8 Aug 2024 03:34:20 -0400 (EDT)
Subject: |PENDING| pw143007-143008 [PATCH] [v13,2/2] dts: VLAN test suite imp
From: dpdklab@iol.unh.edu
To: Test Report <test-report@dpdk.org>
Cc: dpdk-test-reports@iol.unh.edu
In-Reply-To: <20240807194341.26102-3-dmarx@iol.unh.edu>
References: <20240807194341.26102-3-dmarx@iol.unh.edu>
Content-Type: text/plain
X-BeenThere: test-report@dpdk.org
X-Mailman-Version: 2.1.29
Precedence: list
List-Id: automatic DPDK test reports <test-report.dpdk.org>
List-Unsubscribe: <https://mails.dpdk.org/options/test-report>,
 <mailto:test-report-request@dpdk.org?subject=unsubscribe>
List-Archive: <http://mails.dpdk.org/archives/test-report/>
List-Post: <mailto:test-report@dpdk.org>
List-Help: <mailto:test-report-request@dpdk.org?subject=help>
List-Subscribe: <https://mails.dpdk.org/listinfo/test-report>,
 <mailto:test-report-request@dpdk.org?subject=subscribe>
Errors-To: test-report-bounces@dpdk.org

Test-Label: iol-abi-testing
Test-Status: PENDING
http://dpdk.org/patch/143008

_Testing pending_

Submitter: Dean Marx <dmarx@iol.unh.edu>
Date: Wednesday, August 07 2024 19:43:41 
DPDK git baseline: Repo:dpdk
  Branch: master
  CommitID:b3485f4293997d35b6daecc3437bb0c183a51fb3

143007-143008 --> testing pending

Upstream job id: Generic-DPDK-Compile-ABI#102065

Test environment and result as below:

+-------------------+----------+
|    Environment    | abi_test |
+===================+==========+
| CentOS Stream 9   | PASS     |
+-------------------+----------+
| Debian Bullseye   | PASS     |
+-------------------+----------+
| Fedora 38         | PASS     |
+-------------------+----------+
| Fedora 37         | PASS     |
+-------------------+----------+
| Fedora 40 (Clang) | PASS     |
+-------------------+----------+
| Fedora 38 (Clang) | PEND     |
+-------------------+----------+
| Debian 12         | PASS     |
+-------------------+----------+
| Fedora 39 (Clang) | PEND     |
+-------------------+----------+
| Fedora 39         | PEND     |
+-------------------+----------+
| RHEL9             | PEND     |
+-------------------+----------+
| Fedora 40         | PEND     |
+-------------------+----------+
| Ubuntu 24.04      | PEND     |
+-------------------+----------+
| openSUSE Leap 15  | PEND     |
+-------------------+----------+
| RHEL8             | PEND     |
+-------------------+----------+
| Ubuntu 22.04      | PEND     |
+-------------------+----------+


CentOS Stream 9
	Kernel: 5.4.0-167-generic
	Compiler: gcc 11.4.1 20230605

Debian Bullseye
	Kernel: 5.4.0-167-generic
	Compiler: gcc 10.2.1-6

Fedora 38
	Kernel: Depends on container host
	Compiler: gcc 13.2.1

Fedora 37
	Kernel: Depends on container host system
	Compiler: gcc 12.3.1

Fedora 40 (Clang)
	Kernel: Depends on container host
	Compiler: clang 18.1.6

Fedora 38 (Clang)
	Kernel: Depends on container host
	Compiler: clang 16.0.6

Debian 12
	Kernel: Container Host Kernel
	Compiler: gcc 12.2.0

Fedora 39 (Clang)
	Kernel: Depends on container host
	Compiler: clang 17.0.6

Fedora 39
	Kernel: Depends on container host
	Compiler: gcc 13.2.1

RHEL9
	Kernel: Depends on container host
	Compiler: gcc 11.4.1

Fedora 40
	Kernel: Depends on container host
	Compiler: gcc 14.1.1

Ubuntu 24.04
	Kernel: 5.4.0-167-generic
	Compiler: gcc 13.2.0

openSUSE Leap 15
	Kernel: 5.4.0-167-generic
	Compiler: gcc 7.5.0

RHEL8
	Kernel: 5.4.0-167-generic
	Compiler: gcc 8.5.0 20210514 (Red Hat 8.5.0-20)

Ubuntu 22.04
	Kernel: 5.4.0-167-generic
	Compiler: gcc 11.4.0

To view detailed results, visit:
https://lab.dpdk.org/results/dashboard/patchsets/30742/

UNH-IOL DPDK Community Lab

To manage your email subscriptions, visit: 
https://lab.dpdk.org/results/dashboard/preferences/subscriptions/