From mboxrd@z Thu Jan  1 00:00:00 1970
Return-Path: <test-report-bounces@dpdk.org>
Received: from mails.dpdk.org (mails.dpdk.org [217.70.189.124])
	by inbox.dpdk.org (Postfix) with ESMTP id 9C99145767
	for <public@inbox.dpdk.org>; Thu,  8 Aug 2024 09:37:47 +0200 (CEST)
Received: from mails.dpdk.org (localhost [127.0.0.1])
	by mails.dpdk.org (Postfix) with ESMTP id 9892A40A80;
	Thu,  8 Aug 2024 09:37:47 +0200 (CEST)
Received: from mail-qk1-f227.google.com (mail-qk1-f227.google.com
 [209.85.222.227])
 by mails.dpdk.org (Postfix) with ESMTP id 66E3D40696
 for <test-report@dpdk.org>; Thu,  8 Aug 2024 09:37:45 +0200 (CEST)
Received: by mail-qk1-f227.google.com with SMTP id
 af79cd13be357-7a3574acafeso33250585a.1
 for <test-report@dpdk.org>; Thu, 08 Aug 2024 00:37:45 -0700 (PDT)
DKIM-Signature: v=1; a=rsa-sha256; c=relaxed/relaxed;
 d=iol.unh.edu; s=unh-iol; t=1723102665; x=1723707465; darn=dpdk.org;
 h=references:in-reply-to:cc:to:from:subject:message-id:date:from:to
 :cc:subject:date:message-id:reply-to;
 bh=9SrJ/aGCVuThnDJcg4YVNFtCxPEzhzIixriCq28x/oI=;
 b=bJgbJAHAqkrFN/bQPHXpUvMXQlIKr47XvzcgX5jjvOO49NfmG65bDUepP9GtQmzs+0
 7kAWXY0YGgELAjKPv6R0HqFuaBOFuXnQtGsbzP7mdl0DB6m9X7h+SC759S8tcUlXdL9F
 7CtM2O/we7/QWLms14jTlcIXDB07FlU55LoAo=
X-Google-DKIM-Signature: v=1; a=rsa-sha256; c=relaxed/relaxed;
 d=1e100.net; s=20230601; t=1723102665; x=1723707465;
 h=references:in-reply-to:cc:to:from:subject:message-id:date
 :x-gm-message-state:from:to:cc:subject:date:message-id:reply-to;
 bh=9SrJ/aGCVuThnDJcg4YVNFtCxPEzhzIixriCq28x/oI=;
 b=mB/9fjLCJS+njESdY7/2bjm1MzMHtRBln+dgDP13b0alCRSCRiBf49pcgrBoNnram/
 4C8ZC5j7DoL6WmIg4L/aPpbhrfQal2STivKcoNXXmZxG55x2FCg6kLoQVob2v1tgm1HC
 baoAtj31dNAoOMB2NVpNCOmzRwM0q4bU3E25gwmxpPGJsYzluaOMnkb5cqXgTTOtK9FZ
 gR2flnigvyrvwF/j6v6Eu73FQf/lUfystkLNGX8Dw76JTFifFMePCcYG+nWWsGZrBv92
 ndxKtOBPIBzzcGGsf4Sr7KVaJXr3ibAW5Hx1qJYbEfYEl0LW3aw1ocOGgt/Ey58n4nPx
 3p9Q==
X-Gm-Message-State: AOJu0Yzng7HSFRkQnUTQzapIeJOrfhOAAKRl28yjAtG0pM//cjZDlUtX
 jGjl8T82yAOiUqPdGAK95teJmg2zds9e31vI/rLwZUfr20Qo+fS2jI64ALlVq/WTiuSeB+pziq+
 K96yqjOM1kfUQ9Vxz6pMFD5sodNQhv4Hh8d9sFWRp0Jm7hhD2kO70TBtW
X-Google-Smtp-Source: AGHT+IHzHO1K/QWgR333wH6aRPbM0aPUNQ0/ZXjGErKi30WIAsQXPBPs6UqLE5zSNl+l2NZgbTaz4g94i+eu
X-Received: by 2002:a05:620a:17a1:b0:79e:ff41:fd47 with SMTP id
 af79cd13be357-7a3817f4e4emr135231185a.28.1723102664796; 
 Thu, 08 Aug 2024 00:37:44 -0700 (PDT)
Received: from postal.iol.unh.edu (postal.iol.unh.edu.
 [2606:4100:3880:1234::84]) by smtp-relay.gmail.com with ESMTPS id
 d75a77b69052e-451c86d7ea0sm2618141cf.7.2024.08.08.00.37.44
 (version=TLS1_2 cipher=ECDHE-ECDSA-AES128-GCM-SHA256 bits=128/128);
 Thu, 08 Aug 2024 00:37:44 -0700 (PDT)
X-Relaying-Domain: iol.unh.edu
Date: Thu, 08 Aug 2024 00:37:44 -0700 (PDT)
Message-ID: <66b475c8.050a0220.271257.a78bSMTPIN_ADDED_MISSING@mx.google.com>
Received: from [172.21.0.8] (unknown [172.18.0.240])
 by postal.iol.unh.edu (Postfix) with ESMTP id 7E03B605C380;
 Thu,  8 Aug 2024 03:37:44 -0400 (EDT)
Subject: |PENDING| pw143007-143008 [PATCH] [v13,2/2] dts: VLAN test suite imp
From: dpdklab@iol.unh.edu
To: Test Report <test-report@dpdk.org>
Cc: dpdk-test-reports@iol.unh.edu
In-Reply-To: <20240807194341.26102-3-dmarx@iol.unh.edu>
References: <20240807194341.26102-3-dmarx@iol.unh.edu>
Content-Type: text/plain
X-BeenThere: test-report@dpdk.org
X-Mailman-Version: 2.1.29
Precedence: list
List-Id: automatic DPDK test reports <test-report.dpdk.org>
List-Unsubscribe: <https://mails.dpdk.org/options/test-report>,
 <mailto:test-report-request@dpdk.org?subject=unsubscribe>
List-Archive: <http://mails.dpdk.org/archives/test-report/>
List-Post: <mailto:test-report@dpdk.org>
List-Help: <mailto:test-report-request@dpdk.org?subject=help>
List-Subscribe: <https://mails.dpdk.org/listinfo/test-report>,
 <mailto:test-report-request@dpdk.org?subject=subscribe>
Errors-To: test-report-bounces@dpdk.org

Test-Label: iol-abi-testing
Test-Status: PENDING
http://dpdk.org/patch/143008

_Testing pending_

Submitter: Dean Marx <dmarx@iol.unh.edu>
Date: Wednesday, August 07 2024 19:43:41 
DPDK git baseline: Repo:dpdk
  Branch: master
  CommitID:b3485f4293997d35b6daecc3437bb0c183a51fb3

143007-143008 --> testing pending

Upstream job id: Generic-DPDK-Compile-ABI#102061

Test environment and result as below:

+-------------------+----------+
|    Environment    | abi_test |
+===================+==========+
| CentOS Stream 9   | PASS     |
+-------------------+----------+
| Debian Bullseye   | PASS     |
+-------------------+----------+
| Fedora 38         | PASS     |
+-------------------+----------+
| Fedora 37         | PASS     |
+-------------------+----------+
| Fedora 40 (Clang) | PASS     |
+-------------------+----------+
| Fedora 38 (Clang) | PASS     |
+-------------------+----------+
| Debian 12         | PASS     |
+-------------------+----------+
| Fedora 39 (Clang) | PASS     |
+-------------------+----------+
| Fedora 39         | PEND     |
+-------------------+----------+
| RHEL9             | PEND     |
+-------------------+----------+
| Fedora 40         | PEND     |
+-------------------+----------+
| Ubuntu 24.04      | PEND     |
+-------------------+----------+
| openSUSE Leap 15  | PEND     |
+-------------------+----------+
| RHEL8             | PEND     |
+-------------------+----------+
| Ubuntu 22.04      | PEND     |
+-------------------+----------+


CentOS Stream 9
	Kernel: 5.4.0-167-generic
	Compiler: gcc 11.4.1 20230605

Debian Bullseye
	Kernel: 5.4.0-167-generic
	Compiler: gcc 10.2.1-6

Fedora 38
	Kernel: Depends on container host
	Compiler: gcc 13.2.1

Fedora 37
	Kernel: Depends on container host system
	Compiler: gcc 12.3.1

Fedora 40 (Clang)
	Kernel: Depends on container host
	Compiler: clang 18.1.6

Fedora 38 (Clang)
	Kernel: Depends on container host
	Compiler: clang 16.0.6

Debian 12
	Kernel: Container Host Kernel
	Compiler: gcc 12.2.0

Fedora 39 (Clang)
	Kernel: Depends on container host
	Compiler: clang 17.0.6

Fedora 39
	Kernel: Depends on container host
	Compiler: gcc 13.2.1

RHEL9
	Kernel: Depends on container host
	Compiler: gcc 11.4.1

Fedora 40
	Kernel: Depends on container host
	Compiler: gcc 14.1.1

Ubuntu 24.04
	Kernel: 5.4.0-167-generic
	Compiler: gcc 13.2.0

openSUSE Leap 15
	Kernel: 5.4.0-167-generic
	Compiler: gcc 7.5.0

RHEL8
	Kernel: 5.4.0-167-generic
	Compiler: gcc 8.5.0 20210514 (Red Hat 8.5.0-20)

Ubuntu 22.04
	Kernel: 5.4.0-167-generic
	Compiler: gcc 11.4.0

To view detailed results, visit:
https://lab.dpdk.org/results/dashboard/patchsets/30742/

UNH-IOL DPDK Community Lab

To manage your email subscriptions, visit: 
https://lab.dpdk.org/results/dashboard/preferences/subscriptions/