From mboxrd@z Thu Jan  1 00:00:00 1970
Return-Path: <test-report-bounces@dpdk.org>
Received: from mails.dpdk.org (mails.dpdk.org [217.70.189.124])
	by inbox.dpdk.org (Postfix) with ESMTP id 6229C45767
	for <public@inbox.dpdk.org>; Thu,  8 Aug 2024 09:40:05 +0200 (CEST)
Received: from mails.dpdk.org (localhost [127.0.0.1])
	by mails.dpdk.org (Postfix) with ESMTP id 5DC4640A80;
	Thu,  8 Aug 2024 09:40:05 +0200 (CEST)
Received: from mail-pg1-f227.google.com (mail-pg1-f227.google.com
 [209.85.215.227])
 by mails.dpdk.org (Postfix) with ESMTP id 9B89340696
 for <test-report@dpdk.org>; Thu,  8 Aug 2024 09:40:03 +0200 (CEST)
Received: by mail-pg1-f227.google.com with SMTP id
 41be03b00d2f7-7a264a24ea7so505413a12.3
 for <test-report@dpdk.org>; Thu, 08 Aug 2024 00:40:03 -0700 (PDT)
DKIM-Signature: v=1; a=rsa-sha256; c=relaxed/relaxed;
 d=iol.unh.edu; s=unh-iol; t=1723102803; x=1723707603; darn=dpdk.org;
 h=references:in-reply-to:cc:to:from:subject:message-id:date:from:to
 :cc:subject:date:message-id:reply-to;
 bh=R0Ylc+t+LhQhkr+CW0FHZH7FtlYIxZExG+CzxiBkTW0=;
 b=Bhwz/2Ri/b5BNz+C3gJRpIr347h7B62J1Lf11Rz2PJIQjOqL51NGoeQt0QkKVqD9yg
 yuPU0uXRFaF0AoTQvp8fZsKLzoOX2r2hmoRSW8uIDu8mJWsbwuj5H/GMLxWBRjCnne86
 vf9+hiCsY5ICN/hXrNXSVdkYGu7xKUiEnrEa0=
X-Google-DKIM-Signature: v=1; a=rsa-sha256; c=relaxed/relaxed;
 d=1e100.net; s=20230601; t=1723102803; x=1723707603;
 h=references:in-reply-to:cc:to:from:subject:message-id:date
 :x-gm-message-state:from:to:cc:subject:date:message-id:reply-to;
 bh=R0Ylc+t+LhQhkr+CW0FHZH7FtlYIxZExG+CzxiBkTW0=;
 b=ld0e/XU3OyTnXsp38ObH2HEGF1NRfjd9VfH8Jvol8Tub1ol+CaG8eaKLiA+/bf+U5W
 77DqLpb1ig71LXLkJYFUBbhKATTmHhbC7n6RFIjQItLtNUpWdqIM2nsMnpgYiMXo6UER
 1OTcfvnMJaH3kidujdqoP2W0uOLzaZa2TuTsPiIAG4QDlakc0t1HtWoxTMdYBMhAb2a2
 j7AsoDmREvlVbs/P4aegWvgvYL+2vCZHifZ6lVfm0+u/iyWPNlJwrqafXmwe4KViNzV+
 8skAbMMBTX0j3+KpQDwGUC7nHNPsjfEloZWFQKe3kmNolOufKJNHGRnx6pkPYVPCpTZD
 XOCQ==
X-Gm-Message-State: AOJu0YxR4ho5Ad52Qa2D9Sapm0W6p2Z/F5KAaEfhC2m/F6zcIAeosmID
 7yzRCJ6j5si46fY7dyjPsnx9Z93veuDX171Ye7BTJNEtXHgyWWtgWszZ1betc7cBXlLegMS3qdQ
 CM4mE0zDeM4mp2UTLTdzGBXM6kTO13ZGGIWzHISt0
X-Google-Smtp-Source: AGHT+IG4a4Y5iJtI8IpEqNZIVRuD4Rc1EZyGUoXSWE9YHV86jXhzHvlUoUX9jMlynByeN7kJlLohdZc9qPZa
X-Received: by 2002:a17:90a:5a86:b0:2cf:fe5d:ea12 with SMTP id
 98e67ed59e1d1-2d1c33d4a91mr1493745a91.24.1723102802822; 
 Thu, 08 Aug 2024 00:40:02 -0700 (PDT)
Received: from postal.iol.unh.edu (postal.iol.unh.edu. [132.177.123.84])
 by smtp-relay.gmail.com with ESMTPS id
 98e67ed59e1d1-2d1c9dc4ca1sm20116a91.17.2024.08.08.00.40.02
 (version=TLS1_2 cipher=ECDHE-ECDSA-AES128-GCM-SHA256 bits=128/128);
 Thu, 08 Aug 2024 00:40:02 -0700 (PDT)
X-Relaying-Domain: iol.unh.edu
Date: Thu, 08 Aug 2024 00:40:02 -0700 (PDT)
Message-ID: <66b47652.170a0220.26eb0e.175bSMTPIN_ADDED_MISSING@mx.google.com>
Received: from [172.21.0.7] (unknown [172.18.0.240])
 by postal.iol.unh.edu (Postfix) with ESMTP id 07FDC605C380;
 Thu,  8 Aug 2024 03:40:02 -0400 (EDT)
Subject: |PENDING| pw143009-143010 [PATCH] [v3,2/2] common/mlx5: reduce HCA a
From: dpdklab@iol.unh.edu
To: Test Report <test-report@dpdk.org>
Cc: dpdk-test-reports@iol.unh.edu
In-Reply-To: <20240807204406.700332-3-igootorov@gmail.com>
References: <20240807204406.700332-3-igootorov@gmail.com>
Content-Type: text/plain
X-BeenThere: test-report@dpdk.org
X-Mailman-Version: 2.1.29
Precedence: list
List-Id: automatic DPDK test reports <test-report.dpdk.org>
List-Unsubscribe: <https://mails.dpdk.org/options/test-report>,
 <mailto:test-report-request@dpdk.org?subject=unsubscribe>
List-Archive: <http://mails.dpdk.org/archives/test-report/>
List-Post: <mailto:test-report@dpdk.org>
List-Help: <mailto:test-report-request@dpdk.org?subject=help>
List-Subscribe: <https://mails.dpdk.org/listinfo/test-report>,
 <mailto:test-report-request@dpdk.org?subject=subscribe>
Errors-To: test-report-bounces@dpdk.org

Test-Label: iol-compile-amd64-testing
Test-Status: PENDING
http://dpdk.org/patch/143010

_Testing pending_

Submitter: Igor Gutorov <igootorov@gmail.com>
Date: Wednesday, August 07 2024 20:44:06 
DPDK git baseline: Repo:dpdk
  Branch: master
  CommitID:82c47f005b9a0a1e3a649664b7713443d18abe43

143009-143010 --> testing pending

Upstream job id: Windows-Compile-DPDK-Meson#24165

Test environment and result as below:

+---------------------+--------------------+----------------------+-------------------+
|     Environment     | dpdk_meson_compile | dpdk_mingw64_compile | dpdk_msvc_compile |
+=====================+====================+======================+===================+
| Windows Server 2019 | PASS               | PASS                 | SKIPPED           |
+---------------------+--------------------+----------------------+-------------------+
| Windows Server 2022 | PASS               | PASS                 | PASS              |
+---------------------+--------------------+----------------------+-------------------+
| FreeBSD 13.3        | PASS               | SKIPPED              | SKIPPED           |
+---------------------+--------------------+----------------------+-------------------+
| FreeBSD 14.1        | PEND               | SKIPPED              | SKIPPED           |
+---------------------+--------------------+----------------------+-------------------+


Windows Server 2019
	Kernel: 10.0.17763
	Compiler: clang 14.0 and gcc 8.1.0 (MinGW)

Windows Server 2022
	Kernel: 10.0.20348.2031
	Compiler: clang 15.0.7, gcc 8.1.0 (MinGW), and MSVC VS 17.9

FreeBSD 13.3
	Kernel: 13.3-RELEASE-p1
	Compiler: clang 17.0.6

FreeBSD 14.1
	Kernel: 14.1
	Compiler: clang 18.1.5

To view detailed results, visit:
https://lab.dpdk.org/results/dashboard/patchsets/30743/

UNH-IOL DPDK Community Lab

To manage your email subscriptions, visit: 
https://lab.dpdk.org/results/dashboard/preferences/subscriptions/